Workbook
Name nilai: 'Nilai Tahriri'!$B$2:$AA$27

Sheet Identitas
C2: NAMA WALI KELAS
C4: KELAS
C6: SEMESTER
C8: TAHUN PELAJARAN
C10: TANGGAL HIJRIYAH
C12: TANGGAL MILADIYAH

Sheet Biodata
C1: IDENTITAS RAPOT
B4: =CONCATENATE(F4," ",E4," ",C4) -> الصف : الثالث د للبنات | C4: الثالث د للبنات | E4: : | F4: الصف | G4: 1
F5: ( Kelas )
B7: =CONCATENATE(F7," ",E7," ",C7) -> الفصل الدراسي : الأول | C7: الأول | E7: : | F7: الفصل الدراسي | G7: 2
F8: ( Semester )
B10: =CONCATENATE(F10," : ") -> العام الدراسي : | C10: ٢٠٢٥ - ٢٠٢٦ | E10: : | F10: العام الدراسي | G10: 3
B11: =CONCATENATE(C10," ","م") -> ٢٠٢٥ - ٢٠٢٦ م | C11: ١٤٤٦ - ١٤٤٧ | F11: ( Tahun Pelajaran )
B12: =CONCATENATE(C11," ","ه") -> ١٤٤٦ - ١٤٤٧ ه
C13: ١٦ من رجب سنة ١٤٤٧ ه | E13: : | F13: تحريرا بسـيرانج في | G13: 4
C14: ٠٥ من يناير سنة ٢٠٢٦ م | F14: ( Tanggal Rapot )
C16: الأستاذ أحمد مهيمن الماجستير | E16: : | F16: مدير المدرسة | G16: 5
F17: ( Nama Kepala Sekolah )
E19: : | F19: ولي الفصل | G19: 6
F20: ( Nama Wali Kelas )

Sheet Data Siswa
A1: No | B1: Nama | C1: No Exam | D1: Nama Arab
A2: 1 | B2: AMELLIA | C2: 761
A3: 2 | B3: AMIROTUL HUSNAH | C3: 762
A4: 3 | B4: ARINATUL ADILLAH | C4: 763
A5: 4 | B5: AYU NAPIAH SAFITRI | C5: 764
A6: 5 | B6: CECILIA NUR RAISA | C6: 765
A7: 6 | B7: DIAH KUSUMAH NINGRUM | C7: 766
A8: 7 | B8: FERA TRI ANJELITA | C8: 767
A9: 8 | B9: INDANA JULFA | C9: 768
A10: 9 | B10: KAAMILIYYA KHAIRUN NISA | C10: 769
A11: 10 | B11: KESYA MAULIDA | C11: 770
A12: 11 | B12: KEYLA KHADAFI | C12: 771
A13: 12 | B13: KEYSHA QUEENA SINTA ALNAYRA | C13: 772
... A23: 22 | B23: ZALFA ELIZA RAMADANI | C23: 782
A24: 23
A25: 24
A26: 25
A27: 26
A28: 27
A29: 28
A30: 29
A31: 30
A32: 31
A33: 32
A34: 33
A35: 34
... A41: 40

Sheet Nilai Tahriri
A1: No | B1: Nama | C1: No Ujian | D1: التفسير | E1: الحديث | F1: الفقه | G1: اصول الفقه | H1: الديانة | I1: التاريخ الإسلام | J1: التعبير التحريري | K1: تمرين اللغة | L1: المطالعة | M1: النصوص الأدبية | N1: النحو | O1: الصرف | P1: الإملاء | Q1: الخط | R1: روح المعهد | S1: الخطابة | T1: B. Inggris | U1: B. Indonesia | V1: Matematika | W1: IPA | X1: IPS | Y1: PPKN | Z1: Komputer | AA1: Jumlah Nilai | AB1: Nilai Rata2
A2: ='Data Siswa'!A2 -> 1 | B2: ='Data Siswa'!B2 -> AMELLIA | C2: ='Data Siswa'!C2 -> 761 | AA2: =SUM(D2:S2) -> 0 | AB2: =AVERAGE(D2:S2) -> #DIV/0!
A3: ='Data Siswa'!A3 -> 2 | B3: ='Data Siswa'!B3 -> AMIROTUL HUSNAH | C3: ='Data Siswa'!C3 -> 762 | AA3: =SUM(D3:S3) -> 0 | AB3: =AVERAGE(D3:S3) -> #DIV/0!
A4: ='Data Siswa'!A4 -> 3 | B4: ='Data Siswa'!B4 -> ARINATUL ADILLAH | C4: ='Data Siswa'!C4 -> 763 | AA4: =SUM(D4:S4) -> 0 | AB4: =AVERAGE(D4:S4) -> #DIV/0!
A5: ='Data Siswa'!A5 -> 4 | B5: ='Data Siswa'!B5 -> AYU NAPIAH SAFITRI | C5: ='Data Siswa'!C5 -> 764 | AA5: =SUM(D5:S5) -> 0 | AB5: =AVERAGE(D5:S5) -> #DIV/0!
A6: ='Data Siswa'!A6 -> 5 | B6: ='Data Siswa'!B6 -> CECILIA NUR RAISA | C6: ='Data Siswa'!C6 -> 765 | AA6: =SUM(D6:S6) -> 0 | AB6: =AVERAGE(D6:S6) -> #DIV/0!
A7: ='Data Siswa'!A7 -> 6 | B7: ='Data Siswa'!B7 -> DIAH KUSUMAH NINGRUM | C7: ='Data Siswa'!C7 -> 766 | AA7: =SUM(D7:S7) -> 0 | AB7: =AVERAGE(D7:S7) -> #DIV/0!
A8: ='Data Siswa'!A8 -> 7 | B8: ='Data Siswa'!B8 -> FERA TRI ANJELITA | C8: ='Data Siswa'!C8 -> 767 | AA8: =SUM(D8:S8) -> 0 | AB8: =AVERAGE(D8:S8) -> #DIV/0!
A9: ='Data Siswa'!A9 -> 8 | B9: ='Data Siswa'!B9 -> INDANA JULFA | C9: ='Data Siswa'!C9 -> 768 | AA9: =SUM(D9:S9) -> 0 | AB9: =AVERAGE(D9:S9) -> #DIV/0!
A10: ='Data Siswa'!A10 -> 9 | B10: ='Data Siswa'!B10 -> KAAMILIYYA KHAIRUN NISA | C10: ='Data Siswa'!C10 -> 769 | AA10: =SUM(D10:S10) -> 0 | AB10: =AVERAGE(D10:S10) -> #DIV/0!
A11: ='Data Siswa'!A11 -> 10 | B11: ='Data Siswa'!B11 -> KESYA MAULIDA | C11: ='Data Siswa'!C11 -> 770 | AA11: =SUM(D11:S11) -> 0 | AB11: =AVERAGE(D11:S11) -> #DIV/0!
A12: ='Data Siswa'!A12 -> 11 | B12: ='Data Siswa'!B12 -> KEYLA KHADAFI | C12: ='Data Siswa'!C12 -> 771 | AA12: =SUM(D12:S12) -> 0 | AB12: =AVERAGE(D12:S12) -> #DIV/0!
A13: ='Data Siswa'!A13 -> 12 | B13: ='Data Siswa'!B13 -> KEYSHA QUEENA SINTA ALNAYRA | C13: ='Data Siswa'!C13 -> 772 | AA13: =SUM(D13:S13) -> 0 | AB13: =AVERAGE(D13:S13) -> #DIV/0!
... A41: ='Data Siswa'!A41 -> 40 | B41: ='Data Siswa'!B41 -> 0 | C41: ='Data Siswa'!C41 -> 0 | AA41: =SUM(D41:S41) -> 0 | AB41: =AVERAGE(D41:S41) -> #DIV/0!

Sheet Nilai Syafahi
A1: Biodata | D1: Nilai Ujian Syafahi | V1: Nilai Keseluruhan | Y1: Keterangan
A2: No | B2: Nama Lengkap | C2: No Ujian | D2: اللغة العربية | J2: اللغة الانجليزية | N2: المواد الفقهية | S2: الجملة | T2: Rata-Rata | V2: التقدير العام | W2: Rata-Rata | X2: مستوي التفوق | Y2: الملاحظة
D3: الانشاء | E3: النحو | F3: الصرف | G3: المطالعة | H3: النصوص الأدبية | I3: المحادثة العربية | J3: Conversation | K3: Grammar | L3: Reading | M3: Vocabularies | N3: قراءة القرآن | O3: التجويد | P3: حفظ القرآن | Q3: الفقه | R3: الأدعيه اليومية
A4: ='Data Siswa'!A2 -> 1 | B4: ='Data Siswa'!B2 -> AMELLIA | C4: ='Data Siswa'!C2 -> 761 | S4: =SUM(D4:R4) -> 0 | T4: =AVERAGE(D4:R4) -> #DIV/0! | V4: =SUM(D4:R4,'Nilai Tahriri'!D2:Z2) -> 0 | W4: =AVERAGE(D4:R4,'Nilai Tahriri'!D2:Z2) -> #DIV/0! | X4: {=SUM(IF(V4<OFFSET($V$4,0,0,COUNT(V:V),1),1/COUNTIF(OFFSET($V$4,0,0,COUNT(V:V),1),OFFSET($V$4,0,0,COUNT(V:V),1))))+1} -> 1 | Y4: -
A5: ='Data Siswa'!A3 -> 2 | B5: ='Data Siswa'!B3 -> AMIROTUL HUSNAH | C5: ='Data Siswa'!C3 -> 762 | S5: =SUM(D5:R5) -> 0 | T5: =AVERAGE(D5:R5) -> #DIV/0! | V5: =SUM(D5:R5,'Nilai Tahriri'!D3:Z3) -> 0 | W5: =AVERAGE(D5:R5,'Nilai Tahriri'!D3:Z3) -> #DIV/0! | X5: {=SUM(IF(V5<OFFSET($V$4,0,0,COUNT(V:V),1),1/COUNTIF(OFFSET($V$4,0,0,COUNT(V:V),1),OFFSET($V$4,0,0,COUNT(V:V),1))))+1} -> 1 | Y5: -
A6: ='Data Siswa'!A4 -> 3 | B6: ='Data Siswa'!B4 -> ARINATUL ADILLAH | C6: ='Data Siswa'!C4 -> 763 | S6: =SUM(D6:R6) -> 0 | T6: =AVERAGE(D6:R6) -> #DIV/0! | V6: =SUM(D6:R6,'Nilai Tahriri'!D4:Z4) -> 0 | W6: =AVERAGE(D6:R6,'Nilai Tahriri'!D4:Z4) -> #DIV/0! | X6: {=SUM(IF(V6<OFFSET($V$4,0,0,COUNT(V:V),1),1/COUNTIF(OFFSET($V$4,0,0,COUNT(V:V),1),OFFSET($V$4,0,0,COUNT(V:V),1))))+1} -> 1 | Y6: -
A7: ='Data Siswa'!A5 -> 4 | B7: ='Data Siswa'!B5 -> AYU NAPIAH SAFITRI | C7: ='Data Siswa'!C5 -> 764 | S7: =SUM(D7:R7) -> 0 | T7: =AVERAGE(D7:R7) -> #DIV/0! | V7: =SUM(D7:R7,'Nilai Tahriri'!D5:Z5) -> 0 | W7: =AVERAGE(D7:R7,'Nilai Tahriri'!D5:Z5) -> #DIV/0! | X7: {=SUM(IF(V7<OFFSET($V$4,0,0,COUNT(V:V),1),1/COUNTIF(OFFSET($V$4,0,0,COUNT(V:V),1),OFFSET($V$4,0,0,COUNT(V:V),1))))+1} -> 1 | Y7: -
A8: ='Data Siswa'!A6 -> 5 | B8: ='Data Siswa'!B6 -> CECILIA NUR RAISA | C8: ='Data Siswa'!C6 -> 765 | S8: =SUM(D8:R8) -> 0 | T8: =AVERAGE(D8:R8) -> #DIV/0! | V8: =SUM(D8:R8,'Nilai Tahriri'!D6:Z6) -> 0 | W8: =AVERAGE(D8:R8,'Nilai Tahriri'!D6:Z6) -> #DIV/0! | X8: {=SUM(IF(V8<OFFSET($V$4,0,0,COUNT(V:V),1),1/COUNTIF(OFFSET($V$4,0,0,COUNT(V:V),1),OFFSET($V$4,0,0,COUNT(V:V),1))))+1} -> 1 | Y8: -
A9: ='Data Siswa'!A7 -> 6 | B9: ='Data Siswa'!B7 -> DIAH KUSUMAH NINGRUM | C9: ='Data Siswa'!C7 -> 766 | S9: =SUM(D9:R9) -> 0 | T9: =AVERAGE(D9:R9) -> #DIV/0! | V9: =SUM(D9:R9,'Nilai Tahriri'!D7:Z7) -> 0 | W9: =AVERAGE(D9:R9,'Nilai Tahriri'!D7:Z7) -> #DIV/0! | X9: {=SUM(IF(V9<OFFSET($V$4,0,0,COUNT(V:V),1),1/COUNTIF(OFFSET($V$4,0,0,COUNT(V:V),1),OFFSET($V$4,0,0,COUNT(V:V),1))))+1} -> 1 | Y9: -
A10: ='Data Siswa'!A8 -> 7 | B10: ='Data Siswa'!B8 -> FERA TRI ANJELITA | C10: ='Data Siswa'!C8 -> 767 | S10: =SUM(D10:R10) -> 0 | T10: =AVERAGE(D10:R10) -> #DIV/0! | V10: =SUM(D10:R10,'Nilai Tahriri'!D8:Z8) -> 0 | W10: =AVERAGE(D10:R10,'Nilai Tahriri'!D8:Z8) -> #DIV/0! | X10: {=SUM(IF(V10<OFFSET($V$4,0,0,COUNT(V:V),1),1/COUNTIF(OFFSET($V$4,0,0,COUNT(V:V),1),OFFSET($V$4,0,0,COUNT(V:V),1))))+1} -> 1 | Y10: -
A11: ='Data Siswa'!A9 -> 8 | B11: ='Data Siswa'!B9 -> INDANA JULFA | C11: ='Data Siswa'!C9 -> 768 | S11: =SUM(D11:R11) -> 0 | T11: =AVERAGE(D11:R11) -> #DIV/0! | V11: =SUM(D11:R11,'Nilai Tahriri'!D9:Z9) -> 0 | W11: =AVERAGE(D11:R11,'Nilai Tahriri'!D9:Z9) -> #DIV/0! | X11: {=SUM(IF(V11<OFFSET($V$4,0,0,COUNT(V:V),1),1/COUNTIF(OFFSET($V$4,0,0,COUNT(V:V),1),OFFSET($V$4,0,0,COUNT(V:V),1))))+1} -> 1 | Y11: -
A12: ='Data Siswa'!A10 -> 9 | B12: ='Data Siswa'!B10 -> KAAMILIYYA KHAIRUN NISA | C12: ='Data Siswa'!C10 -> 769 | S12: =SUM(D12:R12) -> 0 | T12: =AVERAGE(D12:R12) -> #DIV/0! | V12: =SUM(D12:R12,'Nilai Tahriri'!D10:Z10) -> 0 | W12: =AVERAGE(D12:R12,'Nilai Tahriri'!D10:Z10) -> #DIV/0! | X12: {=SUM(IF(V12<OFFSET($V$4,0,0,COUNT(V:V),1),1/COUNTIF(OFFSET($V$4,0,0,COUNT(V:V),1),OFFSET($V$4,0,0,COUNT(V:V),1))))+1} -> 1 | Y12: -
A13: ='Data Siswa'!A11 -> 10 | B13: ='Data Siswa'!B11 -> KESYA MAULIDA | C13: ='Data Siswa'!C11 -> 770 | S13: =SUM(D13:R13) -> 0 | T13: =AVERAGE(D13:R13) -> #DIV/0! | V13: =SUM(D13:R13,'Nilai Tahriri'!D11:Z11) -> 0 | W13: =AVERAGE(D13:R13,'Nilai Tahriri'!D11:Z11) -> #DIV/0! | X13: {=SUM(IF(V13<OFFSET($V$4,0,0,COUNT(V:V),1),1/COUNTIF(OFFSET($V$4,0,0,COUNT(V:V),1),OFFSET($V$4,0,0,COUNT(V:V),1))))+1} -> 1 | Y13: -
A14: ='Data Siswa'!A12 -> 11 | B14: ='Data Siswa'!B12 -> KEYLA KHADAFI | C14: ='Data Siswa'!C12 -> 771 | S14: =SUM(D14:R14) -> 0 | T14: =AVERAGE(D14:R14) -> #DIV/0! | V14: =SUM(D14:R14,'Nilai Tahriri'!D12:Z12) -> 0 | W14: =AVERAGE(D14:R14,'Nilai Tahriri'!D12:Z12) -> #DIV/0! | X14: {=SUM(IF(V14<OFFSET($V$4,0,0,COUNT(V:V),1),1/COUNTIF(OFFSET($V$4,0,0,COUNT(V:V),1),OFFSET($V$4,0,0,COUNT(V:V),1))))+1} -> 1 | Y14: -
A15: ='Data Siswa'!A13 -> 12 | B15: ='Data Siswa'!B13 -> KEYSHA QUEENA SINTA ALNAYRA | C15: ='Data Siswa'!C13 -> 772 | S15: =SUM(D15:R15) -> 0 | T15: =AVERAGE(D15:R15) -> #DIV/0! | V15: =SUM(D15:R15,'Nilai Tahriri'!D13:Z13) -> 0 | W15: =AVERAGE(D15:R15,'Nilai Tahriri'!D13:Z13) -> #DIV/0! | X15: {=SUM(IF(V15<OFFSET($V$4,0,0,COUNT(V:V),1),1/COUNTIF(OFFSET($V$4,0,0,COUNT(V:V),1),OFFSET($V$4,0,0,COUNT(V:V),1))))+1} -> 1 | Y15: -
... A43: ='Data Siswa'!A41 -> 40 | B43: ='Data Siswa'!B41 -> 0 | C43: ='Data Siswa'!C41 -> 0 | S43: =SUM(D43:R43) -> 0 | T43: =AVERAGE(D43:R43) -> #DIV/0! | V43: =SUM(D43:R43,'Nilai Tahriri'!D41:Z41) -> 0 | W43: =AVERAGE(D43:R43,'Nilai Tahriri'!D41:Z41) -> #DIV/0! | X43: {=SUM(IF(V43<OFFSET($V$4,0,0,COUNT(V:V),1),1/COUNTIF(OFFSET($V$4,0,0,COUNT(V:V),1),OFFSET($V$4,0,0,COUNT(V:V),1))))+1} -> 1 | Y43: -

Sheet Akhlak
A1: Biodata | D1: Akhlak
A2: No | B2: Nama Lengkap | C2: No Ujian | D2: البيان | G2: ايام الغيابة | J2: Catatan Wali Kelas Untuk Siswa
D3: النظافة | E3: السلك | F3: المواظبة | G3: لمرض | H3: لاستذان | I3: لآخر | J3: النقد
A4: ='Data Siswa'!A2 -> 1 | B4: ='Data Siswa'!B2 -> AMELLIA | C4: ='Data Siswa'!C2 -> 761
A5: ='Data Siswa'!A3 -> 2 | B5: ='Data Siswa'!B3 -> AMIROTUL HUSNAH | C5: ='Data Siswa'!C3 -> 762
A6: ='Data Siswa'!A4 -> 3 | B6: ='Data Siswa'!B4 -> ARINATUL ADILLAH | C6: ='Data Siswa'!C4 -> 763
A7: ='Data Siswa'!A5 -> 4 | B7: ='Data Siswa'!B5 -> AYU NAPIAH SAFITRI | C7: ='Data Siswa'!C5 -> 764
A8: ='Data Siswa'!A6 -> 5 | B8: ='Data Siswa'!B6 -> CECILIA NUR RAISA | C8: ='Data Siswa'!C6 -> 765
A9: ='Data Siswa'!A7 -> 6 | B9: ='Data Siswa'!B7 -> DIAH KUSUMAH NINGRUM | C9: ='Data Siswa'!C7 -> 766
A10: ='Data Siswa'!A8 -> 7 | B10: ='Data Siswa'!B8 -> FERA TRI ANJELITA | C10: ='Data Siswa'!C8 -> 767
A11: ='Data Siswa'!A9 -> 8 | B11: ='Data Siswa'!B9 -> INDANA JULFA | C11: ='Data Siswa'!C9 -> 768
A12: ='Data Siswa'!A10 -> 9 | B12: ='Data Siswa'!B10 -> KAAMILIYYA KHAIRUN NISA | C12: ='Data Siswa'!C10 -> 769
A13: ='Data Siswa'!A11 -> 10 | B13: ='Data Siswa'!B11 -> KESYA MAULIDA | C13: ='Data Siswa'!C11 -> 770
A14: ='Data Siswa'!A12 -> 11 | B14: ='Data Siswa'!B12 -> KEYLA KHADAFI | C14: ='Data Siswa'!C12 -> 771
A15: ='Data Siswa'!A13 -> 12 | B15: ='Data Siswa'!B13 -> KEYSHA QUEENA SINTA ALNAYRA | C15: ='Data Siswa'!C13 -> 772
... A43: ='Data Siswa'!A41 -> 40 | B43: ='Data Siswa'!B41 -> 0 | C43: ='Data Siswa'!C41 -> 0

Sheet Rapot
B1: =VLOOKUP($U$8,'Nilai Tahriri'!$A$2:$X$41,2,FALSE)&" ( "&VLOOKUP($U$8,'Data Siswa'!$A$2:$D$41,3,FALSE)&" )" -> AMELLIA ( 761 )
B3: =Biodata!$B$12 -> ١٤٤٦ - ١٤٤٧ ه | D3: =Biodata!$B$10 -> العام الدراسي : | K3: =Biodata!$B$7 -> الفصل الدراسي : الأول | M3: =Biodata!$B$4 -> الصف : الثالث د للبنات | O3: =(VLOOKUP($U$8,'Data Siswa'!$A$2:$D$41,4,FALSE)) -> 0 | R3: الإسم :
B4: =Biodata!$B$11 -> ٢٠٢٥ - ٢٠٢٦ م
B6: الدرجة الكبرى ٨, الدرجة الصغرى ٤ | L6: مسـلسـل | M6: الدرجة الكبرى ٨, الدرجة الصغرى ٤ | R6: مسـلسـل
B7: الدرجة المكتسبة | G7: المواد الشفهية | M7: الدرجة المكتسبة | O7: المواد التحريرية | U7: HALAMAN
B8: كتابة | C8: رقم | M8: كتابة | N8: رقم | U8: 1
B9: اللغة العربية | M9: =VLOOKUP(N9,Sheet1!$A$1:$B$93,2) | P9: علم التجويد | R9: 1
B10: =VLOOKUP(C10,Sheet1!$A$1:$B$93,2) | C10: =VLOOKUP($U$8,'Nilai Syafahi'!$A$4:$Y$43,4,FALSE) -> 0 | G10: الإنشاء \ التعبير الشفهي | L10: 40 | M10: =VLOOKUP(N10,Sheet1!$A$1:$B$93,2) | N10: =VLOOKUP($U$8,'Nilai Tahriri'!$A$2:$AA$41,4,FALSE) -> 0 | P10: التفسير | R10: 2 | U10: Awal | V10: 6
B11: =VLOOKUP(C11,Sheet1!$A$1:$B$93,2) | C11: =VLOOKUP($U$8,'Nilai Syafahi'!$A$4:$Y$43,5,FALSE) -> 0 | K11: النحو | L11: 41 | M11: =VLOOKUP(N11,Sheet1!$A$1:$B$93,2) | N11: =VLOOKUP($U$8,'Nilai Tahriri'!$A$2:$AA$41,5,FALSE) -> 0 | P11: الحديث | R11: 3
B12: =VLOOKUP(C12,Sheet1!$A$1:$B$93,2) | C12: =VLOOKUP($U$8,'Nilai Syafahi'!$A$4:$Y$43,6,FALSE) -> 0 | K12: الصرف | L12: 42 | M12: =VLOOKUP(N12,Sheet1!$A$1:$B$93,2) | P12: مصطلح الحديث | R12: 4 | U12: Akhir | V12: 23
B13: =VLOOKUP(C13,Sheet1!$A$1:$B$93,2) | C13: =VLOOKUP($U$8,'Nilai Syafahi'!$A$4:$Y$43,7,FALSE) -> 0 | K13: المطالعة | L13: 43 | M13: =VLOOKUP(N13,Sheet1!$A$1:$B$93,2) | N13: =VLOOKUP($U$8,'Nilai Tahriri'!$A$2:$AA$41,6,FALSE) -> 0 | P13: الفقه | R13: 5
B14: =VLOOKUP(C14,Sheet1!$A$1:$B$93,2) | C14: =VLOOKUP($U$8,'Nilai Syafahi'!$A$4:$Y$43,8,FALSE) -> 0 | K14: النصوص الأدبية | L14: 44 | M14: =VLOOKUP(N14,Sheet1!$A$1:$B$93,2) | N14: =VLOOKUP($U$8,'Nilai Tahriri'!$A$2:$AA$41,7,FALSE) -> 0 | P14: أصول الفقه | R14: 6
B15: =VLOOKUP(C15,Sheet1!$A$1:$B$93,2) | C15: =VLOOKUP($U$8,'Nilai Syafahi'!$A$4:$Y$43,9,FALSE) -> 0 | K15: المحادثة العربية | L15: 45 | M15: =VLOOKUP(N15,Sheet1!$A$1:$B$93,2) | P15: علم الفرائض | R15: 7
B16: اللغة الإنجليزية | M16: =VLOOKUP(N16,Sheet1!$A$1:$B$93,2) | P16: أصول الدين \ التوحيد | R16: 8
B17: =VLOOKUP(C17,Sheet1!$A$1:$B$93,2) | C17: =VLOOKUP($U$8,'Nilai Syafahi'!$A$4:$Y$43,10,FALSE) -> 0 | G17: Conversation | L17: 46 | M17: =VLOOKUP(N17,Sheet1!$A$1:$B$93,2) | N17: =VLOOKUP($U$8,'Nilai Tahriri'!$A$2:$AA$41,8,FALSE) -> 0 | P17: الديانة\الأديان | R17: 9
B18: =VLOOKUP(C18,Sheet1!$A$1:$B$93,2) | C18: =VLOOKUP($U$8,'Nilai Syafahi'!$A$4:$Y$43,11,FALSE) -> 0 | G18: Grammer | H18: Grammer | I18: Grammer | J18: Grammer | K18: Grammer | L18: 47 | M18: =VLOOKUP(N18,Sheet1!$A$1:$B$93,2) | P18: تاريخ التشريع الإسلامي | R18: 10
B19: =VLOOKUP(C19,Sheet1!$A$1:$B$93,2) | G19: Structure | L19: 48 | M19: =VLOOKUP(N19,Sheet1!$A$1:$B$93,2) | N19: =VLOOKUP($U$8,'Nilai Tahriri'!$A$2:$AA$41,9,FALSE) -> 0 | P19: تاريخ الإسلام | R19: 11
B20: =VLOOKUP(C20,Sheet1!$A$1:$B$93,2) | C20: =VLOOKUP($U$8,'Nilai Syafahi'!$A$4:$Y$43,12,FALSE) -> 0 | G20: Reading | L20: 49 | M20: =VLOOKUP(N20,Sheet1!$A$1:$B$93,2) | N20: =VLOOKUP($U$8,'Nilai Tahriri'!$A$2:$AA$41,10,FALSE) -> 0 | P20: الإنشاء \ التعبير التحريري | R20: 12
B21: =VLOOKUP(C21,Sheet1!$A$1:$B$93,2) | C21: =VLOOKUP($U$8,'Nilai Syafahi'!$A$4:$Y$43,13,FALSE) -> 0 | G21: Vocabularies | L21: 50 | M21: =VLOOKUP(N21,Sheet1!$A$1:$B$93,2) | N21: =VLOOKUP($U$8,'Nilai Tahriri'!$A$2:$AA$41,11,FALSE) -> 0 | P21: تمرين اللغة العربية | R21: 13
B22: المواد الفقهية | M22: =VLOOKUP(N22,Sheet1!$A$1:$B$93,2) | N22: =VLOOKUP($U$8,'Nilai Tahriri'!$A$2:$AA$41,12,FALSE) -> 0 | P22: المطالعة | R22: 14
B23: =VLOOKUP(C23,Sheet1!$A$1:$B$93,2) | C23: =VLOOKUP($U$8,'Nilai Syafahi'!$A$4:$Y$43,14,FALSE) -> 0 | G23: قراءة القرآن | L23: 51 | M23: =VLOOKUP(N23,Sheet1!$A$1:$B$93,2) | N23: =VLOOKUP($U$8,'Nilai Tahriri'!$A$2:$AA$41,13,FALSE) -> 0 | P23: النصوص الأدبية | Q23: 12 | R23: 15
B24: =VLOOKUP(C24,Sheet1!$A$1:$B$93,2) | C24: =VLOOKUP($U$8,'Nilai Syafahi'!$A$4:$Y$43,15,FALSE) -> 0 | G24: التجويد | L24: 52 | M24: =VLOOKUP(N24,Sheet1!$A$1:$B$93,2) | N24: =VLOOKUP($U$8,'Nilai Tahriri'!$A$2:$AA$41,14,FALSE) -> 0 | P24: النحو والتطبيق | R24: 16
B25: =VLOOKUP(C25,Sheet1!$A$1:$B$93,2) | C25: =VLOOKUP($U$8,'Nilai Syafahi'!$A$4:$Y$43,16,FALSE) -> 0 | G25: حفط القرآن | L25: 53 | M25: =VLOOKUP(N25,Sheet1!$A$1:$B$93,2) | N25: =VLOOKUP($U$8,'Nilai Tahriri'!$A$2:$AA$41,15,FALSE) -> 0 | P25: الصرف والتطبيق | R25: 17
B26: =VLOOKUP(C26,Sheet1!$A$1:$B$93,2) | C26: =VLOOKUP($U$8,'Nilai Syafahi'!$A$4:$Y$43,17,FALSE) -> 0 | G26: الفقه | L26: 54 | M26: =VLOOKUP(N26,Sheet1!$A$1:$B$93,2) | P26: البلاغة | R26: 18
B27: =VLOOKUP(C27,Sheet1!$A$1:$B$93,2) | G27: Praktik Sholat | K27: ممارسة الصلاة | L27: 55 | M27: =VLOOKUP(N27,Sheet1!$A$1:$B$93,2) | P27: علم المنطق | R27: 19
B28: =VLOOKUP(C28,Sheet1!$A$1:$B$93,2) | C28: =VLOOKUP($U$8,'Nilai Syafahi'!$A$4:$Y$43,18,FALSE) -> 0 | G28: الأدعية اليومية | L28: 56 | M28: =VLOOKUP(N28,Sheet1!$A$1:$B$93,2) | P28: تا. أدب اللغة | R28: 20
B29: كتب التراث | M29: =VLOOKUP(N29,Sheet1!$A$1:$B$93,2) | N29: =VLOOKUP($U$8,'Nilai Tahriri'!$A$2:$AA$41,16,FALSE) -> 0 | P29: الإملاء | R29: 21
G30: فتح القريب | L30: 57 | M30: =VLOOKUP(N30,Sheet1!$A$1:$B$93,2) | N30: =VLOOKUP($U$8,'Nilai Tahriri'!$A$2:$AA$41,17,FALSE) -> 0 | P30: الخط العربي | R30: 22
B31: =VLOOKUP(C31,Sheet1!$A$1:$B$93,2) | G31: فتح المعين | L31: 58 | M31: =VLOOKUP(N31,Sheet1!$A$1:$B$93,2) | P31: التربية والتعليم | R31: 23
B32: =VLOOKUP(C32,Sheet1!$A$1:$B$93,2) | G32: العمريطي | L32: 59 | M32: =VLOOKUP(N32,Sheet1!$A$1:$B$93,2) | P32: التربية العملية | R32: 24
B33: =VLOOKUP(C33,Sheet1!$A$1:$B$93,2) | G33: الفية ابن مالك | L33: 60 | M33: =VLOOKUP(N33,Sheet1!$A$1:$B$93,2) | N33: =VLOOKUP($U$8,'Nilai Tahriri'!$A$2:$AA$41,18,FALSE) -> 0 | P33: روح المعهد | R33: 25
B34: =VLOOKUP($U$8,'Nilai Syafahi'!$A$4:$Y$43,19,FALSE) -> 0 | K34: الجملة | M34: =VLOOKUP(N34,Sheet1!$A$1:$B$93,2) | N34: =VLOOKUP($U$8,'Nilai Tahriri'!$A$2:$AA$41,19,FALSE) -> 0 | P34: الخطابة | R34: 26
M35: =VLOOKUP(N35,Sheet1!$A$1:$B$93,2) | N35: =VLOOKUP($U$8,'Nilai Tahriri'!$A$2:$AA$41,20,FALSE) -> 0 | O35: Bhs. Inggris | P35: الإنجليزية | R35: 27
B36: البيان | N36: =VLOOKUP($U$8,'Nilai Tahriri'!$A$2:$AA$41,21,FALSE) -> 0 | O36: Bhs. Indonesia | P36: الإندونيسية | R36: 28
B37: المواظبة | D37: السلوك | K37: النظافة | N37: =VLOOKUP($U$8,'Nilai Tahriri'!$A$2:$AA$41,22,FALSE) -> 0 | O37: Matematika | P37: الرياضية | R37: 29
B38: =VLOOKUP($U$8,Akhlak!$A$4:$J$43,6,FALSE) -> 0 | D38: =VLOOKUP($U$8,Akhlak!$A$4:$J$43,5,FALSE) -> 0 | K38: =VLOOKUP($U$8,Akhlak!$A$4:$J$43,4,FALSE) -> 0 | O38: Fisika | P38: الفيزياء | R38: 30
B39: أيام الغياب | N39: =VLOOKUP($U$8,'Nilai Tahriri'!$A$2:$AA$41,23,FALSE) -> 0 | O39: Biologi | P39: البيولوجيا | R39: 31
B40: لآخر | D40: لاسـتئذان | K40: لمرض | O40: Kimia | P40: الكيمياء | R40: 32
B41: =VLOOKUP($U$8,Akhlak!$A$4:$J$43,9,FALSE) -> 0 | D41: =VLOOKUP($U$8,Akhlak!$A$4:$J$43,8,FALSE) -> 0 | K41: =VLOOKUP($U$8,Akhlak!$A$4:$J$43,7,FALSE) -> 0 | N41: =VLOOKUP($U$8,'Nilai Tahriri'!$A$2:$AA$41,24,FALSE) -> 0 | O41: Geografi | P41: الجغرافيا | R41: 33
B42: مستوى التفوق | D42: التقدير العام | O42: Sosiologi | P42: سوسيولوجيا | R42: 34
...

Sheet Rekap Nilai
A1: REKAP NILAI UJIAN
A3: =Biodata!C4 -> الثالث د للبنات
A5: No | B5: Nama | C5: No Ujian | D5: Jumlah Nilai | E5: Nilai Rata-Rata | F5: Peringkat | G5: Keterangan
A6: 1 | B6: ='Data Siswa'!B2 -> AMELLIA | C6: ='Data Siswa'!C2 -> 761 | D6: ='Nilai Syafahi'!V4 -> 0 | E6: ='Nilai Syafahi'!W4 -> #DIV/0! | F6: ='Nilai Syafahi'!X4 -> 1 | G6: ='Nilai Syafahi'!Y4 -> -
A7: 2 | B7: ='Data Siswa'!B3 -> AMIROTUL HUSNAH | C7: ='Data Siswa'!C3 -> 762 | D7: ='Nilai Syafahi'!V5 -> 0 | E7: ='Nilai Syafahi'!W5 -> #DIV/0! | F7: ='Nilai Syafahi'!X5 -> 1 | G7: ='Nilai Syafahi'!Y5 -> -
A8: 3 | B8: ='Data Siswa'!B4 -> ARINATUL ADILLAH | C8: ='Data Siswa'!C4 -> 763 | D8: ='Nilai Syafahi'!V6 -> 0 | E8: ='Nilai Syafahi'!W6 -> #DIV/0! | F8: ='Nilai Syafahi'!X6 -> 1 | G8: ='Nilai Syafahi'!Y6 -> -
A9: 4 | B9: ='Data Siswa'!B5 -> AYU NAPIAH SAFITRI | C9: ='Data Siswa'!C5 -> 764 | D9: ='Nilai Syafahi'!V7 -> 0 | E9: ='Nilai Syafahi'!W7 -> #DIV/0! | F9: ='Nilai Syafahi'!X7 -> 1 | G9: ='Nilai Syafahi'!Y7 -> -
A10: 5 | B10: ='Data Siswa'!B6 -> CECILIA NUR RAISA | C10: ='Data Siswa'!C6 -> 765 | D10: ='Nilai Syafahi'!V8 -> 0 | E10: ='Nilai Syafahi'!W8 -> #DIV/0! | F10: ='Nilai Syafahi'!X8 -> 1 | G10: ='Nilai Syafahi'!Y8 -> -
A11: 6 | B11: ='Data Siswa'!B7 -> DIAH KUSUMAH NINGRUM | C11: ='Data Siswa'!C7 -> 766 | D11: ='Nilai Syafahi'!V9 -> 0 | E11: ='Nilai Syafahi'!W9 -> #DIV/0! | F11: ='Nilai Syafahi'!X9 -> 1 | G11: ='Nilai Syafahi'!Y9 -> -
A12: 7 | B12: ='Data Siswa'!B8 -> FERA TRI ANJELITA | C12: ='Data Siswa'!C8 -> 767 | D12: ='Nilai Syafahi'!V10 -> 0 | E12: ='Nilai Syafahi'!W10 -> #DIV/0! | F12: ='Nilai Syafahi'!X10 -> 1 | G12: ='Nilai Syafahi'!Y10 -> -
A13: 8 | B13: ='Data Siswa'!B9 -> INDANA JULFA | C13: ='Data Siswa'!C9 -> 768 | D13: ='Nilai Syafahi'!V11 -> 0 | E13: ='Nilai Syafahi'!W11 -> #DIV/0! | F13: ='Nilai Syafahi'!X11 -> 1 | G13: ='Nilai Syafahi'!Y11 -> -
A14: 9 | B14: ='Data Siswa'!B10 -> KAAMILIYYA KHAIRUN NISA | C14: ='Data Siswa'!C10 -> 769 | D14: ='Nilai Syafahi'!V12 -> 0 | E14: ='Nilai Syafahi'!W12 -> #DIV/0! | F14: ='Nilai Syafahi'!X12 -> 1 | G14: ='Nilai Syafahi'!Y12 -> -
A15: 10 | B15: ='Data Siswa'!B11 -> KESYA MAULIDA | C15: ='Data Siswa'!C11 -> 770 | D15: ='Nilai Syafahi'!V13 -> 0 | E15: ='Nilai Syafahi'!W13 -> #DIV/0! | F15: ='Nilai Syafahi'!X13 -> 1 | G15: ='Nilai Syafahi'!Y13 -> -
A16: 11 | B16: ='Data Siswa'!B12 -> KEYLA KHADAFI | C16: ='Data Siswa'!C12 -> 771 | D16: ='Nilai Syafahi'!V14 -> 0 | E16: ='Nilai Syafahi'!W14 -> #DIV/0! | F16: ='Nilai Syafahi'!X14 -> 1 | G16: ='Nilai Syafahi'!Y14 -> -
A17: 12 | B17: ='Data Siswa'!B13 -> KEYSHA QUEENA SINTA ALNAYRA | C17: ='Data Siswa'!C13 -> 772 | D17: ='Nilai Syafahi'!V15 -> 0 | E17: ='Nilai Syafahi'!W15 -> #DIV/0! | F17: ='Nilai Syafahi'!X15 -> 1 | G17: ='Nilai Syafahi'!Y15 -> -
... A45: 40 | B45: ='Data Siswa'!B41 -> 0 | C45: ='Data Siswa'!C41 -> 0 | D45: ='Nilai Syafahi'!V43 -> 0 | E45: ='Nilai Syafahi'!W43 -> #DIV/0! | F45: ='Nilai Syafahi'!X43 -> 1 | G45: ='Nilai Syafahi'!Y43 -> -
E47: ولي الفصل
E50: =Biodata!C19 -> 0

Sheet Sheet1
A2: 0
A3: 1 | B3: واحد
A4: 1.1 | B4: واحد و واحد
A5: 1.2 | B5: واحد و اثنين
A6: 1.3 | B6: واحد و ثلاث
A7: 1.4 | B7: واحد و اربع
A8: 1.5 | B8: واحد و نصف
A9: 1.6 | B9: واحد و ست
A10: 1.7 | B10: واحد و سبع
A11: 1.8 | B11: واحد و ثمان
A12: 1.9 | B12: واحد و تسع
A13: 2 | B13: اثنين
A14: 2.1 | B14: اثنين و واحد
... A93: 10 | B93: عشر
