Workbook
Name nilai: 'Nilai Tahriri'!$B$2:$AK$27

Sheet Identitas
C2: NAMA WALI KELAS
C4: KELAS
C6: SEMESTER
C8: TAHUN PELAJARAN
C10: TANGGAL HIJRIYAH
C12: TANGGAL MILADIYAH

Sheet Biodata
C1: IDENTITAS RAPOT
B4: =CONCATENATE(F4," ",E4," ",C4) -> الصف : الخامس ب للبنات | C4: الخامس ب للبنات | E4: : | F4: الصف | G4: 1
F5: ( Kelas )
B7: =CONCATENATE(F7," ",E7," ",C7) -> الفصل الدراسي : الأول | C7: الأول | E7: : | F7: الفصل الدراسي | G7: 2
F8: ( Semester )
B10: =CONCATENATE(F10," : ") -> العام الدراسي : | C10: ٢٠٢٥ - ٢٠٢٦ | E10: : | F10: العام الدراسي | G10: 3
B11: =CONCATENATE(C10," ","م") -> ٢٠٢٥ - ٢٠٢٦ م | C11: ١٤٤٦ - ١٤٤٧ | F11: ( Tahun Pelajaran )
B12: =CONCATENATE(C11," ","ه") -> ١٤٤٦ - ١٤٤٧ ه
C13: ١٦ من رجب سنة ١٤٤٧ ه | E13: : | F13: تحريرا بسـيرانج في | G13: 4
C14: ٠٥ من يناير سنة ٢٠٢٦ م | F14: ( Tanggal Rapot )
C16: كياهى الحاج شهاب المعي | E16: : | F16: مدير المدرسة | G16: 5
F17: ( Nama Kepala Sekolah )
E19: : | F19: ولي الفصل | G19: 6
F20: ( Nama Wali Kelas )

Sheet Data Siswa
A1: No | B1: Nama | C1: No Exam | D1: Nama Arab
A2: 1 | B2: AIRA SINDY | C2: 887
A3: 2 | B3: ALMAYRA AZIZAH FITRIA | C3: 888
A4: 3 | B4: AMELIA AGUSTINA | C4: 889
A5: 4 | B5: ATHILLA SYAMILYA | C5: 890
A6: 5 | B6: AURA BILQIS NURRAJABY | C6: 891
A7: 6 | B7: BALQIS INSANI SAFITRI | C7: 892
A8: 7 | B8: DESTYANA VIDIAWAN | C8: 893
A9: 8 | B9: DWI NURAINI | C9: 894
A10: 9 | B10: FADZILA ULYA NAYIRA | C10: 895
A11: 10 | B11: FIORENZA FAUZIYYAH | C11: 896
A12: 11 | B12: HEPITA TIARA ANISA | C12: 897
A13: 12 | B13: HERLINA PUTRI | C13: 898
... A24: 23 | B24: TIARA SHINTA LOVENE SHEA | C24: 909
A25: 24
A26: 25
A27: 26
A28: 27
A29: 28
A30: 29
A31: 30
A32: 31
A33: 32
A34: 33
A35: 34
A36: 35
... A41: 40

Sheet Nilai Tahriri
A1: No | B1: Nama | C1: No Ujian | D1: التفسير | E1: الحديث | F1: مصطلح الحديث | G1: الفقه | H1: اصول الفقه | I1: علم الفرائض | J1: الديانة | K1: تاريخ التشريع | L1: التاريخ الإسلام | M1: التعبير التحريري | N1: تمرين اللغة | O1: المطالعة | P1: النصوص الأدبية | Q1: النحو | R1: الصرف | S1: البلاغة | T1: الإملاء | U1: الخط | V1: التربية والتعليم | W1: روح المعهد | X1: الخطابة | Y1: B. Inggris | Z1: B. Indonesia | AA1: Matematika | AB1: Fisika | AC1: Biologi | AD1: Kimia | AE1: Geografi | AF1: Sosiologi | AG1: Ekonomi | AH1: PPKN | AI1: Sjrh. Indo | AJ1: Informatika | AK1: Jumlah Nilai | AL1: Nilai Rata2
A2: ='Data Siswa'!A2 -> 1 | B2: ='Data Siswa'!B2 -> AIRA SINDY | C2: ='Data Siswa'!C2 -> 887 | AK2: =SUM(D2:AJ2) -> 0 | AL2: =AVERAGE(D2:AJ2) -> #DIV/0!
A3: ='Data Siswa'!A3 -> 2 | B3: ='Data Siswa'!B3 -> ALMAYRA AZIZAH FITRIA | C3: ='Data Siswa'!C3 -> 888 | AK3: =SUM(D3:AJ3) -> 0 | AL3: =AVERAGE(D3:AJ3) -> #DIV/0!
A4: ='Data Siswa'!A4 -> 3 | B4: ='Data Siswa'!B4 -> AMELIA AGUSTINA | C4: ='Data Siswa'!C4 -> 889 | AK4: =SUM(D4:AJ4) -> 0 | AL4: =AVERAGE(D4:AJ4) -> #DIV/0!
A5: ='Data Siswa'!A5 -> 4 | B5: ='Data Siswa'!B5 -> ATHILLA SYAMILYA | C5: ='Data Siswa'!C5 -> 890 | AK5: =SUM(D5:AJ5) -> 0 | AL5: =AVERAGE(D5:AJ5) -> #DIV/0!
A6: ='Data Siswa'!A6 -> 5 | B6: ='Data Siswa'!B6 -> AURA BILQIS NURRAJABY | C6: ='Data Siswa'!C6 -> 891 | AK6: =SUM(D6:AJ6) -> 0 | AL6: =AVERAGE(D6:AJ6) -> #DIV/0!
A7: ='Data Siswa'!A7 -> 6 | B7: ='Data Siswa'!B7 -> BALQIS INSANI SAFITRI | C7: ='Data Siswa'!C7 -> 892 | AK7: =SUM(D7:AJ7) -> 0 | AL7: =AVERAGE(D7:AJ7) -> #DIV/0!
A8: ='Data Siswa'!A8 -> 7 | B8: ='Data Siswa'!B8 -> DESTYANA VIDIAWAN | C8: ='Data Siswa'!C8 -> 893 | AK8: =SUM(D8:AJ8) -> 0 | AL8: =AVERAGE(D8:AJ8) -> #DIV/0!
A9: ='Data Siswa'!A9 -> 8 | B9: ='Data Siswa'!B9 -> DWI NURAINI | C9: ='Data Siswa'!C9 -> 894 | AK9: =SUM(D9:AJ9) -> 0 | AL9: =AVERAGE(D9:AJ9) -> #DIV/0!
A10: ='Data Siswa'!A10 -> 9 | B10: ='Data Siswa'!B10 -> FADZILA ULYA NAYIRA | C10: ='Data Siswa'!C10 -> 895 | AK10: =SUM(D10:AJ10) -> 0 | AL10: =AVERAGE(D10:AJ10) -> #DIV/0!
A11: ='Data Siswa'!A11 -> 10 | B11: ='Data Siswa'!B11 -> FIORENZA FAUZIYYAH | C11: ='Data Siswa'!C11 -> 896 | AK11: =SUM(D11:AJ11) -> 0 | AL11: =AVERAGE(D11:AJ11) -> #DIV/0!
A12: ='Data Siswa'!A12 -> 11 | B12: ='Data Siswa'!B12 -> HEPITA TIARA ANISA | C12: ='Data Siswa'!C12 -> 897 | AK12: =SUM(D12:AJ12) -> 0 | AL12: =AVERAGE(D12:AJ12) -> #DIV/0!
A13: ='Data Siswa'!A13 -> 12 | B13: ='Data Siswa'!B13 -> HERLINA PUTRI | C13: ='Data Siswa'!C13 -> 898 | AK13: =SUM(D13:AJ13) -> 0 | AL13: =AVERAGE(D13:AJ13) -> #DIV/0!
... A41: ='Data Siswa'!A41 -> 40 | B41: ='Data Siswa'!B41 -> 0 | C41: ='Data Siswa'!C41 -> 0 | AK41: =SUM(D41:AJ41) -> 0 | AL41: =AVERAGE(D41:AJ41) -> #DIV/0!

Sheet Nilai Syafahi
A1: Biodata | D1: Nilai Ujian Syafahi | W1: Nilai Keseluruhan | Z1: Keterangan
A2: No | B2: Nama Lengkap | C2: No Ujian | D2: اللغة العربية | J2: اللغة الانجليزية | O2: المواد الفقهية | T2: الجملة | U2: Rata-Rata | W2: التقدير العام | X2: Rata-Rata | Y2: مستوي التفوق | Z2: الملاحظة
D3: الانشاء | E3: النحو | F3: الصرف | G3: المطالعة | H3: النصوص الأدبية | I3: المحادثة العربية | J3: Conversation | K3: Grammar | L3: Structure | M3: Reading | N3: Vocabularies | O3: قراءة القرآن | P3: التجويد | Q3: حفظ القرآن | R3: الفقه | S3: الأدعيه اليومية
A4: ='Data Siswa'!A2 -> 1 | B4: ='Data Siswa'!B2 -> AIRA SINDY | C4: ='Data Siswa'!C2 -> 887 | T4: =SUM(D4:S4) -> 0 | U4: =AVERAGE(D4:S4) -> #DIV/0! | W4: =SUM('Nilai Tahriri'!AK2,'Nilai Syafahi'!T4) -> 0 | X4: =AVERAGE(D4:S4,'Nilai Tahriri'!D2:AJ2) -> #DIV/0! | Y4: {=SUM(IF(W4<OFFSET($W$4,0,0,COUNT(W:W),1),1/COUNTIF(OFFSET($W$4,0,0,COUNT(W:W),1),OFFSET($W$4,0,0,COUNT(W:W),1))))+1} -> 1 | Z4: -
A5: ='Data Siswa'!A3 -> 2 | B5: ='Data Siswa'!B3 -> ALMAYRA AZIZAH FITRIA | C5: ='Data Siswa'!C3 -> 888 | T5: =SUM(D5:S5) -> 0 | U5: =AVERAGE(D5:S5) -> #DIV/0! | W5: =SUM('Nilai Tahriri'!AK3,'Nilai Syafahi'!T5) -> 0 | X5: =AVERAGE(D5:S5,'Nilai Tahriri'!D3:AJ3) -> #DIV/0! | Y5: {=SUM(IF(W5<OFFSET($W$4,0,0,COUNT(W:W),1),1/COUNTIF(OFFSET($W$4,0,0,COUNT(W:W),1),OFFSET($W$4,0,0,COUNT(W:W),1))))+1} -> 1 | Z5: -
A6: ='Data Siswa'!A4 -> 3 | B6: ='Data Siswa'!B4 -> AMELIA AGUSTINA | C6: ='Data Siswa'!C4 -> 889 | T6: =SUM(D6:S6) -> 0 | U6: =AVERAGE(D6:S6) -> #DIV/0! | W6: =SUM('Nilai Tahriri'!AK4,'Nilai Syafahi'!T6) -> 0 | X6: =AVERAGE(D6:S6,'Nilai Tahriri'!D4:AJ4) -> #DIV/0! | Y6: {=SUM(IF(W6<OFFSET($W$4,0,0,COUNT(W:W),1),1/COUNTIF(OFFSET($W$4,0,0,COUNT(W:W),1),OFFSET($W$4,0,0,COUNT(W:W),1))))+1} -> 1 | Z6: -
A7: ='Data Siswa'!A5 -> 4 | B7: ='Data Siswa'!B5 -> ATHILLA SYAMILYA | C7: ='Data Siswa'!C5 -> 890 | T7: =SUM(D7:S7) -> 0 | U7: =AVERAGE(D7:S7) -> #DIV/0! | W7: =SUM('Nilai Tahriri'!AK5,'Nilai Syafahi'!T7) -> 0 | X7: =AVERAGE(D7:S7,'Nilai Tahriri'!D5:AJ5) -> #DIV/0! | Y7: {=SUM(IF(W7<OFFSET($W$4,0,0,COUNT(W:W),1),1/COUNTIF(OFFSET($W$4,0,0,COUNT(W:W),1),OFFSET($W$4,0,0,COUNT(W:W),1))))+1} -> 1 | Z7: -
A8: ='Data Siswa'!A6 -> 5 | B8: ='Data Siswa'!B6 -> AURA BILQIS NURRAJABY | C8: ='Data Siswa'!C6 -> 891 | T8: =SUM(D8:S8) -> 0 | U8: =AVERAGE(D8:S8) -> #DIV/0! | W8: =SUM('Nilai Tahriri'!AK6,'Nilai Syafahi'!T8) -> 0 | X8: =AVERAGE(D8:S8,'Nilai Tahriri'!D6:AJ6) -> #DIV/0! | Y8: {=SUM(IF(W8<OFFSET($W$4,0,0,COUNT(W:W),1),1/COUNTIF(OFFSET($W$4,0,0,COUNT(W:W),1),OFFSET($W$4,0,0,COUNT(W:W),1))))+1} -> 1 | Z8: -
A9: ='Data Siswa'!A7 -> 6 | B9: ='Data Siswa'!B7 -> BALQIS INSANI SAFITRI | C9: ='Data Siswa'!C7 -> 892 | T9: =SUM(D9:S9) -> 0 | U9: =AVERAGE(D9:S9) -> #DIV/0! | W9: =SUM('Nilai Tahriri'!AK7,'Nilai Syafahi'!T9) -> 0 | X9: =AVERAGE(D9:S9,'Nilai Tahriri'!D7:AJ7) -> #DIV/0! | Y9: {=SUM(IF(W9<OFFSET($W$4,0,0,COUNT(W:W),1),1/COUNTIF(OFFSET($W$4,0,0,COUNT(W:W),1),OFFSET($W$4,0,0,COUNT(W:W),1))))+1} -> 1 | Z9: -
A10: ='Data Siswa'!A8 -> 7 | B10: ='Data Siswa'!B8 -> DESTYANA VIDIAWAN | C10: ='Data Siswa'!C8 -> 893 | T10: =SUM(D10:S10) -> 0 | U10: =AVERAGE(D10:S10) -> #DIV/0! | W10: =SUM('Nilai Tahriri'!AK8,'Nilai Syafahi'!T10) -> 0 | X10: =AVERAGE(D10:S10,'Nilai Tahriri'!D8:AJ8) -> #DIV/0! | Y10: {=SUM(IF(W10<OFFSET($W$4,0,0,COUNT(W:W),1),1/COUNTIF(OFFSET($W$4,0,0,COUNT(W:W),1),OFFSET($W$4,0,0,COUNT(W:W),1))))+1} -> 1 | Z10: -
A11: ='Data Siswa'!A9 -> 8 | B11: ='Data Siswa'!B9 -> DWI NURAINI | C11: ='Data Siswa'!C9 -> 894 | T11: =SUM(D11:S11) -> 0 | U11: =AVERAGE(D11:S11) -> #DIV/0! | W11: =SUM('Nilai Tahriri'!AK9,'Nilai Syafahi'!T11) -> 0 | X11: =AVERAGE(D11:S11,'Nilai Tahriri'!D9:AJ9) -> #DIV/0! | Y11: {=SUM(IF(W11<OFFSET($W$4,0,0,COUNT(W:W),1),1/COUNTIF(OFFSET($W$4,0,0,COUNT(W:W),1),OFFSET($W$4,0,0,COUNT(W:W),1))))+1} -> 1 | Z11: -
A12: ='Data Siswa'!A10 -> 9 | B12: ='Data Siswa'!B10 -> FADZILA ULYA NAYIRA | C12: ='Data Siswa'!C10 -> 895 | T12: =SUM(D12:S12) -> 0 | U12: =AVERAGE(D12:S12) -> #DIV/0! | W12: =SUM('Nilai Tahriri'!AK10,'Nilai Syafahi'!T12) -> 0 | X12: =AVERAGE(D12:S12,'Nilai Tahriri'!D10:AJ10) -> #DIV/0! | Y12: {=SUM(IF(W12<OFFSET($W$4,0,0,COUNT(W:W),1),1/COUNTIF(OFFSET($W$4,0,0,COUNT(W:W),1),OFFSET($W$4,0,0,COUNT(W:W),1))))+1} -> 1 | Z12: -
A13: ='Data Siswa'!A11 -> 10 | B13: ='Data Siswa'!B11 -> FIORENZA FAUZIYYAH | C13: ='Data Siswa'!C11 -> 896 | T13: =SUM(D13:S13) -> 0 | U13: =AVERAGE(D13:S13) -> #DIV/0! | W13: =SUM('Nilai Tahriri'!AK11,'Nilai Syafahi'!T13) -> 0 | X13: =AVERAGE(D13:S13,'Nilai Tahriri'!D11:AJ11) -> #DIV/0! | Y13: {=SUM(IF(W13<OFFSET($W$4,0,0,COUNT(W:W),1),1/COUNTIF(OFFSET($W$4,0,0,COUNT(W:W),1),OFFSET($W$4,0,0,COUNT(W:W),1))))+1} -> 1 | Z13: -
A14: ='Data Siswa'!A12 -> 11 | B14: ='Data Siswa'!B12 -> HEPITA TIARA ANISA | C14: ='Data Siswa'!C12 -> 897 | T14: =SUM(D14:S14) -> 0 | U14: =AVERAGE(D14:S14) -> #DIV/0! | W14: =SUM('Nilai Tahriri'!AK12,'Nilai Syafahi'!T14) -> 0 | X14: =AVERAGE(D14:S14,'Nilai Tahriri'!D12:AJ12) -> #DIV/0! | Y14: {=SUM(IF(W14<OFFSET($W$4,0,0,COUNT(W:W),1),1/COUNTIF(OFFSET($W$4,0,0,COUNT(W:W),1),OFFSET($W$4,0,0,COUNT(W:W),1))))+1} -> 1 | Z14: -
A15: ='Data Siswa'!A13 -> 12 | B15: ='Data Siswa'!B13 -> HERLINA PUTRI | C15: ='Data Siswa'!C13 -> 898 | T15: =SUM(D15:S15) -> 0 | U15: =AVERAGE(D15:S15) -> #DIV/0! | W15: =SUM('Nilai Tahriri'!AK13,'Nilai Syafahi'!T15) -> 0 | X15: =AVERAGE(D15:S15,'Nilai Tahriri'!D13:AJ13) -> #DIV/0! | Y15: {=SUM(IF(W15<OFFSET($W$4,0,0,COUNT(W:W),1),1/COUNTIF(OFFSET($W$4,0,0,COUNT(W:W),1),OFFSET($W$4,0,0,COUNT(W:W),1))))+1} -> 1 | Z15: -
... A43: ='Data Siswa'!A41 -> 40 | B43: ='Data Siswa'!B41 -> 0 | C43: ='Data Siswa'!C41 -> 0 | T43: =SUM(D43:S43) -> 0 | U43: =AVERAGE(D43:S43) -> #DIV/0! | W43: =SUM('Nilai Tahriri'!AK41,'Nilai Syafahi'!T43) -> 0 | X43: =AVERAGE(D43:S43,'Nilai Tahriri'!D41:AJ41) -> #DIV/0! | Y43: {=SUM(IF(W43<OFFSET($W$4,0,0,COUNT(W:W),1),1/COUNTIF(OFFSET($W$4,0,0,COUNT(W:W),1),OFFSET($W$4,0,0,COUNT(W:W),1))))+1} -> 1 | Z43: -

Sheet Akhlak
A1: Biodata | D1: Akhlak
A2: No | B2: Nama Lengkap | C2: No Ujian | D2: البيان | G2: ايام الغيابة | J2: Catatan Wali Kelas Untuk Siswa
D3: النظافة | E3: السلك | F3: المواظبة | G3: لمرض | H3: لاستذان | I3: لآخر | J3: النقد
A4: ='Data Siswa'!A2 -> 1 | B4: ='Data Siswa'!B2 -> AIRA SINDY | C4: ='Data Siswa'!C2 -> 887
A5: ='Data Siswa'!A3 -> 2 | B5: ='Data Siswa'!B3 -> ALMAYRA AZIZAH FITRIA | C5: ='Data Siswa'!C3 -> 888
A6: ='Data Siswa'!A4 -> 3 | B6: ='Data Siswa'!B4 -> AMELIA AGUSTINA | C6: ='Data Siswa'!C4 -> 889
A7: ='Data Siswa'!A5 -> 4 | B7: ='Data Siswa'!B5 -> ATHILLA SYAMILYA | C7: ='Data Siswa'!C5 -> 890
A8: ='Data Siswa'!A6 -> 5 | B8: ='Data Siswa'!B6 -> AURA BILQIS NURRAJABY | C8: ='Data Siswa'!C6 -> 891
A9: ='Data Siswa'!A7 -> 6 | B9: ='Data Siswa'!B7 -> BALQIS INSANI SAFITRI | C9: ='Data Siswa'!C7 -> 892
A10: ='Data Siswa'!A8 -> 7 | B10: ='Data Siswa'!B8 -> DESTYANA VIDIAWAN | C10: ='Data Siswa'!C8 -> 893
A11: ='Data Siswa'!A9 -> 8 | B11: ='Data Siswa'!B9 -> DWI NURAINI | C11: ='Data Siswa'!C9 -> 894
A12: ='Data Siswa'!A10 -> 9 | B12: ='Data Siswa'!B10 -> FADZILA ULYA NAYIRA | C12: ='Data Siswa'!C10 -> 895
A13: ='Data Siswa'!A11 -> 10 | B13: ='Data Siswa'!B11 -> FIORENZA FAUZIYYAH | C13: ='Data Siswa'!C11 -> 896
A14: ='Data Siswa'!A12 -> 11 | B14: ='Data Siswa'!B12 -> HEPITA TIARA ANISA | C14: ='Data Siswa'!C12 -> 897
A15: ='Data Siswa'!A13 -> 12 | B15: ='Data Siswa'!B13 -> HERLINA PUTRI | C15: ='Data Siswa'!C13 -> 898
... A33: ='Data Siswa'!A31 -> 30 | B33: ='Data Siswa'!B31 -> 0 | C33: ='Data Siswa'!C31 -> 0
A34: ='Data Siswa'!A32 -> 31 | B34: ='Data Siswa'!B32 -> 0 | C34: ='Data Siswa'!C32 -> 0 | J34: -
A35: ='Data Siswa'!A33 -> 32 | B35: ='Data Siswa'!B33 -> 0 | C35: ='Data Siswa'!C33 -> 0 | J35: -
A36: ='Data Siswa'!A34 -> 33 | B36: ='Data Siswa'!B34 -> 0 | C36: ='Data Siswa'!C34 -> 0 | J36: -
A37: ='Data Siswa'!A35 -> 34 | B37: ='Data Siswa'!B35 -> 0 | C37: ='Data Siswa'!C35 -> 0 | J37: -
A38: ='Data Siswa'!A36 -> 35 | B38: ='Data Siswa'!B36 -> 0 | C38: ='Data Siswa'!C36 -> 0 | J38: -
A39: ='Data Siswa'!A37 -> 36 | B39: ='Data Siswa'!B37 -> 0 | C39: ='Data Siswa'!C37 -> 0 | J39: -
A40: ='Data Siswa'!A38 -> 37 | B40: ='Data Siswa'!B38 -> 0 | C40: ='Data Siswa'!C38 -> 0 | J40: -
A41: ='Data Siswa'!A39 -> 38 | B41: ='Data Siswa'!B39 -> 0 | C41: ='Data Siswa'!C39 -> 0 | J41: -
A42: ='Data Siswa'!A40 -> 39 | B42: ='Data Siswa'!B40 -> 0 | C42: ='Data Siswa'!C40 -> 0 | J42: -
A43: ='Data Siswa'!A41 -> 40 | B43: ='Data Siswa'!B41 -> 0 | C43: ='Data Siswa'!C41 -> 0 | J43: -

Sheet Rapot
B1: =VLOOKUP($U$8,'Nilai Tahriri'!$A$2:$X$41,2,FALSE)&" ( "&VLOOKUP($U$8,'Data Siswa'!$A$2:$D$41,3,FALSE)&" )" -> 0 ( )
B3: =Biodata!$B$12 -> ١٤٤٦ - ١٤٤٧ ه | D3: =Biodata!$B$10 -> العام الدراسي : | K3: =Biodata!$B$7 -> الفصل الدراسي : الأول | M3: =Biodata!$B$4 -> الصف : الخامس ب للبنات | O3: =(VLOOKUP($U$8,'Data Siswa'!$A$2:$D$41,4,FALSE)) | R3: الإسم :
B4: =Biodata!$B$11 -> ٢٠٢٥ - ٢٠٢٦ م
B6: الدرجة الكبرى ٨, الدرجة الصغرى ٤ | L6: مسـلسـل | M6: الدرجة الكبرى ٨, الدرجة الصغرى ٤ | R6: مسـلسـل
B7: الدرجة المكتسبة | G7: المواد الشفهية | M7: الدرجة المكتسبة | O7: المواد التحريرية | U7: HALAMAN
B8: كتابة | C8: رقم | M8: كتابة | N8: رقم | U8: 26
B9: اللغة العربية | M9: =VLOOKUP(N9,Sheet1!$A$1:$B$93,2) | P9: علم التجويد | R9: 1
B10: =VLOOKUP(C10,Sheet1!$A$1:$B$93,2) | C10: =VLOOKUP($U$8,'Nilai Syafahi'!$A$4:$Z$43,4,FALSE) -> 0 | G10: الإنشاء \ التعبير الشفهي | L10: 40 | M10: =VLOOKUP(N10,Sheet1!$A$1:$B$93,2) | N10: =VLOOKUP($U$8,'Nilai Tahriri'!$A$2:$AK$41,4,FALSE) -> 0 | P10: التفسير | R10: 2 | U10: Awal | V10: 1
B11: =VLOOKUP(C11,Sheet1!$A$1:$B$93,2) | C11: =VLOOKUP($U$8,'Nilai Syafahi'!$A$4:$Z$43,5,FALSE) -> 0 | K11: النحو | L11: 41 | M11: =VLOOKUP(N11,Sheet1!$A$1:$B$93,2) | N11: =VLOOKUP($U$8,'Nilai Tahriri'!$A$2:$AK$41,5,FALSE) -> 0 | P11: الحديث | R11: 3
B12: =VLOOKUP(C12,Sheet1!$A$1:$B$93,2) | C12: =VLOOKUP($U$8,'Nilai Syafahi'!$A$4:$Z$43,6,FALSE) -> 0 | K12: الصرف | L12: 42 | M12: =VLOOKUP(N12,Sheet1!$A$1:$B$93,2) | N12: =VLOOKUP($U$8,'Nilai Tahriri'!$A$2:$AK$41,6,FALSE) -> 0 | P12: مصطلح الحديث | R12: 4 | U12: Akhir | V12: 30
B13: =VLOOKUP(C13,Sheet1!$A$1:$B$93,2) | C13: =VLOOKUP($U$8,'Nilai Syafahi'!$A$4:$Z$43,7,FALSE) -> 0 | K13: المطالعة | L13: 43 | M13: =VLOOKUP(N13,Sheet1!$A$1:$B$93,2) | N13: =VLOOKUP($U$8,'Nilai Tahriri'!$A$2:$AK$41,7,FALSE) -> 0 | P13: الفقه | R13: 5
B14: =VLOOKUP(C14,Sheet1!$A$1:$B$93,2) | C14: =VLOOKUP($U$8,'Nilai Syafahi'!$A$4:$Z$43,8,FALSE) -> 0 | K14: النصوص الأدبية | L14: 44 | M14: =VLOOKUP(N14,Sheet1!$A$1:$B$93,2) | N14: =VLOOKUP($U$8,'Nilai Tahriri'!$A$2:$AK$41,8,FALSE) -> 0 | P14: أصول الفقه | R14: 6
B15: =VLOOKUP(C15,Sheet1!$A$1:$B$93,2) | C15: =VLOOKUP($U$8,'Nilai Syafahi'!$A$4:$Z$43,9,FALSE) -> 0 | K15: المحادثة العربية | L15: 45 | M15: =VLOOKUP(N15,Sheet1!$A$1:$B$93,2) | N15: =VLOOKUP($U$8,'Nilai Tahriri'!$A$2:$AK$41,9,FALSE) -> 0 | P15: علم الفرائض | R15: 7
B16: اللغة الإنجليزية | M16: =VLOOKUP(N16,Sheet1!$A$1:$B$93,2) | P16: أصول الدين \ التوحيد | R16: 8
B17: =VLOOKUP(C17,Sheet1!$A$1:$B$93,2) | C17: =VLOOKUP($U$8,'Nilai Syafahi'!$A$4:$Z$43,10,FALSE) -> 0 | G17: Conversation | L17: 46 | M17: =VLOOKUP(N17,Sheet1!$A$1:$B$93,2) | N17: =VLOOKUP($U$8,'Nilai Tahriri'!$A$2:$AK$41,10,FALSE) -> 0 | P17: الديانة\الأديان | R17: 9
B18: =VLOOKUP(C18,Sheet1!$A$1:$B$93,2) | C18: =VLOOKUP($U$8,'Nilai Syafahi'!$A$4:$Z$43,11,FALSE) -> 0 | G18: Grammer | H18: Grammer | I18: Grammer | J18: Grammer | K18: Grammer | L18: 47 | M18: =VLOOKUP(N18,Sheet1!$A$1:$B$93,2) | N18: =VLOOKUP($U$8,'Nilai Tahriri'!$A$2:$AK$41,11,FALSE) -> 0 | P18: تاريخ التشريع الإسلامي | R18: 10
B19: =VLOOKUP(C19,Sheet1!$A$1:$B$93,2) | C19: =VLOOKUP($U$8,'Nilai Syafahi'!$A$4:$Z$43,12,FALSE) -> 0 | G19: Structure | L19: 48 | M19: =VLOOKUP(N19,Sheet1!$A$1:$B$93,2) | N19: =VLOOKUP($U$8,'Nilai Tahriri'!$A$2:$AK$41,12,FALSE) -> 0 | P19: تاريخ الإسلام | R19: 11
B20: =VLOOKUP(C20,Sheet1!$A$1:$B$93,2) | C20: =VLOOKUP($U$8,'Nilai Syafahi'!$A$4:$Z$43,13,FALSE) -> 0 | G20: Reading | L20: 49 | M20: =VLOOKUP(N20,Sheet1!$A$1:$B$93,2) | N20: =VLOOKUP($U$8,'Nilai Tahriri'!$A$2:$AK$41,13,FALSE) -> 0 | P20: الإنشاء \ التعبير التحريري | R20: 12
B21: =VLOOKUP(C21,Sheet1!$A$1:$B$93,2) | C21: =VLOOKUP($U$8,'Nilai Syafahi'!$A$4:$Z$43,14,FALSE) -> 0 | G21: Vocabularies | L21: 50 | M21: =VLOOKUP(N21,Sheet1!$A$1:$B$93,2) | N21: =VLOOKUP($U$8,'Nilai Tahriri'!$A$2:$AK$41,14,FALSE) -> 0 | P21: تمرين اللغة العربية | R21: 13
B22: المواد الفقهية | M22: =VLOOKUP(N22,Sheet1!$A$1:$B$93,2) | N22: =VLOOKUP($U$8,'Nilai Tahriri'!$A$2:$AK$41,15,FALSE) -> 0 | P22: المطالعة | R22: 14
B23: =VLOOKUP(C23,Sheet1!$A$1:$B$93,2) | C23: =VLOOKUP($U$8,'Nilai Syafahi'!$A$4:$Z$43,15,FALSE) -> 0 | G23: قراءة القرآن | L23: 51 | M23: =VLOOKUP(N23,Sheet1!$A$1:$B$93,2) | N23: =VLOOKUP($U$8,'Nilai Tahriri'!$A$2:$AK$41,16,FALSE) -> 0 | P23: النصوص الأدبية | Q23: 12 | R23: 15
B24: =VLOOKUP(C24,Sheet1!$A$1:$B$93,2) | C24: =VLOOKUP($U$8,'Nilai Syafahi'!$A$4:$Z$43,16,FALSE) -> 0 | G24: التجويد | L24: 52 | M24: =VLOOKUP(N24,Sheet1!$A$1:$B$93,2) | N24: =VLOOKUP($U$8,'Nilai Tahriri'!$A$2:$AK$41,17,FALSE) -> 0 | P24: النحو والتطبيق | R24: 16
B25: =VLOOKUP(C25,Sheet1!$A$1:$B$93,2) | C25: =VLOOKUP($U$8,'Nilai Syafahi'!$A$4:$Z$43,17,FALSE) -> 0 | G25: حفط القرآن | L25: 53 | M25: =VLOOKUP(N25,Sheet1!$A$1:$B$93,2) | N25: =VLOOKUP($U$8,'Nilai Tahriri'!$A$2:$AK$41,18,FALSE) -> 0 | P25: الصرف والتطبيق | R25: 17
B26: =VLOOKUP(C26,Sheet1!$A$1:$B$93,2) | C26: =VLOOKUP($U$8,'Nilai Syafahi'!$A$4:$Z$43,18,FALSE) -> 0 | G26: الفقه | L26: 54 | M26: =VLOOKUP(N26,Sheet1!$A$1:$B$93,2) | N26: =VLOOKUP($U$8,'Nilai Tahriri'!$A$2:$AK$41,19,FALSE) -> 0 | P26: البلاغة | R26: 18
B27: =VLOOKUP(C27,Sheet1!$A$1:$B$93,2) | G27: Praktik Sholat | K27: ممارسة الصلاة | L27: 55 | M27: =VLOOKUP(N27,Sheet1!$A$1:$B$93,2) | P27: علم المنطق | R27: 19
B28: =VLOOKUP(C28,Sheet1!$A$1:$B$93,2) | C28: =VLOOKUP($U$8,'Nilai Syafahi'!$A$4:$Z$43,19,FALSE) -> 0 | G28: الأدعية اليومية | L28: 56 | M28: =VLOOKUP(N28,Sheet1!$A$1:$B$93,2) | P28: تا. أدب اللغة | R28: 20
B29: كتب التراث | M29: =VLOOKUP(N29,Sheet1!$A$1:$B$93,2) | N29: =VLOOKUP($U$8,'Nilai Tahriri'!$A$2:$AK$41,20,FALSE) -> 0 | P29: الإملاء | R29: 21
G30: فتح القريب | L30: 57 | M30: =VLOOKUP(N30,Sheet1!$A$1:$B$93,2) | N30: =VLOOKUP($U$8,'Nilai Tahriri'!$A$2:$AK$41,21,FALSE) -> 0 | P30: الخط العربي | R30: 22
B31: =VLOOKUP(C31,Sheet1!$A$1:$B$93,2) | G31: فتح المعين | L31: 58 | M31: =VLOOKUP(N31,Sheet1!$A$1:$B$93,2) | N31: =VLOOKUP($U$8,'Nilai Tahriri'!$A$2:$AK$41,22,FALSE) -> 0 | P31: التربية والتعليم | R31: 23
B32: =VLOOKUP(C32,Sheet1!$A$1:$B$93,2) | G32: العمريطي | L32: 59 | M32: =VLOOKUP(N32,Sheet1!$A$1:$B$93,2) | P32: التربية العملية | R32: 24
B33: =VLOOKUP(C33,Sheet1!$A$1:$B$93,2) | G33: الفية ابن مالك | L33: 60 | M33: =VLOOKUP(N33,Sheet1!$A$1:$B$93,2) | N33: =VLOOKUP($U$8,'Nilai Tahriri'!$A$2:$AK$41,23,FALSE) -> 0 | P33: روح المعهد | R33: 25
B34: =VLOOKUP($U$8,'Nilai Syafahi'!$A$4:$Z$43,20,FALSE) -> 0 | K34: الجملة | M34: =VLOOKUP(N34,Sheet1!$A$1:$B$93,2) | N34: =VLOOKUP($U$8,'Nilai Tahriri'!$A$2:$AK$41,24,FALSE) -> 0 | P34: الخطابة | R34: 26
M35: =VLOOKUP(N35,Sheet1!$A$1:$B$93,2) | N35: =VLOOKUP($U$8,'Nilai Tahriri'!$A$2:$AK$41,25,FALSE) -> 0 | O35: Bhs. Inggris | P35: الإنجليزية | R35: 27
B36: البيان | M36: =VLOOKUP(N36,Sheet1!$A$1:$B$93,2) | N36: =VLOOKUP($U$8,'Nilai Tahriri'!$A$2:$AK$41,26,FALSE) -> 0 | O36: Bhs. Indonesia | P36: الإندونيسية | R36: 28
B37: المواظبة | D37: السلوك | K37: النظافة | M37: =VLOOKUP(N37,Sheet1!$A$1:$B$93,2) | N37: =VLOOKUP($U$8,'Nilai Tahriri'!$A$2:$AK$41,27,FALSE) -> 0 | O37: Matematika | P37: الرياضية | R37: 29
B38: =VLOOKUP($U$8,Akhlak!$A$4:$J$43,6,FALSE) -> 0 | D38: =VLOOKUP($U$8,Akhlak!$A$4:$J$43,5,FALSE) -> 0 | K38: =VLOOKUP($U$8,Akhlak!$A$4:$J$43,4,FALSE) -> 0 | M38: =VLOOKUP(N38,Sheet1!$A$1:$B$93,2) | N38: =VLOOKUP($U$8,'Nilai Tahriri'!$A$2:$AK$41,28,FALSE) -> 0 | O38: Fisika | P38: الفيزياء | R38: 30
B39: أيام الغياب | M39: =VLOOKUP(N39,Sheet1!$A$1:$B$93,2) | N39: =VLOOKUP($U$8,'Nilai Tahriri'!$A$2:$AK$41,29,FALSE) -> 0 | O39: Biologi | P39: البيولوجيا | R39: 31
B40: لآخر | D40: لاسـتئذان | K40: لمرض | M40: =VLOOKUP(N40,Sheet1!$A$1:$B$93,2) | N40: =VLOOKUP($U$8,'Nilai Tahriri'!$A$2:$AK$41,30,FALSE) -> 0 | O40: Kimia | P40: الكيمياء | R40: 32
B41: =VLOOKUP($U$8,Akhlak!$A$4:$J$43,9,FALSE) -> 0 | D41: =VLOOKUP($U$8,Akhlak!$A$4:$J$43,8,FALSE) -> 0 | K41: =VLOOKUP($U$8,Akhlak!$A$4:$J$43,7,FALSE) -> 0 | M41: =VLOOKUP(N41,Sheet1!$A$1:$B$93,2) | N41: =VLOOKUP($U$8,'Nilai Tahriri'!$A$2:$AK$41,31,FALSE) -> 0 | O41: Geografi | P41: الجغرافيا | R41: 33
B42: مستوى التفوق | D42: التقدير العام | M42: =VLOOKUP(N42,Sheet1!$A$1:$B$93,2) | N42: =VLOOKUP($U$8,'Nilai Tahriri'!$A$2:$AK$41,32,FALSE) -> 0 | O42: Sosiologi | P42: سوسيولوجيا | R42: 34
B43: =VLOOKUP($U$8,'Nilai Syafahi'!$A$4:$Z$43,25,FALSE) -> 1 | D43: =VLOOKUP($U$8,'Nilai Syafahi'!$A$4:$Z$43,24,FALSE) -> #DIV/0! | K43: =VLOOKUP($U$8,'Nilai Syafahi'!$A$4:$Z$43,23,FALSE) -> 0 | M43: =VLOOKUP(N43,Sheet1!$A$1:$B$93,2) | N43: =VLOOKUP($U$8,'Nilai Tahriri'!$A$2:$AK$41,33,FALSE) -> 0 | O43: Ekonomi | P43: الإقتصادية | R43: 35
M44: =VLOOKUP(N44,Sheet1!$A$1:$B$93,2) | N44: =VLOOKUP($U$8,'Nilai Tahriri'!$A$2:$AK$41,34,FALSE) -> 0 | O44: PPKN | P44: التربية الوطنية | R44: 36
B45: النقد | M45: =VLOOKUP(N45,Sheet1!$A$1:$B$93,2) | N45: =VLOOKUP($U$8,'Nilai Tahriri'!$A$2:$AK$41,35,FALSE) -> 0 | O45: Sej. Indonesia | P45: تاريخ إندونيسيا | R45: 37
B46: =VLOOKUP($U$8,Akhlak!$A$4:$J$43,10,FALSE) -> 0 | M46: =VLOOKUP(N46,Sheet1!$A$1:$B$93,2) | O46: Sej. Umum | P46: تاريخ العام | R46: 38
M47: =VLOOKUP(N47,Sheet1!$A$1:$B$93,2) | N47: =VLOOKUP($U$8,'Nilai Tahriri'!$A$2:$AK$41,36,FALSE) -> 0 | O47: Komputer | P47: كمبيوتر | R47: 39
B48: - | K48: الملاحظة | M48: =VLOOKUP($U$8,'Nilai Tahriri'!$A$2:$AK$41,37,FALSE) -> 0 | N48: =VLOOKUP($U$8,'Nilai Tahriri'!$A$2:$AK$41,41,FALSE) -> #REF! | O48: =VLOOKUP($U$8,'Nilai Tahriri'!$A$2:$AK$41,41,FALSE) -> #REF! | P48: الجملة
M50: =Biodata!$C$13 -> ١٦ من رجب سنة ١٤٤٧ ه | Q50: تحريرا بسـيرانج في :
M51: =Biodata!$C$14 -> ٠٥ من يناير سنة ٢٠٢٦ م
Q52: يعتمد عليه,
B53: ولي الأمر | O53: ولي الفصل
K54: مدير المدرسة
O56: =Biodata!$C$19 -> 0
K58: =Biodata!$C$16 -> كياهى الحاج شهاب المعي

Sheet Rekap Nilai
A1: REKAP NILAI UJIAN
A3: =Biodata!C4 -> الخامس ب للبنات
A5: No | B5: Nama | C5: No Ujian | D5: Jumlah Nilai | E5: Nilai Rata-Rata | F5: Peringkat | G5: Keterangan
A6: 1 | B6: ='Data Siswa'!B2 -> AIRA SINDY | C6: ='Data Siswa'!C2 -> 887 | D6: ='Nilai Syafahi'!W4 -> 0 | E6: ='Nilai Syafahi'!X4 -> #DIV/0! | F6: ='Nilai Syafahi'!Y4 -> 1 | G6: ='Nilai Syafahi'!Z4 -> -
A7: 2 | B7: ='Data Siswa'!B3 -> ALMAYRA AZIZAH FITRIA | C7: ='Data Siswa'!C3 -> 888 | D7: ='Nilai Syafahi'!W5 -> 0 | E7: ='Nilai Syafahi'!X5 -> #DIV/0! | F7: ='Nilai Syafahi'!Y5 -> 1 | G7: ='Nilai Syafahi'!Z5 -> -
A8: 3 | B8: ='Data Siswa'!B4 -> AMELIA AGUSTINA | C8: ='Data Siswa'!C4 -> 889 | D8: ='Nilai Syafahi'!W6 -> 0 | E8: ='Nilai Syafahi'!X6 -> #DIV/0! | F8: ='Nilai Syafahi'!Y6 -> 1 | G8: ='Nilai Syafahi'!Z6 -> -
A9: 4 | B9: ='Data Siswa'!B5 -> ATHILLA SYAMILYA | C9: ='Data Siswa'!C5 -> 890 | D9: ='Nilai Syafahi'!W7 -> 0 | E9: ='Nilai Syafahi'!X7 -> #DIV/0! | F9: ='Nilai Syafahi'!Y7 -> 1 | G9: ='Nilai Syafahi'!Z7 -> -
A10: 5 | B10: ='Data Siswa'!B6 -> AURA BILQIS NURRAJABY | C10: ='Data Siswa'!C6 -> 891 | D10: ='Nilai Syafahi'!W8 -> 0 | E10: ='Nilai Syafahi'!X8 -> #DIV/0! | F10: ='Nilai Syafahi'!Y8 -> 1 | G10: ='Nilai Syafahi'!Z8 -> -
A11: 6 | B11: ='Data Siswa'!B7 -> BALQIS INSANI SAFITRI | C11: ='Data Siswa'!C7 -> 892 | D11: ='Nilai Syafahi'!W9 -> 0 | E11: ='Nilai Syafahi'!X9 -> #DIV/0! | F11: ='Nilai Syafahi'!Y9 -> 1 | G11: ='Nilai Syafahi'!Z9 -> -
A12: 7 | B12: ='Data Siswa'!B8 -> DESTYANA VIDIAWAN | C12: ='Data Siswa'!C8 -> 893 | D12: ='Nilai Syafahi'!W10 -> 0 | E12: ='Nilai Syafahi'!X10 -> #DIV/0! | F12: ='Nilai Syafahi'!Y10 -> 1 | G12: ='Nilai Syafahi'!Z10 -> -
A13: 8 | B13: ='Data Siswa'!B9 -> DWI NURAINI | C13: ='Data Siswa'!C9 -> 894 | D13: ='Nilai Syafahi'!W11 -> 0 | E13: ='Nilai Syafahi'!X11 -> #DIV/0! | F13: ='Nilai Syafahi'!Y11 -> 1 | G13: ='Nilai Syafahi'!Z11 -> -
A14: 9 | B14: ='Data Siswa'!B10 -> FADZILA ULYA NAYIRA | C14: ='Data Siswa'!C10 -> 895 | D14: ='Nilai Syafahi'!W12 -> 0 | E14: ='Nilai Syafahi'!X12 -> #DIV/0! | F14: ='Nilai Syafahi'!Y12 -> 1 | G14: ='Nilai Syafahi'!Z12 -> -
A15: 10 | B15: ='Data Siswa'!B11 -> FIORENZA FAUZIYYAH | C15: ='Data Siswa'!C11 -> 896 | D15: ='Nilai Syafahi'!W13 -> 0 | E15: ='Nilai Syafahi'!X13 -> #DIV/0! | F15: ='Nilai Syafahi'!Y13 -> 1 | G15: ='Nilai Syafahi'!Z13 -> -
A16: 11 | B16: ='Data Siswa'!B12 -> HEPITA TIARA ANISA | C16: ='Data Siswa'!C12 -> 897 | D16: ='Nilai Syafahi'!W14 -> 0 | E16: ='Nilai Syafahi'!X14 -> #DIV/0! | F16: ='Nilai Syafahi'!Y14 -> 1 | G16: ='Nilai Syafahi'!Z14 -> -
A17: 12 | B17: ='Data Siswa'!B13 -> HERLINA PUTRI | C17: ='Data Siswa'!C13 -> 898 | D17: ='Nilai Syafahi'!W15 -> 0 | E17: ='Nilai Syafahi'!X15 -> #DIV/0! | F17: ='Nilai Syafahi'!Y15 -> 1 | G17: ='Nilai Syafahi'!Z15 -> -
... A45: 40 | B45: ='Data Siswa'!B41 -> 0 | C45: ='Data Siswa'!C41 -> 0 | D45: ='Nilai Syafahi'!W43 -> 0 | E45: ='Nilai Syafahi'!X43 -> #DIV/0! | F45: ='Nilai Syafahi'!Y43 -> 1 | G45: ='Nilai Syafahi'!Z43 -> -
E47: ولي الفصل
E50: =Biodata!C19 -> 0

Sheet Sheet1
A2: 0
A3: 1 | B3: واحد
A4: 1.1 | B4: واحد و واحد
A5: 1.2 | B5: واحد و اثنين
A6: 1.3 | B6: واحد و ثلاث
A7: 1.4 | B7: واحد و اربع
A8: 1.5 | B8: واحد و نصف
A9: 1.6 | B9: واحد و ست
A10: 1.7 | B10: واحد و سبع
A11: 1.8 | B11: واحد و ثمان
A12: 1.9 | B12: واحد و تسع
A13: 2 | B13: اثنين
A14: 2.1 | B14: اثنين و واحد
... A93: 10 | B93: عشر
