Workbook
Name nilai: 'Nilai Tahriri'!$B$2:$X$27

Sheet Identitas
C2: NAMA WALI KELAS
C4: KELAS
C6: SEMESTER
C8: TAHUN PELAJARAN
C10: TANGGAL HIJRIYAH
C12: TANGGAL MILADIYAH

Sheet Biodata
C1: IDENTITAS RAPOT
B4: =CONCATENATE(F4," ",E4," ",C4) -> الصف : الأوّل أ للبنين | C4: الأوّل أ للبنين | E4: : | F4: الصف | G4: 1
F5: ( Kelas )
B7: =CONCATENATE(F7," ",E7," ",C7) -> الفصل الدراسي : الثاني | C7: الثاني | E7: : | F7: الفصل الدراسي | G7: 2
F8: ( Semester )
B10: =CONCATENATE(F10," : ") -> العام الدراسي : | C10: ٢٠٢٥ - ٢٠٢٦ | E10: : | F10: العام الدراسي | G10: 3
B11: =CONCATENATE(C10," ","م") -> ٢٠٢٥ - ٢٠٢٦ م | C11: ١٤٤٦ - ١٤٤٧ | F11: ( Tahun Pelajaran )
B12: =CONCATENATE(C11," ","ه") -> ١٤٤٦ - ١٤٤٧ ه
C13: ١٩ من محرم سنة ١٤٤٨ ه | E13: : | F13: تحريرا بسـيرانج في | G13: 4
C14: ٤٠ من يوليو سنة ٢٠٢٦ م | F14: ( Tanggal Rapot )
C16: الأستاذ الحاج أحمد مهيمن الماجستير | E16: : | F16: مدير المدرسة | G16: 5
F17: ( Nama Kepala Sekolah )
E19: : | F19: ولي الفصل | G19: 6
F20: ( Nama Wali Kelas )

Sheet Data Siswa
A1: No | B1: Nama | C1: No Exam | D1: Nama Arab
A2: 1 | B2: AGIS NAZIULLAH | C2: 001
A3: 2 | B3: ARKAN RIZKI RAMADHAN | C3: 002
A4: 3 | B4: ERFAN ADI PUTRA | C4: 003
A5: 4 | B5: FAIREL ATHARIZZ CALIEF | C5: 004
A6: 5 | B6: FIRMAN NUR FEBRIAN | C6: 005
A7: 6 | B7: HAFIS ADITYA AZHAR | C7: 006
A8: 7 | B8: HANIF DWI TRIANA | C8: 007
A9: 8 | B9: MUHAMMAD AGIL AL GIFFARI | C9: 008
A10: 9 | B10: MUHAMMAD FATHIR SYAHRULLAH | C10: 009
A11: 10 | B11: MUHAMMAD NIZAM EL-FATH | C11: 010
A12: 11 | B12: MUHAMMAD RHAFHA KHALIFI | C12: 011
A13: 12 | B13: MUHAMMAD TAJUL ARIFIN | C13: 012
... A19: 18 | B19: YUSUF MARADIKA PRATAMA | C19: 018
A20: 19
A21: 20
A22: 21
A23: 22
A24: 23
A25: 24
A26: 25
A27: 26
A28: 27
A29: 28
A30: 29
A31: 30
... A41: 40

Sheet Nilai Tahriri
A1: No | B1: Nama | C1: No Ujian | D1: علم التجويد | E1: التفسير | F1: الحديث | G1: الفقه | H1: التوحيد | I1: التاريخ الإسلام | J1: الإنشاء | K1: تمرين اللغة | L1: المطالعة | M1: المحفوظات | N1: الإملاء | O1: الخط | P1: روح المعهد | Q1: الخطابة | R1: B. Inggris | S1: B. Indonesia | T1: Matematika | U1: IPA | V1: IPS | W1: PPKN | X1: Jumlah Nilai | Y1: Nilai Rata2
A2: ='Data Siswa'!A2 -> 1 | B2: ='Data Siswa'!B2 -> AGIS NAZIULLAH | C2: ='Data Siswa'!C2 -> 001 | X2: =SUM(D2:W2) -> 0 | Y2: =AVERAGE(D2:W2) -> #DIV/0!
A3: ='Data Siswa'!A3 -> 2 | B3: ='Data Siswa'!B3 -> ARKAN RIZKI RAMADHAN | C3: ='Data Siswa'!C3 -> 002 | X3: =SUM(D3:W3) -> 0 | Y3: =AVERAGE(D3:W3) -> #DIV/0!
A4: ='Data Siswa'!A4 -> 3 | B4: ='Data Siswa'!B4 -> ERFAN ADI PUTRA | C4: ='Data Siswa'!C4 -> 003 | X4: =SUM(D4:W4) -> 0 | Y4: =AVERAGE(D4:W4) -> #DIV/0!
A5: ='Data Siswa'!A5 -> 4 | B5: ='Data Siswa'!B5 -> FAIREL ATHARIZZ CALIEF | C5: ='Data Siswa'!C5 -> 004 | X5: =SUM(D5:W5) -> 0 | Y5: =AVERAGE(D5:W5) -> #DIV/0!
A6: ='Data Siswa'!A6 -> 5 | B6: ='Data Siswa'!B6 -> FIRMAN NUR FEBRIAN | C6: ='Data Siswa'!C6 -> 005 | X6: =SUM(D6:W6) -> 0 | Y6: =AVERAGE(D6:W6) -> #DIV/0!
A7: ='Data Siswa'!A7 -> 6 | B7: ='Data Siswa'!B7 -> HAFIS ADITYA AZHAR | C7: ='Data Siswa'!C7 -> 006 | X7: =SUM(D7:W7) -> 0 | Y7: =AVERAGE(D7:W7) -> #DIV/0!
A8: ='Data Siswa'!A8 -> 7 | B8: ='Data Siswa'!B8 -> HANIF DWI TRIANA | C8: ='Data Siswa'!C8 -> 007 | X8: =SUM(D8:W8) -> 0 | Y8: =AVERAGE(D8:W8) -> #DIV/0!
A9: ='Data Siswa'!A9 -> 8 | B9: ='Data Siswa'!B9 -> MUHAMMAD AGIL AL GIFFARI | C9: ='Data Siswa'!C9 -> 008 | X9: =SUM(D9:W9) -> 0 | Y9: =AVERAGE(D9:W9) -> #DIV/0!
A10: ='Data Siswa'!A10 -> 9 | B10: ='Data Siswa'!B10 -> MUHAMMAD FATHIR SYAHRULLAH | C10: ='Data Siswa'!C10 -> 009 | X10: =SUM(D10:W10) -> 0 | Y10: =AVERAGE(D10:W10) -> #DIV/0!
A11: ='Data Siswa'!A11 -> 10 | B11: ='Data Siswa'!B11 -> MUHAMMAD NIZAM EL-FATH | C11: ='Data Siswa'!C11 -> 010 | X11: =SUM(D11:W11) -> 0 | Y11: =AVERAGE(D11:W11) -> #DIV/0!
A12: ='Data Siswa'!A12 -> 11 | B12: ='Data Siswa'!B12 -> MUHAMMAD RHAFHA KHALIFI | C12: ='Data Siswa'!C12 -> 011 | X12: =SUM(D12:W12) -> 0 | Y12: =AVERAGE(D12:W12) -> #DIV/0!
A13: ='Data Siswa'!A13 -> 12 | B13: ='Data Siswa'!B13 -> MUHAMMAD TAJUL ARIFIN | C13: ='Data Siswa'!C13 -> 012 | X13: =SUM(D13:W13) -> 0 | Y13: =AVERAGE(D13:W13) -> #DIV/0!
... A41: ='Data Siswa'!A41 -> 40 | B41: ='Data Siswa'!B41 -> 0 | C41: ='Data Siswa'!C41 -> 0 | X41: =SUM(D41:W41) -> 0 | Y41: =AVERAGE(D41:W41) -> #DIV/0!

Sheet Nilai Syafahi
A1: Biodata | D1: Nilai Ujian Syafahi | T1: Nilai Keseluruhan | W1: Keterangan
A2: No | B2: Nama Lengkap | C2: No Ujian | D2: اللغة العربية | H2: اللغة الانجليزية | K2: المواد الفقهية | Q2: الجملة | R2: Rata-Rata | T2: التقدير العام | U2: Rata-Rata | V2: مستوي التفوق | W2: الملاحظة
D3: الانشاء | E3: المطالعة | F3: النصوص الأدبية | G3: المحادثة العربية | H3: Conversation | I3: Reading | J3: Vocabularies | K3: قراءة القرآن | L3: التجويد | M3: حفظ القرآن | N3: الفقه | O3: Praktik Sholat | P3: الأدعيه اليومية
A4: ='Data Siswa'!A2 -> 1 | B4: ='Data Siswa'!B2 -> AGIS NAZIULLAH | C4: ='Data Siswa'!C2 -> 001 | Q4: =SUM(D4:P4) -> 0 | R4: =AVERAGE(D4:P4) -> #DIV/0! | T4: =SUM('Nilai Tahriri'!X2,'Nilai Syafahi'!Q4) -> 0 | U4: =AVERAGE(D4:P4,'Nilai Tahriri'!D2:W2) -> #DIV/0! | V4: {=SUM(IF(T4<OFFSET($T$4,0,0,COUNT(T:T),1),1/COUNTIF(OFFSET($T$4,0,0,COUNT(T:T),1),OFFSET($T$4,0,0,COUNT(T:T),1))))+1} -> 1 | W4: =IF(U4<=4.5,"غيرمنقول",IF(AND(U4>4.5,U4<=5.5),"منقول مؤقت",IF(U4>5.5,"منقول"))) -> #DIV/0!
A5: ='Data Siswa'!A3 -> 2 | B5: ='Data Siswa'!B3 -> ARKAN RIZKI RAMADHAN | C5: ='Data Siswa'!C3 -> 002 | Q5: =SUM(D5:P5) -> 0 | R5: =AVERAGE(D5:P5) -> #DIV/0! | T5: =SUM('Nilai Tahriri'!X3,'Nilai Syafahi'!Q5) -> 0 | U5: =AVERAGE(D5:P5,'Nilai Tahriri'!D3:W3) -> #DIV/0! | V5: {=SUM(IF(T5<OFFSET($T$4,0,0,COUNT(T:T),1),1/COUNTIF(OFFSET($T$4,0,0,COUNT(T:T),1),OFFSET($T$4,0,0,COUNT(T:T),1))))+1} -> 1 | W5: =IF(U5<=4.5,"غيرمنقول",IF(AND(U5>4.5,U5<=5.5),"منقول مؤقت",IF(U5>5.5,"منقول"))) -> #DIV/0!
A6: ='Data Siswa'!A4 -> 3 | B6: ='Data Siswa'!B4 -> ERFAN ADI PUTRA | C6: ='Data Siswa'!C4 -> 003 | Q6: =SUM(D6:P6) -> 0 | R6: =AVERAGE(D6:P6) -> #DIV/0! | T6: =SUM('Nilai Tahriri'!X4,'Nilai Syafahi'!Q6) -> 0 | U6: =AVERAGE(D6:P6,'Nilai Tahriri'!D4:W4) -> #DIV/0! | V6: {=SUM(IF(T6<OFFSET($T$4,0,0,COUNT(T:T),1),1/COUNTIF(OFFSET($T$4,0,0,COUNT(T:T),1),OFFSET($T$4,0,0,COUNT(T:T),1))))+1} -> 1 | W6: =IF(U6<=4.5,"غيرمنقول",IF(AND(U6>4.5,U6<=5.5),"منقول مؤقت",IF(U6>5.5,"منقول"))) -> #DIV/0!
A7: ='Data Siswa'!A5 -> 4 | B7: ='Data Siswa'!B5 -> FAIREL ATHARIZZ CALIEF | C7: ='Data Siswa'!C5 -> 004 | Q7: =SUM(D7:P7) -> 0 | R7: =AVERAGE(D7:P7) -> #DIV/0! | T7: =SUM('Nilai Tahriri'!X5,'Nilai Syafahi'!Q7) -> 0 | U7: =AVERAGE(D7:P7,'Nilai Tahriri'!D5:W5) -> #DIV/0! | V7: {=SUM(IF(T7<OFFSET($T$4,0,0,COUNT(T:T),1),1/COUNTIF(OFFSET($T$4,0,0,COUNT(T:T),1),OFFSET($T$4,0,0,COUNT(T:T),1))))+1} -> 1 | W7: =IF(U7<=4.5,"غيرمنقول",IF(AND(U7>4.5,U7<=5.5),"منقول مؤقت",IF(U7>5.5,"منقول"))) -> #DIV/0!
A8: ='Data Siswa'!A6 -> 5 | B8: ='Data Siswa'!B6 -> FIRMAN NUR FEBRIAN | C8: ='Data Siswa'!C6 -> 005 | Q8: =SUM(D8:P8) -> 0 | R8: =AVERAGE(D8:P8) -> #DIV/0! | T8: =SUM('Nilai Tahriri'!X6,'Nilai Syafahi'!Q8) -> 0 | U8: =AVERAGE(D8:P8,'Nilai Tahriri'!D6:W6) -> #DIV/0! | V8: {=SUM(IF(T8<OFFSET($T$4,0,0,COUNT(T:T),1),1/COUNTIF(OFFSET($T$4,0,0,COUNT(T:T),1),OFFSET($T$4,0,0,COUNT(T:T),1))))+1} -> 1 | W8: =IF(U8<=4.5,"غيرمنقول",IF(AND(U8>4.5,U8<=5.5),"منقول مؤقت",IF(U8>5.5,"منقول"))) -> #DIV/0!
A9: ='Data Siswa'!A7 -> 6 | B9: ='Data Siswa'!B7 -> HAFIS ADITYA AZHAR | C9: ='Data Siswa'!C7 -> 006 | Q9: =SUM(D9:P9) -> 0 | R9: =AVERAGE(D9:P9) -> #DIV/0! | T9: =SUM('Nilai Tahriri'!X7,'Nilai Syafahi'!Q9) -> 0 | U9: =AVERAGE(D9:P9,'Nilai Tahriri'!D7:W7) -> #DIV/0! | V9: {=SUM(IF(T9<OFFSET($T$4,0,0,COUNT(T:T),1),1/COUNTIF(OFFSET($T$4,0,0,COUNT(T:T),1),OFFSET($T$4,0,0,COUNT(T:T),1))))+1} -> 1 | W9: =IF(U9<=4.5,"غيرمنقول",IF(AND(U9>4.5,U9<=5.5),"منقول مؤقت",IF(U9>5.5,"منقول"))) -> #DIV/0!
A10: ='Data Siswa'!A8 -> 7 | B10: ='Data Siswa'!B8 -> HANIF DWI TRIANA | C10: ='Data Siswa'!C8 -> 007 | Q10: =SUM(D10:P10) -> 0 | R10: =AVERAGE(D10:P10) -> #DIV/0! | T10: =SUM('Nilai Tahriri'!X8,'Nilai Syafahi'!Q10) -> 0 | U10: =AVERAGE(D10:P10,'Nilai Tahriri'!D8:W8) -> #DIV/0! | V10: {=SUM(IF(T10<OFFSET($T$4,0,0,COUNT(T:T),1),1/COUNTIF(OFFSET($T$4,0,0,COUNT(T:T),1),OFFSET($T$4,0,0,COUNT(T:T),1))))+1} -> 1 | W10: =IF(U10<=4.5,"غيرمنقول",IF(AND(U10>4.5,U10<=5.5),"منقول مؤقت",IF(U10>5.5,"منقول"))) -> #DIV/0!
A11: ='Data Siswa'!A9 -> 8 | B11: ='Data Siswa'!B9 -> MUHAMMAD AGIL AL GIFFARI | C11: ='Data Siswa'!C9 -> 008 | Q11: =SUM(D11:P11) -> 0 | R11: =AVERAGE(D11:P11) -> #DIV/0! | T11: =SUM('Nilai Tahriri'!X9,'Nilai Syafahi'!Q11) -> 0 | U11: =AVERAGE(D11:P11,'Nilai Tahriri'!D9:W9) -> #DIV/0! | V11: {=SUM(IF(T11<OFFSET($T$4,0,0,COUNT(T:T),1),1/COUNTIF(OFFSET($T$4,0,0,COUNT(T:T),1),OFFSET($T$4,0,0,COUNT(T:T),1))))+1} -> 1 | W11: =IF(U11<=4.5,"غيرمنقول",IF(AND(U11>4.5,U11<=5.5),"منقول مؤقت",IF(U11>5.5,"منقول"))) -> #DIV/0!
A12: ='Data Siswa'!A10 -> 9 | B12: ='Data Siswa'!B10 -> MUHAMMAD FATHIR SYAHRULLAH | C12: ='Data Siswa'!C10 -> 009 | Q12: =SUM(D12:P12) -> 0 | R12: =AVERAGE(D12:P12) -> #DIV/0! | T12: =SUM('Nilai Tahriri'!X10,'Nilai Syafahi'!Q12) -> 0 | U12: =AVERAGE(D12:P12,'Nilai Tahriri'!D10:W10) -> #DIV/0! | V12: {=SUM(IF(T12<OFFSET($T$4,0,0,COUNT(T:T),1),1/COUNTIF(OFFSET($T$4,0,0,COUNT(T:T),1),OFFSET($T$4,0,0,COUNT(T:T),1))))+1} -> 1 | W12: =IF(U12<=4.5,"غيرمنقول",IF(AND(U12>4.5,U12<=5.5),"منقول مؤقت",IF(U12>5.5,"منقول"))) -> #DIV/0!
A13: ='Data Siswa'!A11 -> 10 | B13: ='Data Siswa'!B11 -> MUHAMMAD NIZAM EL-FATH | C13: ='Data Siswa'!C11 -> 010 | Q13: =SUM(D13:P13) -> 0 | R13: =AVERAGE(D13:P13) -> #DIV/0! | T13: =SUM('Nilai Tahriri'!X11,'Nilai Syafahi'!Q13) -> 0 | U13: =AVERAGE(D13:P13,'Nilai Tahriri'!D11:W11) -> #DIV/0! | V13: {=SUM(IF(T13<OFFSET($T$4,0,0,COUNT(T:T),1),1/COUNTIF(OFFSET($T$4,0,0,COUNT(T:T),1),OFFSET($T$4,0,0,COUNT(T:T),1))))+1} -> 1 | W13: =IF(U13<=4.5,"غيرمنقول",IF(AND(U13>4.5,U13<=5.5),"منقول مؤقت",IF(U13>5.5,"منقول"))) -> #DIV/0!
A14: ='Data Siswa'!A12 -> 11 | B14: ='Data Siswa'!B12 -> MUHAMMAD RHAFHA KHALIFI | C14: ='Data Siswa'!C12 -> 011 | Q14: =SUM(D14:P14) -> 0 | R14: =AVERAGE(D14:P14) -> #DIV/0! | T14: =SUM('Nilai Tahriri'!X12,'Nilai Syafahi'!Q14) -> 0 | U14: =AVERAGE(D14:P14,'Nilai Tahriri'!D12:W12) -> #DIV/0! | V14: {=SUM(IF(T14<OFFSET($T$4,0,0,COUNT(T:T),1),1/COUNTIF(OFFSET($T$4,0,0,COUNT(T:T),1),OFFSET($T$4,0,0,COUNT(T:T),1))))+1} -> 1 | W14: =IF(U14<=4.5,"غيرمنقول",IF(AND(U14>4.5,U14<=5.5),"منقول مؤقت",IF(U14>5.5,"منقول"))) -> #DIV/0!
A15: ='Data Siswa'!A13 -> 12 | B15: ='Data Siswa'!B13 -> MUHAMMAD TAJUL ARIFIN | C15: ='Data Siswa'!C13 -> 012 | Q15: =SUM(D15:P15) -> 0 | R15: =AVERAGE(D15:P15) -> #DIV/0! | T15: =SUM('Nilai Tahriri'!X13,'Nilai Syafahi'!Q15) -> 0 | U15: =AVERAGE(D15:P15,'Nilai Tahriri'!D13:W13) -> #DIV/0! | V15: {=SUM(IF(T15<OFFSET($T$4,0,0,COUNT(T:T),1),1/COUNTIF(OFFSET($T$4,0,0,COUNT(T:T),1),OFFSET($T$4,0,0,COUNT(T:T),1))))+1} -> 1 | W15: =IF(U15<=4.5,"غيرمنقول",IF(AND(U15>4.5,U15<=5.5),"منقول مؤقت",IF(U15>5.5,"منقول"))) -> #DIV/0!
... A43: ='Data Siswa'!A41 -> 40 | B43: ='Data Siswa'!B41 -> 0 | C43: ='Data Siswa'!C41 -> 0 | Q43: =SUM(D43:P43) -> 0 | R43: =AVERAGE(D43:P43) -> #DIV/0! | T43: =SUM('Nilai Tahriri'!X41,'Nilai Syafahi'!Q43) -> 0 | U43: =AVERAGE(D43:P43,'Nilai Tahriri'!D41:W41) -> #DIV/0! | V43: {=SUM(IF(T43<OFFSET($T$4,0,0,COUNT(T:T),1),1/COUNTIF(OFFSET($T$4,0,0,COUNT(T:T),1),OFFSET($T$4,0,0,COUNT(T:T),1))))+1} -> 1 | W43: =IF(U43<=4.5,"غيرمنقول",IF(AND(U43>4.5,U43<=5.5),"منقول مؤقت",IF(U43>5.5,"منقول"))) -> #DIV/0!

Sheet Akhlak
A1: Biodata | D1: Akhlak
A2: No | B2: Nama Lengkap | C2: No Ujian | D2: البيان | G2: ايام الغيابة | J2: Catatan Wali Kelas Untuk Siswa
D3: النظافة | E3: السلك | F3: المواظبة | G3: لمرض | H3: لاستذان | I3: لآخر | J3: النقد
A4: ='Data Siswa'!A2 -> 1 | B4: ='Data Siswa'!B2 -> AGIS NAZIULLAH | C4: ='Data Siswa'!C2 -> 001
A5: ='Data Siswa'!A3 -> 2 | B5: ='Data Siswa'!B3 -> ARKAN RIZKI RAMADHAN | C5: ='Data Siswa'!C3 -> 002
A6: ='Data Siswa'!A4 -> 3 | B6: ='Data Siswa'!B4 -> ERFAN ADI PUTRA | C6: ='Data Siswa'!C4 -> 003
A7: ='Data Siswa'!A5 -> 4 | B7: ='Data Siswa'!B5 -> FAIREL ATHARIZZ CALIEF | C7: ='Data Siswa'!C5 -> 004
A8: ='Data Siswa'!A6 -> 5 | B8: ='Data Siswa'!B6 -> FIRMAN NUR FEBRIAN | C8: ='Data Siswa'!C6 -> 005
A9: ='Data Siswa'!A7 -> 6 | B9: ='Data Siswa'!B7 -> HAFIS ADITYA AZHAR | C9: ='Data Siswa'!C7 -> 006
A10: ='Data Siswa'!A8 -> 7 | B10: ='Data Siswa'!B8 -> HANIF DWI TRIANA | C10: ='Data Siswa'!C8 -> 007
A11: ='Data Siswa'!A9 -> 8 | B11: ='Data Siswa'!B9 -> MUHAMMAD AGIL AL GIFFARI | C11: ='Data Siswa'!C9 -> 008
A12: ='Data Siswa'!A10 -> 9 | B12: ='Data Siswa'!B10 -> MUHAMMAD FATHIR SYAHRULLAH | C12: ='Data Siswa'!C10 -> 009
A13: ='Data Siswa'!A11 -> 10 | B13: ='Data Siswa'!B11 -> MUHAMMAD NIZAM EL-FATH | C13: ='Data Siswa'!C11 -> 010
A14: ='Data Siswa'!A12 -> 11 | B14: ='Data Siswa'!B12 -> MUHAMMAD RHAFHA KHALIFI | C14: ='Data Siswa'!C12 -> 011
A15: ='Data Siswa'!A13 -> 12 | B15: ='Data Siswa'!B13 -> MUHAMMAD TAJUL ARIFIN | C15: ='Data Siswa'!C13 -> 012
... A43: ='Data Siswa'!A41 -> 40 | B43: ='Data Siswa'!B41 -> 0 | C43: ='Data Siswa'!C41 -> 0

Sheet Rapot
B1: =VLOOKUP($U$8,'Nilai Tahriri'!$A$2:$X$41,2,FALSE)&" ( "&VLOOKUP($U$8,'Data Siswa'!$A$2:$D$41,3,FALSE)&" )" -> AGIS NAZIULLAH ( 001 )
B3: =Biodata!$B$12 -> ١٤٤٦ - ١٤٤٧ ه | D3: =Biodata!$B$10 -> العام الدراسي : | K3: =Biodata!$B$7 -> الفصل الدراسي : الثاني | M3: =Biodata!$B$4 -> الصف : الأوّل أ للبنين | O3: =(VLOOKUP($U$8,'Data Siswa'!$A$2:$D$41,4,FALSE)) | R3: الإسم :
B4: =Biodata!$B$11 -> ٢٠٢٥ - ٢٠٢٦ م
B6: الدرجة الكبرى ٨, الدرجة الصغرى ٤ | L6: مسـلسـل | M6: الدرجة الكبرى ٨, الدرجة الصغرى ٤ | R6: مسـلسـل
B7: الدرجة المكتسبة | G7: المواد الشفهية | M7: الدرجة المكتسبة | O7: المواد التحريرية | U7: HALAMAN
B8: كتابة | C8: رقم | M8: كتابة | N8: رقم | U8: 1
B9: اللغة العربية | M9: =VLOOKUP(N9,Sheet1!$A$1:$B$93,2) | N9: =VLOOKUP($U$8,'Nilai Tahriri'!$A$2:$X$41,4,FALSE) -> 0 | P9: علم التجويد | R9: 1
B10: =VLOOKUP(C10,Sheet1!$A$1:$B$93,2) | C10: =VLOOKUP($U$8,'Nilai Syafahi'!$A$4:$W$43,4,FALSE) -> 0 | G10: الإنشاء \ التعبير الشفهي | L10: 40 | M10: =VLOOKUP(N10,Sheet1!$A$1:$B$93,2) | N10: =VLOOKUP($U$8,'Nilai Tahriri'!$A$2:$X$41,5,FALSE) -> 0 | P10: التفسير | R10: 2 | U10: Awal | V10: 1
B11: =VLOOKUP(C11,Sheet1!$A$1:$B$93,2) | K11: النحو | L11: 41 | M11: =VLOOKUP(N11,Sheet1!$A$1:$B$93,2) | N11: =VLOOKUP($U$8,'Nilai Tahriri'!$A$2:$X$41,6,FALSE) -> 0 | P11: الحديث | R11: 3
B12: =VLOOKUP(C12,Sheet1!$A$1:$B$93,2) | K12: الصرف | L12: 42 | M12: =VLOOKUP(N12,Sheet1!$A$1:$B$93,2) | P12: مصطلح الحديث | R12: 4 | U12: Akhir | V12: 29
B13: =VLOOKUP(C13,Sheet1!$A$1:$B$93,2) | C13: =VLOOKUP($U$8,'Nilai Syafahi'!$A$4:$W$43,5,FALSE) -> 0 | K13: المطالعة | L13: 43 | M13: =VLOOKUP(N13,Sheet1!$A$1:$B$93,2) | N13: =VLOOKUP($U$8,'Nilai Tahriri'!$A$2:$X$41,7,FALSE) -> 0 | P13: الفقه | R13: 5
B14: =VLOOKUP(C14,Sheet1!$A$1:$B$93,2) | C14: =VLOOKUP($U$8,'Nilai Syafahi'!$A$4:$W$43,6,FALSE) -> 0 | K14: النصوص الأدبية | L14: 44 | M14: =VLOOKUP(N14,Sheet1!$A$1:$B$93,2) | P14: أصول الفقه | R14: 6
B15: =VLOOKUP(C15,Sheet1!$A$1:$B$93,2) | C15: =VLOOKUP($U$8,'Nilai Syafahi'!$A$4:$W$43,7,FALSE) -> 0 | K15: المحادثة العربية | L15: 45 | M15: =VLOOKUP(N15,Sheet1!$A$1:$B$93,2) | P15: علم الفرائض | R15: 7
B16: اللغة الإنجليزية | M16: =VLOOKUP(N16,Sheet1!$A$1:$B$93,2) | N16: =VLOOKUP($U$8,'Nilai Tahriri'!$A$2:$X$41,8,FALSE) -> 0 | P16: أصول الدين \ التوحيد | R16: 8
B17: =VLOOKUP(C17,Sheet1!$A$1:$B$93,2) | C17: =VLOOKUP($U$8,'Nilai Syafahi'!$A$4:$W$43,8,FALSE) -> 0 | G17: Conversation | L17: 46 | M17: =VLOOKUP(N17,Sheet1!$A$1:$B$93,2) | P17: الديانة\الأديان | R17: 9
B18: =VLOOKUP(C18,Sheet1!$A$1:$B$93,2) | G18: Grammer | H18: Grammer | I18: Grammer | J18: Grammer | K18: Grammer | L18: 47 | M18: =VLOOKUP(N18,Sheet1!$A$1:$B$93,2) | P18: تاريخ التشريع الإسلامي | R18: 10
B19: =VLOOKUP(C19,Sheet1!$A$1:$B$93,2) | G19: Structure | L19: 48 | M19: =VLOOKUP(N19,Sheet1!$A$1:$B$93,2) | N19: =VLOOKUP($U$8,'Nilai Tahriri'!$A$2:$X$41,9,FALSE) -> 0 | P19: تاريخ الإسلام | R19: 11
B20: =VLOOKUP(C20,Sheet1!$A$1:$B$93,2) | C20: =VLOOKUP($U$8,'Nilai Syafahi'!$A$4:$W$43,9,FALSE) -> 0 | G20: Reading | L20: 49 | M20: =VLOOKUP(N20,Sheet1!$A$1:$B$93,2) | N20: =VLOOKUP($U$8,'Nilai Tahriri'!$A$2:$X$41,10,FALSE) -> 0 | P20: الإنشاء \ التعبير التحريري | R20: 12
B21: =VLOOKUP(C21,Sheet1!$A$1:$B$93,2) | C21: =VLOOKUP($U$8,'Nilai Syafahi'!$A$4:$W$43,10,FALSE) -> 0 | G21: Vocabularies | L21: 50 | M21: =VLOOKUP(N21,Sheet1!$A$1:$B$93,2) | N21: =VLOOKUP($U$8,'Nilai Tahriri'!$A$2:$X$41,11,FALSE) -> 0 | P21: تمرين اللغة العربية | R21: 13
B22: المواد الفقهية | M22: =VLOOKUP(N22,Sheet1!$A$1:$B$93,2) | N22: =VLOOKUP($U$8,'Nilai Tahriri'!$A$2:$X$41,12,FALSE) -> 0 | P22: المطالعة | R22: 14
B23: =VLOOKUP(C23,Sheet1!$A$1:$B$93,2) | C23: =VLOOKUP($U$8,'Nilai Syafahi'!$A$4:$W$43,11,FALSE) -> 0 | G23: قراءة القرآن | L23: 51 | M23: =VLOOKUP(N23,Sheet1!$A$1:$B$93,2) | N23: =VLOOKUP($U$8,'Nilai Tahriri'!$A$2:$X$41,13,FALSE) -> 0 | P23: النصوص الأدبية | Q23: 12 | R23: 15
B24: =VLOOKUP(C24,Sheet1!$A$1:$B$93,2) | C24: =VLOOKUP($U$8,'Nilai Syafahi'!$A$4:$W$43,12,FALSE) -> 0 | G24: التجويد | L24: 52 | M24: =VLOOKUP(N24,Sheet1!$A$1:$B$93,2) | P24: النحو والتطبيق | R24: 16
B25: =VLOOKUP(C25,Sheet1!$A$1:$B$93,2) | C25: =VLOOKUP($U$8,'Nilai Syafahi'!$A$4:$W$43,13,FALSE) -> 0 | G25: حفط القرآن | L25: 53 | M25: =VLOOKUP(N25,Sheet1!$A$1:$B$93,2) | P25: الصرف والتطبيق | R25: 17
B26: =VLOOKUP(C26,Sheet1!$A$1:$B$93,2) | C26: =VLOOKUP($U$8,'Nilai Syafahi'!$A$4:$W$43,14,FALSE) -> 0 | G26: الفقه | L26: 54 | M26: =VLOOKUP(N26,Sheet1!$A$1:$B$93,2) | P26: البلاغة | R26: 18
B27: =VLOOKUP(C27,Sheet1!$A$1:$B$93,2) | C27: =VLOOKUP($U$8,'Nilai Syafahi'!$A$4:$W$43,15,FALSE) -> 0 | G27: Praktik Sholat | K27: ممارسة الصلاة | L27: 55 | M27: =VLOOKUP(N27,Sheet1!$A$1:$B$93,2) | P27: علم المنطق | R27: 19
B28: =VLOOKUP(C28,Sheet1!$A$1:$B$93,2) | C28: =VLOOKUP($U$8,'Nilai Syafahi'!$A$4:$W$43,16,FALSE) -> 0 | G28: الأدعية اليومية | L28: 56 | M28: =VLOOKUP(N28,Sheet1!$A$1:$B$93,2) | P28: تا. أدب اللغة | R28: 20
B29: كتب التراث | M29: =VLOOKUP(N29,Sheet1!$A$1:$B$93,2) | N29: =VLOOKUP($U$8,'Nilai Tahriri'!$A$2:$X$41,14,FALSE) -> 0 | P29: الإملاء | R29: 21
G30: فتح القريب | L30: 57 | M30: =VLOOKUP(N30,Sheet1!$A$1:$B$93,2) | N30: =VLOOKUP($U$8,'Nilai Tahriri'!$A$2:$X$41,15,FALSE) -> 0 | P30: الخط العربي | R30: 22
B31: =VLOOKUP(C31,Sheet1!$A$1:$B$93,2) | G31: فتح المعين | L31: 58 | M31: =VLOOKUP(N31,Sheet1!$A$1:$B$93,2) | P31: التربية والتعليم | R31: 23
B32: =VLOOKUP(C32,Sheet1!$A$1:$B$93,2) | G32: العمريطي | L32: 59 | M32: =VLOOKUP(N32,Sheet1!$A$1:$B$93,2) | P32: التربية العملية | R32: 24
B33: =VLOOKUP(C33,Sheet1!$A$1:$B$93,2) | G33: الفية ابن مالك | L33: 60 | M33: =VLOOKUP(N33,Sheet1!$A$1:$B$93,2) | N33: =VLOOKUP($U$8,'Nilai Tahriri'!$A$2:$X$41,16,FALSE) -> 0 | P33: روح المعهد | R33: 25
B34: =VLOOKUP($U$8,'Nilai Syafahi'!$A$4:$W$43,19,FALSE) -> 0 | K34: الجملة | M34: =VLOOKUP(N34,Sheet1!$A$1:$B$93,2) | N34: =VLOOKUP($U$8,'Nilai Tahriri'!$A$2:$X$41,17,FALSE) -> 0 | P34: الخطابة | R34: 26
M35: =VLOOKUP(N35,Sheet1!$A$1:$B$93,2) | N35: =VLOOKUP($U$8,'Nilai Tahriri'!$A$2:$X$41,18,FALSE) -> 0 | O35: Bhs. Inggris | P35: الإنجليزية | R35: 27
B36: البيان | M36: =VLOOKUP(N36,Sheet1!$A$1:$B$93,2) | N36: =VLOOKUP($U$8,'Nilai Tahriri'!$A$2:$X$41,19,FALSE) -> 0 | O36: Bhs. Indonesia | P36: الإندونيسية | R36: 28
B37: المواظبة | D37: السلوك | K37: النظافة | M37: =VLOOKUP(N37,Sheet1!$A$1:$B$93,2) | N37: =VLOOKUP($U$8,'Nilai Tahriri'!$A$2:$X$41,20,FALSE) -> 0 | O37: Matematika | P37: الرياضية | R37: 29
B38: =VLOOKUP($U$8,Akhlak!$A$4:$J$43,6,FALSE) -> 0 | D38: =VLOOKUP($U$8,Akhlak!$A$4:$J$43,5,FALSE) -> 0 | K38: =VLOOKUP($U$8,Akhlak!$A$4:$J$43,4,FALSE) -> 0 | M38: =VLOOKUP(N38,Sheet1!$A$1:$B$93,2) | O38: Fisika | P38: الفيزياء | R38: 30
B39: أيام الغياب | M39: =VLOOKUP(N39,Sheet1!$A$1:$B$93,2) | N39: =VLOOKUP($U$8,'Nilai Tahriri'!$A$2:$X$41,21,FALSE) -> 0 | O39: Biologi | P39: البيولوجيا | R39: 31
B40: لآخر | D40: لاسـتئذان | K40: لمرض | M40: =VLOOKUP(N40,Sheet1!$A$1:$B$93,2) | O40: Kimia | P40: الكيمياء | R40: 32
B41: =VLOOKUP($U$8,Akhlak!$A$4:$J$43,9,FALSE) -> 0 | D41: =VLOOKUP($U$8,Akhlak!$A$4:$J$43,8,FALSE) -> 0 | K41: =VLOOKUP($U$8,Akhlak!$A$4:$J$43,7,FALSE) -> 0 | M41: =VLOOKUP(N41,Sheet1!$A$1:$B$93,2) | N41: =VLOOKUP($U$8,'Nilai Tahriri'!$A$2:$X$41,22,FALSE) -> 0 | O41: Geografi | P41: الجغرافيا | R41: 33
B42: مستوى التفوق | D42: التقدير العام | M42: =VLOOKUP(N42,Sheet1!$A$1:$B$93,2) | O42: Sosiologi | P42: سوسيولوجيا | R42: 34
B43: =VLOOKUP($U$8,'Nilai Syafahi'!$A$4:$W$43,22,FALSE) -> 1 | D43: =VLOOKUP($U$8,'Nilai Syafahi'!$A$4:$W$43,21,FALSE) -> #DIV/0! | K43: =VLOOKUP($U$8,'Nilai Syafahi'!$A$4:$W$43,20,FALSE) -> 0 | M43: =VLOOKUP(N43,Sheet1!$A$1:$B$93,2) | O43: Ekonomi | P43: الإقتصادية | R43: 35
M44: =VLOOKUP(N44,Sheet1!$A$1:$B$93,2) | N44: =VLOOKUP($U$8,'Nilai Tahriri'!$A$2:$X$41,23,FALSE) -> 0 | O44: PPKN | P44: التربية الوطنية | R44: 36
B45: النقد | M45: =VLOOKUP(N45,Sheet1!$A$1:$B$93,2) | O45: Sej. Indonesia | P45: تاريخ إندونيسيا | R45: 37
B46: =VLOOKUP($U$8,Akhlak!$A$4:$J$43,10,FALSE) | M46: =VLOOKUP(N46,Sheet1!$A$1:$B$93,2) | O46: Sej. Umum | P46: تاريخ العام | R46: 38
M47: =VLOOKUP(N47,Sheet1!$A$1:$B$93,2) | O47: Komputer | P47: كمبيوتر | R47: 39
B48: =VLOOKUP($U$8,'Nilai Syafahi'!$A$4:$W$43,23,FALSE) -> #DIV/0! | K48: الملاحظة | M48: =VLOOKUP($U$8,'Nilai Tahriri'!$A$2:$X$41,24,FALSE) -> 0 | N48: =VLOOKUP($U$8,'Nilai Tahriri'!$A$2:$X$41,41,FALSE) -> #REF! | O48: =VLOOKUP($U$8,'Nilai Tahriri'!$A$2:$X$41,41,FALSE) -> #REF! | P48: الجملة
M50: =Biodata!$C$13 -> ١٩ من محرم سنة ١٤٤٨ ه | Q50: تحريرا بسـيرانج في :
M51: =Biodata!$C$14 -> ٤٠ من يوليو سنة ٢٠٢٦ م
Q52: يعتمد عليه,
B53: ولي الأمر | O53: ولي الفصل
K54: مدير المدرسة
O56: =Biodata!$C$19 -> 0
K58: =Biodata!$C$16 -> الأستاذ الحاج أحمد مهيمن الماجستير

Sheet Rekap Nilai
A1: REKAP NILAI UJIAN
A3: =Biodata!C4 -> الأوّل أ للبنين
A5: No | B5: Nama | C5: No Ujian | D5: Jumlah Nilai | E5: Nilai Rata-Rata | F5: Peringkat | G5: Keterangan
A6: 1 | B6: ='Data Siswa'!B2 -> AGIS NAZIULLAH | C6: ='Data Siswa'!C2 -> 001 | D6: ='Nilai Syafahi'!T4 -> 0 | E6: ='Nilai Syafahi'!U4 -> #DIV/0! | F6: ='Nilai Syafahi'!V4 -> 1 | G6: ='Nilai Syafahi'!W4 -> #DIV/0!
A7: 2 | B7: ='Data Siswa'!B3 -> ARKAN RIZKI RAMADHAN | C7: ='Data Siswa'!C3 -> 002 | D7: ='Nilai Syafahi'!T5 -> 0 | E7: ='Nilai Syafahi'!U5 -> #DIV/0! | F7: ='Nilai Syafahi'!V5 -> 1 | G7: ='Nilai Syafahi'!W5 -> #DIV/0!
A8: 3 | B8: ='Data Siswa'!B4 -> ERFAN ADI PUTRA | C8: ='Data Siswa'!C4 -> 003 | D8: ='Nilai Syafahi'!T6 -> 0 | E8: ='Nilai Syafahi'!U6 -> #DIV/0! | F8: ='Nilai Syafahi'!V6 -> 1 | G8: ='Nilai Syafahi'!W6 -> #DIV/0!
A9: 4 | B9: ='Data Siswa'!B5 -> FAIREL ATHARIZZ CALIEF | C9: ='Data Siswa'!C5 -> 004 | D9: ='Nilai Syafahi'!T7 -> 0 | E9: ='Nilai Syafahi'!U7 -> #DIV/0! | F9: ='Nilai Syafahi'!V7 -> 1 | G9: ='Nilai Syafahi'!W7 -> #DIV/0!
A10: 5 | B10: ='Data Siswa'!B6 -> FIRMAN NUR FEBRIAN | C10: ='Data Siswa'!C6 -> 005 | D10: ='Nilai Syafahi'!T8 -> 0 | E10: ='Nilai Syafahi'!U8 -> #DIV/0! | F10: ='Nilai Syafahi'!V8 -> 1 | G10: ='Nilai Syafahi'!W8 -> #DIV/0!
A11: 6 | B11: ='Data Siswa'!B7 -> HAFIS ADITYA AZHAR | C11: ='Data Siswa'!C7 -> 006 | D11: ='Nilai Syafahi'!T9 -> 0 | E11: ='Nilai Syafahi'!U9 -> #DIV/0! | F11: ='Nilai Syafahi'!V9 -> 1 | G11: ='Nilai Syafahi'!W9 -> #DIV/0!
A12: 7 | B12: ='Data Siswa'!B8 -> HANIF DWI TRIANA | C12: ='Data Siswa'!C8 -> 007 | D12: ='Nilai Syafahi'!T10 -> 0 | E12: ='Nilai Syafahi'!U10 -> #DIV/0! | F12: ='Nilai Syafahi'!V10 -> 1 | G12: ='Nilai Syafahi'!W10 -> #DIV/0!
A13: 8 | B13: ='Data Siswa'!B9 -> MUHAMMAD AGIL AL GIFFARI | C13: ='Data Siswa'!C9 -> 008 | D13: ='Nilai Syafahi'!T11 -> 0 | E13: ='Nilai Syafahi'!U11 -> #DIV/0! | F13: ='Nilai Syafahi'!V11 -> 1 | G13: ='Nilai Syafahi'!W11 -> #DIV/0!
A14: 9 | B14: ='Data Siswa'!B10 -> MUHAMMAD FATHIR SYAHRULLAH | C14: ='Data Siswa'!C10 -> 009 | D14: ='Nilai Syafahi'!T12 -> 0 | E14: ='Nilai Syafahi'!U12 -> #DIV/0! | F14: ='Nilai Syafahi'!V12 -> 1 | G14: ='Nilai Syafahi'!W12 -> #DIV/0!
A15: 10 | B15: ='Data Siswa'!B11 -> MUHAMMAD NIZAM EL-FATH | C15: ='Data Siswa'!C11 -> 010 | D15: ='Nilai Syafahi'!T13 -> 0 | E15: ='Nilai Syafahi'!U13 -> #DIV/0! | F15: ='Nilai Syafahi'!V13 -> 1 | G15: ='Nilai Syafahi'!W13 -> #DIV/0!
A16: 11 | B16: ='Data Siswa'!B12 -> MUHAMMAD RHAFHA KHALIFI | C16: ='Data Siswa'!C12 -> 011 | D16: ='Nilai Syafahi'!T14 -> 0 | E16: ='Nilai Syafahi'!U14 -> #DIV/0! | F16: ='Nilai Syafahi'!V14 -> 1 | G16: ='Nilai Syafahi'!W14 -> #DIV/0!
A17: 12 | B17: ='Data Siswa'!B13 -> MUHAMMAD TAJUL ARIFIN | C17: ='Data Siswa'!C13 -> 012 | D17: ='Nilai Syafahi'!T15 -> 0 | E17: ='Nilai Syafahi'!U15 -> #DIV/0! | F17: ='Nilai Syafahi'!V15 -> 1 | G17: ='Nilai Syafahi'!W15 -> #DIV/0!
... A45: 40 | B45: ='Data Siswa'!B41 -> 0 | C45: ='Data Siswa'!C41 -> 0 | D45: ='Nilai Syafahi'!T43 -> 0 | E45: ='Nilai Syafahi'!U43 -> #DIV/0! | F45: ='Nilai Syafahi'!V43 -> 1 | G45: ='Nilai Syafahi'!W43 -> #DIV/0!
E47: ولي الفصل
E50: =Biodata!C19 -> 0

Sheet Sheet1
A2: 0
A3: 1 | B3: واحد
A4: 1.1 | B4: واحد و واحد
A5: 1.2 | B5: واحد و اثنين
A6: 1.3 | B6: واحد و ثلاث
A7: 1.4 | B7: واحد و اربع
A8: 1.5 | B8: واحد و نصف
A9: 1.6 | B9: واحد و ست
A10: 1.7 | B10: واحد و سبع
A11: 1.8 | B11: واحد و ثمان
A12: 1.9 | B12: واحد و تسع
A13: 2 | B13: اثنين
A14: 2.1 | B14: اثنين و واحد
... A93: 10 | B93: عشر
