Workbook
Name nilai: 'Nilai Tahriri'!$B$2:$Z$27

Sheet Identitas
C2: NAMA WALI KELAS
C4: KELAS
C6: SEMESTER
C8: TAHUN PELAJARAN
C10: TANGGAL HIJRIYAH
C12: TANGGAL MILADIYAH

Sheet Biodata
C1: IDENTITAS RAPOT
B4: =CONCATENATE(F4," ",E4," ",C4) -> الصف : الثاني ج للبنات | C4: الثاني ج للبنات | E4: : | F4: الصف | G4: 1
F5: ( Kelas )
B7: =CONCATENATE(F7," ",E7," ",C7) -> الفصل الدراسي : الأول | C7: الأول | E7: : | F7: الفصل الدراسي | G7: 2
F8: ( Semester )
B10: =CONCATENATE(F10," : ",C11," ه"," \ ",C10," م") -> العام الدراسي : ١٤٤٤ - ١٤٤٥ ه \ ٢٠٢٣ - ٢٠٢٤ م | C10: ٢٠٢٣ - ٢٠٢٤ | E10: : | F10: العام الدراسي | G10: 3
C11: ١٤٤٤ - ١٤٤٥ | F11: ( Tahun Pelajaran )
C13: ٠٩ من جمادى الآخر سنة ١٤٤٥ ه | E13: : | F13: تحريرا بسـيرانج في | G13: 4
C14: ٢٢ من ديسمبر سنة ٢٠٢٣ م | F14: ( Tanggal Rapot )
C16: الأستاذ أحمد مهيمن الماجستير | E16: : | F16: مدير المدرسة | G16: 5
F17: ( Nama Kepala Sekolah )
C19: الأستاذة حسن الخاتمة | E19: : | F19: ولي الفصل | G19: 6
F20: ( Nama Wali Kelas )

Sheet Data Siswa
A1: No | B1: Nama | C1: No Exam | D1: Keterangan
A2: 1 | B2: ANINDHITA MAHARANI | C2: 0852
A3: 2 | B3: AULIA FAJRIANI | C3: 0853
A4: 3 | B4: FADILAH ASIFA AYUNINGTIAS | C4: 0854
A5: 4 | B5: FARRAS AUFA ZAHIRA | C5: 0855
A6: 5 | B6: HALIMAH RASYIDAH | C6: 0856
A7: 6 | B7: IBNATY SALSABILA LIRABBIHA | C7: 0857
A8: 7 | B8: ILFA MINNATIKA | C8: 0858
A9: 8 | B9: MELAN ROSDIANI | C9: 0859
A10: 9 | B10: MUTIA AZAHRA | C10: 0860
A11: 10 | B11: MYIESHA NAFEEZA PUTRI PURNOMO | C11: 0861
A12: 11 | B12: NAHDIATURIDHO | C12: 0862
A13: 12 | B13: NAIL SALMA KHAIRIN | C13: 0863
... A26: 25 | B26: UMMY FATIHATUS SAUMAH | C26: 0876
A27: 26
A28: 27
A29: 28
A30: 29
A31: 30
A32: 31
A33: 32
A34: 33
A35: 34
A36: 35
A37: 36
A38: 37
... A41: 40

Sheet Nilai Tahriri
A1: No | B1: Nama | C1: No Ujian | D1: علم التجويد | E1: التفسير | F1: الحديث | G1: الفقه | H1: التوحيد | I1: التاريخ الإسلام | J1: الإنشاء | K1: تمرين اللغة | L1: المطالعة | M1: المحفوظات | N1: النحو | O1: الصرف | P1: الإملاء | Q1: الخط | R1: روح المعهد | S1: الخطابة | T1: B. Inggris | U1: B. Indonesia | V1: Matematika | W1: IPA | X1: IPS | Y1: PPKN | Z1: Jumlah Nilai | AA1: Nilai Rata2
A2: ='Data Siswa'!A2 -> 1 | B2: ='Data Siswa'!B2 -> ANINDHITA MAHARANI | C2: ='Data Siswa'!C2 -> 0852 | D2: 6 | E2: 7.5 | F2: 5.5 | G2: 7 | H2: 6 | I2: 4.5 | J2: 4.5 | K2: 7 | L2: 8 | M2: 8 | N2: 6.5 | O2: 4 | P2: 5 | Q2: 6.5 | R2: 8 | S2: 8 | T2: 8 | U2: 7.5 | V2: 8 | W2: 7.5 | X2: 8 | Y2: 8 | Z2: =SUM(D2:Y2) -> 149 | AA2: =AVERAGE(D2:Y2) -> 6.7727273
A3: ='Data Siswa'!A3 -> 2 | B3: ='Data Siswa'!B3 -> AULIA FAJRIANI | C3: ='Data Siswa'!C3 -> 0853 | D3: 6 | E3: 7.5 | F3: 5 | G3: 4.5 | H3: 5.5 | I3: 5 | J3: 4 | K3: 5.5 | L3: 4 | M3: 4 | N3: 5 | O3: 5 | P3: 4.5 | Q3: 6 | R3: 8 | S3: 7.5 | T3: 7.5 | U3: 7 | V3: 7.5 | W3: 7.5 | X3: 8 | Y3: 8 | Z3: =SUM(D3:Y3) -> 132.5 | AA3: =AVERAGE(D3:Y3) -> 6.0227273
A4: ='Data Siswa'!A4 -> 3 | B4: ='Data Siswa'!B4 -> FADILAH ASIFA AYUNINGTIAS | C4: ='Data Siswa'!C4 -> 0854 | D4: 5 | E4: 7 | F4: 5 | G4: 5 | H4: 4 | I4: 4.5 | J4: 4.5 | K4: 5.5 | L4: 4.5 | M4: 4.5 | N4: 4 | O4: 4 | P4: 4.5 | Q4: 6.5 | R4: 8 | S4: 8 | T4: 8 | U4: 7.5 | V4: 8 | W4: 8 | X4: 8 | Y4: 7.5 | Z4: =SUM(D4:Y4) -> 131.5 | AA4: =AVERAGE(D4:Y4) -> 5.9772727
A5: ='Data Siswa'!A5 -> 4 | B5: ='Data Siswa'!B5 -> FARRAS AUFA ZAHIRA | C5: ='Data Siswa'!C5 -> 0855 | D5: 6 | E5: 7 | F5: 5 | G5: 7 | H5: 7 | I5: 5 | J5: 4.5 | K5: 7 | L5: 5 | M5: 7.5 | N5: 6.5 | O5: 7 | P5: 5 | Q5: 6 | R5: 8 | S5: 7.5 | T5: 8 | U5: 7.5 | V5: 8 | W5: 7 | X5: 8 | Y5: 7.5 | Z5: =SUM(D5:Y5) -> 147 | AA5: =AVERAGE(D5:Y5) -> 6.6818182
A6: ='Data Siswa'!A6 -> 5 | B6: ='Data Siswa'!B6 -> HALIMAH RASYIDAH | C6: ='Data Siswa'!C6 -> 0856 | D6: 7 | E6: 7 | F6: 6 | G6: 5.5 | H6: 6 | I6: 5 | J6: 4 | K6: 6.5 | L6: 4.5 | M6: 6 | N6: 5 | O6: 4 | P6: 4.5 | Q6: 6.5 | R6: 8 | S6: 7 | T6: 8 | U6: 7.5 | V6: 8.5 | W6: 7.5 | X6: 8 | Y6: 8 | Z6: =SUM(D6:Y6) -> 140 | AA6: =AVERAGE(D6:Y6) -> 6.3636364
A7: ='Data Siswa'!A7 -> 6 | B7: ='Data Siswa'!B7 -> IBNATY SALSABILA LIRABBIHA | C7: ='Data Siswa'!C7 -> 0857 | D7: 5 | E7: 7 | F7: 5.5 | G7: 5 | H7: 5 | I7: 4.5 | J7: 4 | K7: 5.5 | L7: 4 | M7: 4 | N7: 4 | O7: 4 | P7: 4 | Q7: 6 | R7: 8 | S7: 6 | T7: 8 | U7: 7 | V7: 8 | W7: 7 | X7: 8 | Y7: 8 | Z7: =SUM(D7:Y7) -> 127.5 | AA7: =AVERAGE(D7:Y7) -> 5.7954545
A8: ='Data Siswa'!A8 -> 7 | B8: ='Data Siswa'!B8 -> ILFA MINNATIKA | C8: ='Data Siswa'!C8 -> 0858 | D8: 4.5 | E8: 7 | F8: 5 | G8: 5 | H8: 5.5 | I8: 5 | J8: 4 | K8: 6 | L8: 4.5 | M8: 6.5 | N8: 4.5 | O8: 4 | P8: 4.5 | Q8: 6 | R8: 8 | S8: 6.5 | T8: 8 | U8: 7 | V8: 7.5 | W8: 7 | X8: 8 | Y8: 8 | Z8: =SUM(D8:Y8) -> 132 | AA8: =AVERAGE(D8:Y8) -> 6
A9: ='Data Siswa'!A9 -> 8 | B9: ='Data Siswa'!B9 -> MELAN ROSDIANI | C9: ='Data Siswa'!C9 -> 0859 | D9: 4.5 | E9: 6.5 | F9: 5.5 | G9: 5 | H9: 7 | I9: 4 | J9: 4 | K9: 7 | L9: 5.5 | M9: 5.5 | N9: 6 | O9: 6 | P9: 5 | Q9: 7 | R9: 8 | S9: 6 | T9: 8 | U9: 8 | V9: 7.5 | W9: 8 | X9: 8 | Y9: 8 | Z9: =SUM(D9:Y9) -> 140 | AA9: =AVERAGE(D9:Y9) -> 6.3636364
A10: ='Data Siswa'!A10 -> 9 | B10: ='Data Siswa'!B10 -> MUTIA AZAHRA | C10: ='Data Siswa'!C10 -> 0860 | D10: 4.5 | E10: 7 | F10: 5 | G10: 5 | H10: 6 | I10: 5 | J10: 5 | K10: 6.5 | L10: 5 | M10: 4.5 | N10: 4.5 | O10: 5 | P10: 4.5 | Q10: 6 | R10: 8 | S10: 7.5 | T10: 8 | U10: 8 | V10: 7.5 | W10: 7 | X10: 8 | Y10: 7.5 | Z10: =SUM(D10:Y10) -> 135 | AA10: =AVERAGE(D10:Y10) -> 6.1363636
A11: ='Data Siswa'!A11 -> 10 | B11: ='Data Siswa'!B11 -> MYIESHA NAFEEZA PUTRI PURNOMO | C11: ='Data Siswa'!C11 -> 0861 | D11: 4.5 | E11: 7 | F11: 5 | G11: 5 | H11: 5.5 | I11: 4 | J11: 4.5 | K11: 6 | L11: 4.5 | M11: 5 | N11: 5.5 | O11: 4 | P11: 4 | Q11: 6.5 | R11: 8 | S11: 7.5 | T11: 8 | U11: 7.5 | V11: 8 | W11: 7.5 | X11: 8 | Y11: 7.5 | Z11: =SUM(D11:Y11) -> 133 | AA11: =AVERAGE(D11:Y11) -> 6.0454545
A12: ='Data Siswa'!A12 -> 11 | B12: ='Data Siswa'!B12 -> NAHDIATURIDHO | C12: ='Data Siswa'!C12 -> 0862 | D12: 4.5 | E12: 7 | F12: 5 | G12: 5 | H12: 5.5 | I12: 4 | J12: 4 | K12: 5.5 | L12: 4.5 | M12: 4.5 | N12: 4 | O12: 5 | P12: 4.5 | Q12: 6 | R12: 7.5 | S12: 6.5 | T12: 8 | U12: 7 | V12: 7.5 | W12: 8 | X12: 8 | Y12: 8 | Z12: =SUM(D12:Y12) -> 129.5 | AA12: =AVERAGE(D12:Y12) -> 5.8863636
A13: ='Data Siswa'!A13 -> 12 | B13: ='Data Siswa'!B13 -> NAIL SALMA KHAIRIN | C13: ='Data Siswa'!C13 -> 0863 | D13: 4 | E13: 7 | F13: 5 | G13: 5 | H13: 5 | I13: 4 | J13: 4 | K13: 5.5 | L13: 4.5 | M13: 5 | N13: 4 | O13: 4 | P13: 4.5 | Q13: 6 | R13: 7.5 | S13: 7 | T13: 8 | U13: 8 | V13: 8 | W13: 7.5 | X13: 8 | Y13: 8 | Z13: =SUM(D13:Y13) -> 129.5 | AA13: =AVERAGE(D13:Y13) -> 5.8863636
... A26: ='Data Siswa'!A26 -> 25 | B26: ='Data Siswa'!B26 -> UMMY FATIHATUS SAUMAH | C26: ='Data Siswa'!C26 -> 0876 | D26: 6 | E26: 8 | F26: 6 | G26: 5 | H26: 5.5 | I26: 6 | J26: 5 | K26: 6 | L26: 5.5 | M26: 5.5 | N26: 4.5 | O26: 5 | P26: 5 | Q26: 6 | R26: 8 | S26: 8 | T26: 8 | U26: 7 | V26: 7.5 | W26: 7.5 | X26: 8 | Y26: 7.5 | Z26: =SUM(D26:Y26) -> 140.5 | AA26: =AVERAGE(D26:Y26) -> 6.3863636
A27: ='Data Siswa'!A27 -> 26 | B27: ='Data Siswa'!B27 -> 0 | C27: ='Data Siswa'!C27 -> 0 | Z27: =SUM(D27:Y27) -> 0 | AA27: =AVERAGE(D27:Y27) -> #DIV/0!
A28: ='Data Siswa'!A28 -> 27 | B28: ='Data Siswa'!B28 -> 0 | C28: ='Data Siswa'!C28 -> 0 | Z28: =SUM(D28:Y28) -> 0 | AA28: =AVERAGE(D28:Y28) -> #DIV/0!
A29: ='Data Siswa'!A29 -> 28 | B29: ='Data Siswa'!B29 -> 0 | C29: ='Data Siswa'!C29 -> 0 | Z29: =SUM(D29:Y29) -> 0 | AA29: =AVERAGE(D29:Y29) -> #DIV/0!
A30: ='Data Siswa'!A30 -> 29 | B30: ='Data Siswa'!B30 -> 0 | C30: ='Data Siswa'!C30 -> 0 | Z30: =SUM(D30:Y30) -> 0 | AA30: =AVERAGE(D30:Y30) -> #DIV/0!
A31: ='Data Siswa'!A31 -> 30 | B31: ='Data Siswa'!B31 -> 0 | C31: ='Data Siswa'!C31 -> 0 | Z31: =SUM(D31:Y31) -> 0 | AA31: =AVERAGE(D31:Y31) -> #DIV/0!
A32: ='Data Siswa'!A32 -> 31 | B32: ='Data Siswa'!B32 -> 0 | C32: ='Data Siswa'!C32 -> 0 | Z32: =SUM(D32:Y32) -> 0 | AA32: =AVERAGE(D32:Y32) -> #DIV/0!
A33: ='Data Siswa'!A33 -> 32 | B33: ='Data Siswa'!B33 -> 0 | C33: ='Data Siswa'!C33 -> 0 | Z33: =SUM(D33:Y33) -> 0 | AA33: =AVERAGE(D33:Y33) -> #DIV/0!
A34: ='Data Siswa'!A34 -> 33 | B34: ='Data Siswa'!B34 -> 0 | C34: ='Data Siswa'!C34 -> 0 | Z34: =SUM(D34:Y34) -> 0 | AA34: =AVERAGE(D34:Y34) -> #DIV/0!
A35: ='Data Siswa'!A35 -> 34 | B35: ='Data Siswa'!B35 -> 0 | C35: ='Data Siswa'!C35 -> 0 | Z35: =SUM(D35:Y35) -> 0 | AA35: =AVERAGE(D35:Y35) -> #DIV/0!
A36: ='Data Siswa'!A36 -> 35 | B36: ='Data Siswa'!B36 -> 0 | C36: ='Data Siswa'!C36 -> 0 | Z36: =SUM(D36:Y36) -> 0 | AA36: =AVERAGE(D36:Y36) -> #DIV/0!
A37: ='Data Siswa'!A37 -> 36 | B37: ='Data Siswa'!B37 -> 0 | C37: ='Data Siswa'!C37 -> 0 | Z37: =SUM(D37:Y37) -> 0 | AA37: =AVERAGE(D37:Y37) -> #DIV/0!
A38: ='Data Siswa'!A38 -> 37 | B38: ='Data Siswa'!B38 -> 0 | C38: ='Data Siswa'!C38 -> 0 | Z38: =SUM(D38:Y38) -> 0 | AA38: =AVERAGE(D38:Y38) -> #DIV/0!
... A41: ='Data Siswa'!A41 -> 40 | B41: ='Data Siswa'!B41 -> 0 | C41: ='Data Siswa'!C41 -> 0 | Z41: =SUM(D41:Y41) -> 0 | AA41: =AVERAGE(D41:Y41) -> #DIV/0!

Sheet Nilai Syafahi
A1: Biodata | D1: Nilai Ujian Syafahi | V1: Nilai Keseluruhan | Y1: Keterangan
A2: No | B2: Nama Lengkap | C2: No Ujian | D2: اللغة العربية | J2: اللغة الانجليزية | M2: المواد الفقهية | S2: الجملة | T2: Rata-Rata | V2: التقدير العام | W2: Rata-Rata | X2: مستوي التفوق | Y2: الملاحظة
D3: الانشاء | E3: النحو | F3: الصرف | G3: المطالعة | H3: النصوص الأدبية | I3: المحادثة العربية | J3: Conversation | K3: Reading | L3: Vocabularies | M3: قراءة القرآن | N3: التجويد | O3: حفظ القرآن | P3: الفقه | Q3: Praktik Sholat | R3: الأدعيه اليومية
A4: ='Data Siswa'!A2 -> 1 | B4: ='Data Siswa'!B2 -> ANINDHITA MAHARANI | C4: ='Data Siswa'!C2 -> 0852 | D4: 5.5 | E4: 6.5 | F4: 5 | G4: 6 | H4: 6.5 | I4: 5.5 | J4: 6 | K4: 7 | L4: 7 | M4: 7.5 | N4: 7.5 | O4: 6.5 | P4: 7 | Q4: 7 | R4: 8 | S4: =SUM(D4:R4) -> 98.5 | T4: =AVERAGE(D4:R4) -> 6.5666667 | V4: =SUM('Nilai Tahriri'!Z2,'Nilai Syafahi'!S4) -> 247.5 | W4: =AVERAGE(D4:R4,'Nilai Tahriri'!D2:Y2) -> 6.6891892 | X4: {=SUM(IF(V4<OFFSET($V$4,0,0,COUNT(V:V),1),1/COUNTIF(OFFSET($V$4,0,0,COUNT(V:V),1),OFFSET($V$4,0,0,COUNT(V:V),1))))+1} -> 2 | Y4: -
A5: ='Data Siswa'!A3 -> 2 | B5: ='Data Siswa'!B3 -> AULIA FAJRIANI | C5: ='Data Siswa'!C3 -> 0853 | D5: 5 | E5: 4 | F5: 4 | G5: 5 | H5: 5 | I5: 4.5 | J5: 5 | K5: 5 | L5: 5 | M5: 7 | N5: 7 | O5: 6 | P5: 6 | Q5: 7 | R5: 7 | S5: =SUM(D5:R5) -> 82.5 | T5: =AVERAGE(D5:R5) -> 5.5 | V5: =SUM('Nilai Tahriri'!Z3,'Nilai Syafahi'!S5) -> 215 | W5: =AVERAGE(D5:R5,'Nilai Tahriri'!D3:Y3) -> 5.8108108 | X5: {=SUM(IF(V5<OFFSET($V$4,0,0,COUNT(V:V),1),1/COUNTIF(OFFSET($V$4,0,0,COUNT(V:V),1),OFFSET($V$4,0,0,COUNT(V:V),1))))+1} -> 19 | Y5: -
A6: ='Data Siswa'!A4 -> 3 | B6: ='Data Siswa'!B4 -> FADILAH ASIFA AYUNINGTIAS | C6: ='Data Siswa'!C4 -> 0854 | D6: 6.5 | E6: 6 | F6: 6 | G6: 5.5 | H6: 6 | I6: 6 | J6: 5 | K6: 5 | L6: 6 | M6: 7 | N6: 7 | O6: 6 | P6: 7 | Q6: 7.5 | R6: 6.5 | S6: =SUM(D6:R6) -> 93 | T6: =AVERAGE(D6:R6) -> 6.2 | V6: =SUM('Nilai Tahriri'!Z4,'Nilai Syafahi'!S6) -> 224.5 | W6: =AVERAGE(D6:R6,'Nilai Tahriri'!D4:Y4) -> 6.0675676 | X6: {=SUM(IF(V6<OFFSET($V$4,0,0,COUNT(V:V),1),1/COUNTIF(OFFSET($V$4,0,0,COUNT(V:V),1),OFFSET($V$4,0,0,COUNT(V:V),1))))+1} -> 12 | Y6: -
A7: ='Data Siswa'!A5 -> 4 | B7: ='Data Siswa'!B5 -> FARRAS AUFA ZAHIRA | C7: ='Data Siswa'!C5 -> 0855 | D7: 6.5 | E7: 6 | F7: 7 | G7: 6 | H7: 6 | I7: 6 | J7: 6 | K7: 6 | L7: 6 | M7: 7 | N7: 7 | O7: 6.5 | P7: 7 | Q7: 7.5 | R7: 6.5 | S7: =SUM(D7:R7) -> 97 | T7: =AVERAGE(D7:R7) -> 6.4666667 | V7: =SUM('Nilai Tahriri'!Z5,'Nilai Syafahi'!S7) -> 244 | W7: =AVERAGE(D7:R7,'Nilai Tahriri'!D5:Y5) -> 6.5945946 | X7: {=SUM(IF(V7<OFFSET($V$4,0,0,COUNT(V:V),1),1/COUNTIF(OFFSET($V$4,0,0,COUNT(V:V),1),OFFSET($V$4,0,0,COUNT(V:V),1))))+1} -> 4 | Y7: -
A8: ='Data Siswa'!A6 -> 5 | B8: ='Data Siswa'!B6 -> HALIMAH RASYIDAH | C8: ='Data Siswa'!C6 -> 0856 | D8: 4 | E8: 4.5 | F8: 4.5 | G8: 4.5 | H8: 5 | I8: 5 | J8: 7 | K8: 7 | L8: 7 | M8: 6.5 | N8: 5.5 | O8: 6 | P8: 6 | Q8: 7 | R8: 6 | S8: =SUM(D8:R8) -> 85.5 | T8: =AVERAGE(D8:R8) -> 5.7 | V8: =SUM('Nilai Tahriri'!Z6,'Nilai Syafahi'!S8) -> 225.5 | W8: =AVERAGE(D8:R8,'Nilai Tahriri'!D6:Y6) -> 6.0945946 | X8: {=SUM(IF(V8<OFFSET($V$4,0,0,COUNT(V:V),1),1/COUNTIF(OFFSET($V$4,0,0,COUNT(V:V),1),OFFSET($V$4,0,0,COUNT(V:V),1))))+1} -> 11 | Y8: -
A9: ='Data Siswa'!A7 -> 6 | B9: ='Data Siswa'!B7 -> IBNATY SALSABILA LIRABBIHA | C9: ='Data Siswa'!C7 -> 0857 | D9: 4 | E9: 5.5 | F9: 5 | G9: 4.5 | H9: 5 | I9: 5 | J9: 5 | K9: 5 | L9: 6 | M9: 5 | N9: 5 | O9: 5 | P9: 5 | Q9: 5 | R9: 5 | S9: =SUM(D9:R9) -> 75 | T9: =AVERAGE(D9:R9) -> 5 | V9: =SUM('Nilai Tahriri'!Z7,'Nilai Syafahi'!S9) -> 202.5 | W9: =AVERAGE(D9:R9,'Nilai Tahriri'!D7:Y7) -> 5.472973 | X9: {=SUM(IF(V9<OFFSET($V$4,0,0,COUNT(V:V),1),1/COUNTIF(OFFSET($V$4,0,0,COUNT(V:V),1),OFFSET($V$4,0,0,COUNT(V:V),1))))+1} -> 21 | Y9: -
A10: ='Data Siswa'!A8 -> 7 | B10: ='Data Siswa'!B8 -> ILFA MINNATIKA | C10: ='Data Siswa'!C8 -> 0858 | D10: 5.5 | E10: 5.5 | F10: 6 | G10: 6 | H10: 5.5 | I10: 6.5 | J10: 5 | K10: 4 | L10: 5 | M10: 6.5 | N10: 5.5 | O10: 6.5 | P10: 6 | Q10: 7 | R10: 6 | S10: =SUM(D10:R10) -> 86.5 | T10: =AVERAGE(D10:R10) -> 5.7666667 | V10: =SUM('Nilai Tahriri'!Z8,'Nilai Syafahi'!S10) -> 218.5 | W10: =AVERAGE(D10:R10,'Nilai Tahriri'!D8:Y8) -> 5.9054054 | X10: {=SUM(IF(V10<OFFSET($V$4,0,0,COUNT(V:V),1),1/COUNTIF(OFFSET($V$4,0,0,COUNT(V:V),1),OFFSET($V$4,0,0,COUNT(V:V),1))))+1} -> 17 | Y10: -
A11: ='Data Siswa'!A9 -> 8 | B11: ='Data Siswa'!B9 -> MELAN ROSDIANI | C11: ='Data Siswa'!C9 -> 0859 | D11: 5.5 | E11: 6.5 | F11: 6 | G11: 5 | H11: 5.5 | I11: 6.5 | J11: 5 | K11: 5 | L11: 5 | M11: 7 | N11: 7 | O11: 6.5 | P11: 6.5 | Q11: 7 | R11: 7 | S11: =SUM(D11:R11) -> 91 | T11: =AVERAGE(D11:R11) -> 6.0666667 | V11: =SUM('Nilai Tahriri'!Z9,'Nilai Syafahi'!S11) -> 231 | W11: =AVERAGE(D11:R11,'Nilai Tahriri'!D9:Y9) -> 6.2432432 | X11: {=SUM(IF(V11<OFFSET($V$4,0,0,COUNT(V:V),1),1/COUNTIF(OFFSET($V$4,0,0,COUNT(V:V),1),OFFSET($V$4,0,0,COUNT(V:V),1))))+1} -> 6 | Y11: -
A12: ='Data Siswa'!A10 -> 9 | B12: ='Data Siswa'!B10 -> MUTIA AZAHRA | C12: ='Data Siswa'!C10 -> 0860 | D12: 5.5 | E12: 6 | F12: 6 | G12: 5.5 | H12: 5 | I12: 6 | J12: 7 | K12: 7 | L12: 7 | M12: 7.5 | N12: 7 | O12: 6.5 | P12: 6.5 | Q12: 7 | R12: 6.5 | S12: =SUM(D12:R12) -> 96 | T12: =AVERAGE(D12:R12) -> 6.4 | V12: =SUM('Nilai Tahriri'!Z10,'Nilai Syafahi'!S12) -> 231 | W12: =AVERAGE(D12:R12,'Nilai Tahriri'!D10:Y10) -> 6.2432432 | X12: {=SUM(IF(V12<OFFSET($V$4,0,0,COUNT(V:V),1),1/COUNTIF(OFFSET($V$4,0,0,COUNT(V:V),1),OFFSET($V$4,0,0,COUNT(V:V),1))))+1} -> 6 | Y12: -
A13: ='Data Siswa'!A11 -> 10 | B13: ='Data Siswa'!B11 -> MYIESHA NAFEEZA PUTRI PURNOMO | C13: ='Data Siswa'!C11 -> 0861 | D13: 5.5 | E13: 6 | F13: 5.5 | G13: 5 | H13: 5.5 | I13: 6 | J13: 8 | K13: 8 | L13: 7 | M13: 7 | N13: 6.5 | O13: 6 | P13: 6 | Q13: 6.5 | R13: 6 | S13: =SUM(D13:R13) -> 94.5 | T13: =AVERAGE(D13:R13) -> 6.3 | V13: =SUM('Nilai Tahriri'!Z11,'Nilai Syafahi'!S13) -> 227.5 | W13: =AVERAGE(D13:R13,'Nilai Tahriri'!D11:Y11) -> 6.1486486 | X13: {=SUM(IF(V13<OFFSET($V$4,0,0,COUNT(V:V),1),1/COUNTIF(OFFSET($V$4,0,0,COUNT(V:V),1),OFFSET($V$4,0,0,COUNT(V:V),1))))+1} -> 8 | Y13: -
A14: ='Data Siswa'!A12 -> 11 | B14: ='Data Siswa'!B12 -> NAHDIATURIDHO | C14: ='Data Siswa'!C12 -> 0862 | D14: 6.5 | E14: 6 | F14: 6 | G14: 5.5 | H14: 6 | I14: 5.5 | J14: 5 | K14: 5 | L14: 6 | M14: 7 | N14: 6.5 | O14: 6 | P14: 6 | Q14: 6.5 | R14: 6 | S14: =SUM(D14:R14) -> 89.5 | T14: =AVERAGE(D14:R14) -> 5.9666667 | V14: =SUM('Nilai Tahriri'!Z12,'Nilai Syafahi'!S14) -> 219 | W14: =AVERAGE(D14:R14,'Nilai Tahriri'!D12:Y12) -> 5.9189189 | X14: {=SUM(IF(V14<OFFSET($V$4,0,0,COUNT(V:V),1),1/COUNTIF(OFFSET($V$4,0,0,COUNT(V:V),1),OFFSET($V$4,0,0,COUNT(V:V),1))))+1} -> 16 | Y14: -
A15: ='Data Siswa'!A13 -> 12 | B15: ='Data Siswa'!B13 -> NAIL SALMA KHAIRIN | C15: ='Data Siswa'!C13 -> 0863 | D15: 6.5 | E15: 6.5 | F15: 6 | G15: 6 | H15: 6.5 | I15: 5.5 | J15: 5 | K15: 5 | L15: 6 | M15: 7 | N15: 6.5 | O15: 6 | P15: 7 | Q15: 7 | R15: 7 | S15: =SUM(D15:R15) -> 93.5 | T15: =AVERAGE(D15:R15) -> 6.2333333 | V15: =SUM('Nilai Tahriri'!Z13,'Nilai Syafahi'!S15) -> 223 | W15: =AVERAGE(D15:R15,'Nilai Tahriri'!D13:Y13) -> 6.027027 | X15: {=SUM(IF(V15<OFFSET($V$4,0,0,COUNT(V:V),1),1/COUNTIF(OFFSET($V$4,0,0,COUNT(V:V),1),OFFSET($V$4,0,0,COUNT(V:V),1))))+1} -> 13 | Y15: -
... A28: ='Data Siswa'!A26 -> 25 | B28: ='Data Siswa'!B26 -> UMMY FATIHATUS SAUMAH | C28: ='Data Siswa'!C26 -> 0876 | D28: 5 | E28: 4 | F28: 5 | G28: 5 | H28: 4.5 | I28: 5.5 | J28: 5 | K28: 5 | L28: 6 | M28: 7.5 | N28: 7 | O28: 6.5 | P28: 6 | Q28: 7 | R28: 6.5 | S28: =SUM(D28:R28) -> 85.5 | T28: =AVERAGE(D28:R28) -> 5.7 | V28: =SUM('Nilai Tahriri'!Z26,'Nilai Syafahi'!S28) -> 226 | W28: =AVERAGE(D28:R28,'Nilai Tahriri'!D26:Y26) -> 6.1081081 | X28: {=SUM(IF(V28<OFFSET($V$4,0,0,COUNT(V:V),1),1/COUNTIF(OFFSET($V$4,0,0,COUNT(V:V),1),OFFSET($V$4,0,0,COUNT(V:V),1))))+1} -> 10 | Y28: -
A29: ='Data Siswa'!A27 -> 26 | B29: ='Data Siswa'!B27 -> 0 | C29: ='Data Siswa'!C27 -> 0 | S29: =SUM(D29:R29) -> 0 | T29: =AVERAGE(D29:R29) -> #DIV/0! | V29: =SUM('Nilai Tahriri'!Z27,'Nilai Syafahi'!S29) -> 0 | W29: =AVERAGE(D29:R29,'Nilai Tahriri'!D27:Y27) -> #DIV/0! | X29: {=SUM(IF(V29<OFFSET($V$4,0,0,COUNT(V:V),1),1/COUNTIF(OFFSET($V$4,0,0,COUNT(V:V),1),OFFSET($V$4,0,0,COUNT(V:V),1))))+1} -> 22 | Y29: -
A30: ='Data Siswa'!A28 -> 27 | B30: ='Data Siswa'!B28 -> 0 | C30: ='Data Siswa'!C28 -> 0 | S30: =SUM(D30:R30) -> 0 | T30: =AVERAGE(D30:R30) -> #DIV/0! | V30: =SUM('Nilai Tahriri'!Z28,'Nilai Syafahi'!S30) -> 0 | W30: =AVERAGE(D30:R30,'Nilai Tahriri'!D28:Y28) -> #DIV/0! | X30: {=SUM(IF(V30<OFFSET($V$4,0,0,COUNT(V:V),1),1/COUNTIF(OFFSET($V$4,0,0,COUNT(V:V),1),OFFSET($V$4,0,0,COUNT(V:V),1))))+1} -> 22 | Y30: -
A31: ='Data Siswa'!A29 -> 28 | B31: ='Data Siswa'!B29 -> 0 | C31: ='Data Siswa'!C29 -> 0 | S31: =SUM(D31:R31) -> 0 | T31: =AVERAGE(D31:R31) -> #DIV/0! | V31: =SUM('Nilai Tahriri'!Z29,'Nilai Syafahi'!S31) -> 0 | W31: =AVERAGE(D31:R31,'Nilai Tahriri'!D29:Y29) -> #DIV/0! | X31: {=SUM(IF(V31<OFFSET($V$4,0,0,COUNT(V:V),1),1/COUNTIF(OFFSET($V$4,0,0,COUNT(V:V),1),OFFSET($V$4,0,0,COUNT(V:V),1))))+1} -> 22 | Y31: -
A32: ='Data Siswa'!A30 -> 29 | B32: ='Data Siswa'!B30 -> 0 | C32: ='Data Siswa'!C30 -> 0 | S32: =SUM(D32:R32) -> 0 | T32: =AVERAGE(D32:R32) -> #DIV/0! | V32: =SUM('Nilai Tahriri'!Z30,'Nilai Syafahi'!S32) -> 0 | W32: =AVERAGE(D32:R32,'Nilai Tahriri'!D30:Y30) -> #DIV/0! | X32: {=SUM(IF(V32<OFFSET($V$4,0,0,COUNT(V:V),1),1/COUNTIF(OFFSET($V$4,0,0,COUNT(V:V),1),OFFSET($V$4,0,0,COUNT(V:V),1))))+1} -> 22 | Y32: -
A33: ='Data Siswa'!A31 -> 30 | B33: ='Data Siswa'!B31 -> 0 | C33: ='Data Siswa'!C31 -> 0 | S33: =SUM(D33:R33) -> 0 | T33: =AVERAGE(D33:R33) -> #DIV/0! | V33: =SUM('Nilai Tahriri'!Z31,'Nilai Syafahi'!S33) -> 0 | W33: =AVERAGE(D33:R33,'Nilai Tahriri'!D31:Y31) -> #DIV/0! | X33: {=SUM(IF(V33<OFFSET($V$4,0,0,COUNT(V:V),1),1/COUNTIF(OFFSET($V$4,0,0,COUNT(V:V),1),OFFSET($V$4,0,0,COUNT(V:V),1))))+1} -> 22 | Y33: -
A34: ='Data Siswa'!A32 -> 31 | B34: ='Data Siswa'!B32 -> 0 | C34: ='Data Siswa'!C32 -> 0 | S34: =SUM(D34:R34) -> 0 | T34: =AVERAGE(D34:R34) -> #DIV/0! | V34: =SUM('Nilai Tahriri'!Z32,'Nilai Syafahi'!S34) -> 0 | W34: =AVERAGE(D34:R34,'Nilai Tahriri'!D32:Y32) -> #DIV/0! | X34: {=SUM(IF(V34<OFFSET($V$4,0,0,COUNT(V:V),1),1/COUNTIF(OFFSET($V$4,0,0,COUNT(V:V),1),OFFSET($V$4,0,0,COUNT(V:V),1))))+1} -> 22 | Y34: -
A35: ='Data Siswa'!A33 -> 32 | B35: ='Data Siswa'!B33 -> 0 | C35: ='Data Siswa'!C33 -> 0 | S35: =SUM(D35:R35) -> 0 | T35: =AVERAGE(D35:R35) -> #DIV/0! | V35: =SUM('Nilai Tahriri'!Z33,'Nilai Syafahi'!S35) -> 0 | W35: =AVERAGE(D35:R35,'Nilai Tahriri'!D33:Y33) -> #DIV/0! | X35: {=SUM(IF(V35<OFFSET($V$4,0,0,COUNT(V:V),1),1/COUNTIF(OFFSET($V$4,0,0,COUNT(V:V),1),OFFSET($V$4,0,0,COUNT(V:V),1))))+1} -> 22 | Y35: -
A36: ='Data Siswa'!A34 -> 33 | B36: ='Data Siswa'!B34 -> 0 | C36: ='Data Siswa'!C34 -> 0 | S36: =SUM(D36:R36) -> 0 | T36: =AVERAGE(D36:R36) -> #DIV/0! | V36: =SUM('Nilai Tahriri'!Z34,'Nilai Syafahi'!S36) -> 0 | W36: =AVERAGE(D36:R36,'Nilai Tahriri'!D34:Y34) -> #DIV/0! | X36: {=SUM(IF(V36<OFFSET($V$4,0,0,COUNT(V:V),1),1/COUNTIF(OFFSET($V$4,0,0,COUNT(V:V),1),OFFSET($V$4,0,0,COUNT(V:V),1))))+1} -> 22 | Y36: -
A37: ='Data Siswa'!A35 -> 34 | B37: ='Data Siswa'!B35 -> 0 | C37: ='Data Siswa'!C35 -> 0 | S37: =SUM(D37:R37) -> 0 | T37: =AVERAGE(D37:R37) -> #DIV/0! | V37: =SUM('Nilai Tahriri'!Z35,'Nilai Syafahi'!S37) -> 0 | W37: =AVERAGE(D37:R37,'Nilai Tahriri'!D35:Y35) -> #DIV/0! | X37: {=SUM(IF(V37<OFFSET($V$4,0,0,COUNT(V:V),1),1/COUNTIF(OFFSET($V$4,0,0,COUNT(V:V),1),OFFSET($V$4,0,0,COUNT(V:V),1))))+1} -> 22 | Y37: -
A38: ='Data Siswa'!A36 -> 35 | B38: ='Data Siswa'!B36 -> 0 | C38: ='Data Siswa'!C36 -> 0 | S38: =SUM(D38:R38) -> 0 | T38: =AVERAGE(D38:R38) -> #DIV/0! | V38: =SUM('Nilai Tahriri'!Z36,'Nilai Syafahi'!S38) -> 0 | W38: =AVERAGE(D38:R38,'Nilai Tahriri'!D36:Y36) -> #DIV/0! | X38: {=SUM(IF(V38<OFFSET($V$4,0,0,COUNT(V:V),1),1/COUNTIF(OFFSET($V$4,0,0,COUNT(V:V),1),OFFSET($V$4,0,0,COUNT(V:V),1))))+1} -> 22 | Y38: -
A39: ='Data Siswa'!A37 -> 36 | B39: ='Data Siswa'!B37 -> 0 | C39: ='Data Siswa'!C37 -> 0 | S39: =SUM(D39:R39) -> 0 | T39: =AVERAGE(D39:R39) -> #DIV/0! | V39: =SUM('Nilai Tahriri'!Z37,'Nilai Syafahi'!S39) -> 0 | W39: =AVERAGE(D39:R39,'Nilai Tahriri'!D37:Y37) -> #DIV/0! | X39: {=SUM(IF(V39<OFFSET($V$4,0,0,COUNT(V:V),1),1/COUNTIF(OFFSET($V$4,0,0,COUNT(V:V),1),OFFSET($V$4,0,0,COUNT(V:V),1))))+1} -> 22 | Y39: -
A40: ='Data Siswa'!A38 -> 37 | B40: ='Data Siswa'!B38 -> 0 | C40: ='Data Siswa'!C38 -> 0 | S40: =SUM(D40:R40) -> 0 | T40: =AVERAGE(D40:R40) -> #DIV/0! | V40: =SUM('Nilai Tahriri'!Z38,'Nilai Syafahi'!S40) -> 0 | W40: =AVERAGE(D40:R40,'Nilai Tahriri'!D38:Y38) -> #DIV/0! | X40: {=SUM(IF(V40<OFFSET($V$4,0,0,COUNT(V:V),1),1/COUNTIF(OFFSET($V$4,0,0,COUNT(V:V),1),OFFSET($V$4,0,0,COUNT(V:V),1))))+1} -> 22 | Y40: -
... A43: ='Data Siswa'!A41 -> 40 | B43: ='Data Siswa'!B41 -> 0 | C43: ='Data Siswa'!C41 -> 0 | S43: =SUM(D43:R43) -> 0 | T43: =AVERAGE(D43:R43) -> #DIV/0! | V43: =SUM('Nilai Tahriri'!Z41,'Nilai Syafahi'!S43) -> 0 | W43: =AVERAGE(D43:R43,'Nilai Tahriri'!D41:Y41) -> #DIV/0! | X43: {=SUM(IF(V43<OFFSET($V$4,0,0,COUNT(V:V),1),1/COUNTIF(OFFSET($V$4,0,0,COUNT(V:V),1),OFFSET($V$4,0,0,COUNT(V:V),1))))+1} -> 22 | Y43: -

Sheet Akhlak
A1: Biodata | D1: Akhlak
A2: No | B2: Nama Lengkap | C2: No Ujian | D2: البيان | G2: ايام الغيابة | J2: Catatan Wali Kelas Untuk Siswa
D3: النظافة | E3: السلك | F3: المواظبة | G3: لمرض | H3: لاستذان | I3: لآخر | J3: النقد
A4: ='Data Siswa'!A2 -> 1 | B4: ='Data Siswa'!B2 -> ANINDHITA MAHARANI | C4: ='Data Siswa'!C2 -> 0852 | D4: 8 | E4: 8 | F4: 8 | G4: 2
A5: ='Data Siswa'!A3 -> 2 | B5: ='Data Siswa'!B3 -> AULIA FAJRIANI | C5: ='Data Siswa'!C3 -> 0853 | D5: 8 | E5: 8 | F5: 7 | G5: 16
A6: ='Data Siswa'!A4 -> 3 | B6: ='Data Siswa'!B4 -> FADILAH ASIFA AYUNINGTIAS | C6: ='Data Siswa'!C4 -> 0854 | D6: 8 | E6: 8 | F6: 8
A7: ='Data Siswa'!A5 -> 4 | B7: ='Data Siswa'!B5 -> FARRAS AUFA ZAHIRA | C7: ='Data Siswa'!C5 -> 0855 | D7: 8 | E7: 8 | F7: 8 | G7: 2
A8: ='Data Siswa'!A6 -> 5 | B8: ='Data Siswa'!B6 -> HALIMAH RASYIDAH | C8: ='Data Siswa'!C6 -> 0856 | D8: 8 | E8: 8 | F8: 7 | G8: 9
A9: ='Data Siswa'!A7 -> 6 | B9: ='Data Siswa'!B7 -> IBNATY SALSABILA LIRABBIHA | C9: ='Data Siswa'!C7 -> 0857 | D9: 8 | E9: 8 | F9: 7 | G9: 30
A10: ='Data Siswa'!A8 -> 7 | B10: ='Data Siswa'!B8 -> ILFA MINNATIKA | C10: ='Data Siswa'!C8 -> 0858 | D10: 8 | E10: 8 | F10: 8 | G10: 1
A11: ='Data Siswa'!A9 -> 8 | B11: ='Data Siswa'!B9 -> MELAN ROSDIANI | C11: ='Data Siswa'!C9 -> 0859 | D11: 8 | E11: 8 | F11: 8 | G11: 9
A12: ='Data Siswa'!A10 -> 9 | B12: ='Data Siswa'!B10 -> MUTIA AZAHRA | C12: ='Data Siswa'!C10 -> 0860 | D12: 8 | E12: 8 | F12: 8 | G12: 2
A13: ='Data Siswa'!A11 -> 10 | B13: ='Data Siswa'!B11 -> MYIESHA NAFEEZA PUTRI PURNOMO | C13: ='Data Siswa'!C11 -> 0861 | D13: 8 | E13: 8 | F13: 8 | G13: 7
A14: ='Data Siswa'!A12 -> 11 | B14: ='Data Siswa'!B12 -> NAHDIATURIDHO | C14: ='Data Siswa'!C12 -> 0862 | D14: 8 | E14: 8 | F14: 8
A15: ='Data Siswa'!A13 -> 12 | B15: ='Data Siswa'!B13 -> NAIL SALMA KHAIRIN | C15: ='Data Siswa'!C13 -> 0863 | D15: 8 | E15: 8 | F15: 8 | G15: 2
A16: ='Data Siswa'!A14 -> 13 | B16: ='Data Siswa'!B14 -> NASYA DIAH SASMIDA | C16: ='Data Siswa'!C14 -> 0864 | D16: 8 | E16: 8 | F16: 8 | G16: 1
A17: ='Data Siswa'!A15 -> 14 | B17: ='Data Siswa'!B15 -> NASYWA ALIIYAH PUTRI | C17: ='Data Siswa'!C15 -> 0865 | D17: 8 | E17: 8 | F17: 7 | G17: 15 | H17: 1
A18: ='Data Siswa'!A16 -> 15 | B18: ='Data Siswa'!B16 -> NAYZILA HOLA SAFIRAH | C18: ='Data Siswa'!C16 -> 0866 | D18: 8 | E18: 8 | F18: 8 | G18: 3
A19: ='Data Siswa'!A17 -> 16 | B19: ='Data Siswa'!B17 -> NILAM EKY CAHYANI | C19: ='Data Siswa'!C17 -> 0867 | D19: 8 | E19: 8 | F19: 7 | G19: 8
A20: ='Data Siswa'!A18 -> 17 | B20: ='Data Siswa'!B18 -> RIKA NOVRIYATI | C20: ='Data Siswa'!C18 -> 0868 | D20: 8 | E20: 8 | F20: 7 | G20: 20
A21: ='Data Siswa'!A19 -> 18 | B21: ='Data Siswa'!B19 -> SABILA DITA ALMIRA ANASYA | C21: ='Data Siswa'!C19 -> 0869 | D21: 8 | E21: 8 | F21: 8 | G21: 3 | H21: 1
A22: ='Data Siswa'!A20 -> 19 | B22: ='Data Siswa'!B20 -> SALWA JANUA PUTRI | C22: ='Data Siswa'!C20 -> 0870 | D22: 8 | E22: 8 | F22: 7 | G22: 10 | H22: 2
A23: ='Data Siswa'!A21 -> 20 | B23: ='Data Siswa'!B21 -> SHAFA TRI NURAINI | C23: ='Data Siswa'!C21 -> 0871 | D23: 8 | E23: 8 | F23: 8 | G23: 3
A24: ='Data Siswa'!A22 -> 21 | B24: ='Data Siswa'!B22 -> SHINTA ARUM NANDANA PUTRI | C24: ='Data Siswa'!C22 -> 0872 | D24: 8 | E24: 8 | F24: 8 | G24: 2
A25: ='Data Siswa'!A23 -> 22 | B25: ='Data Siswa'!B23 -> SITI ELISA | C25: ='Data Siswa'!C23 -> 0873 | D25: 8 | E25: 8 | F25: 7 | G25: 10
A26: ='Data Siswa'!A24 -> 23 | B26: ='Data Siswa'!B24 -> SITI ROHMAH NUR'AZIZAH | C26: ='Data Siswa'!C24 -> 0874 | D26: 8 | E26: 8 | F26: 8 | H26: 2
A27: ='Data Siswa'!A25 -> 24 | B27: ='Data Siswa'!B25 -> SYAFA AULIA RIADHOTUL AISY | C27: ='Data Siswa'!C25 -> 0875 | D27: 8 | E27: 8 | F27: 8 | G27: 2
A28: ='Data Siswa'!A26 -> 25 | B28: ='Data Siswa'!B26 -> UMMY FATIHATUS SAUMAH | C28: ='Data Siswa'!C26 -> 0876 | D28: 8 | E28: 8 | F28: 8 | G28: 3
A29: ='Data Siswa'!A27 -> 26 | B29: ='Data Siswa'!B27 -> 0 | C29: ='Data Siswa'!C27 -> 0
A30: ='Data Siswa'!A28 -> 27 | B30: ='Data Siswa'!B28 -> 0 | C30: ='Data Siswa'!C28 -> 0
A31: ='Data Siswa'!A29 -> 28 | B31: ='Data Siswa'!B29 -> 0 | C31: ='Data Siswa'!C29 -> 0
A32: ='Data Siswa'!A30 -> 29 | B32: ='Data Siswa'!B30 -> 0 | C32: ='Data Siswa'!C30 -> 0
A33: ='Data Siswa'!A31 -> 30 | B33: ='Data Siswa'!B31 -> 0 | C33: ='Data Siswa'!C31 -> 0
A34: ='Data Siswa'!A32 -> 31 | B34: ='Data Siswa'!B32 -> 0 | C34: ='Data Siswa'!C32 -> 0
A35: ='Data Siswa'!A33 -> 32 | B35: ='Data Siswa'!B33 -> 0 | C35: ='Data Siswa'!C33 -> 0
A36: ='Data Siswa'!A34 -> 33 | B36: ='Data Siswa'!B34 -> 0 | C36: ='Data Siswa'!C34 -> 0
A37: ='Data Siswa'!A35 -> 34 | B37: ='Data Siswa'!B35 -> 0 | C37: ='Data Siswa'!C35 -> 0
A38: ='Data Siswa'!A36 -> 35 | B38: ='Data Siswa'!B36 -> 0 | C38: ='Data Siswa'!C36 -> 0
A39: ='Data Siswa'!A37 -> 36 | B39: ='Data Siswa'!B37 -> 0 | C39: ='Data Siswa'!C37 -> 0
A40: ='Data Siswa'!A38 -> 37 | B40: ='Data Siswa'!B38 -> 0 | C40: ='Data Siswa'!C38 -> 0
...

Sheet Rapot
B2: =VLOOKUP($U$7,'Nilai Tahriri'!$A$2:$Z$41,2,FALSE) -> UMMY FATIHATUS SAUMAH
B3: =Biodata!$B$10 -> العام الدراسي : ١٤٤٤ - ١٤٤٥ ه \ ٢٠٢٣ - ٢٠٢٤ م | M3: =Biodata!$B$7 -> الفصل الدراسي : الأول | P3: =Biodata!$B$4 -> الصف : الثاني ج للبنات
B5: الدرجة الكبرى ٨, الدرجة الصغرى ٤ | L5: مسـلسـل | M5: الدرجة الكبرى ٨, الدرجة الصغرى ٤ | R5: مسـلسـل
B6: الدرجة المكتسبة | G6: المواد الشفهية | M6: الدرجة المكتسبة | O6: المواد التحريرية | U6: HALAMAN
B7: كتابة | C7: رقم | M7: كتابة | N7: رقم | U7: 25
B8: اللغة العربية | M8: =VLOOKUP(N8,Sheet1!$A$1:$B$93,2) -> ستّ | N8: =VLOOKUP($U$7,'Nilai Tahriri'!$A$2:$Z$41,4,FALSE) -> 6 | P8: علم التجويد | R8: 1
B9: =VLOOKUP(C9,Sheet1!$A$1:$B$93,2) -> خمس | C9: =VLOOKUP($U$7,'Nilai Syafahi'!$A$4:$Y$43,4,FALSE) -> 5 | G9: الإنشاء \ التعبير الشفهي | L9: 40 | M9: =VLOOKUP(N9,Sheet1!$A$1:$B$93,2) -> ثمان | N9: =VLOOKUP($U$7,'Nilai Tahriri'!$A$2:$Z$41,5,FALSE) -> 8 | P9: التفسير | R9: 2 | U9: Awal | V9: 1
B10: =VLOOKUP(C10,Sheet1!$A$1:$B$93,2) -> اربع | C10: =VLOOKUP($U$7,'Nilai Syafahi'!$A$4:$Y$43,5,FALSE) -> 4 | K10: النحو | L10: 41 | M10: =VLOOKUP(N10,Sheet1!$A$1:$B$93,2) -> ستّ | N10: =VLOOKUP($U$7,'Nilai Tahriri'!$A$2:$Z$41,6,FALSE) -> 6 | P10: الحديث | R10: 3
B11: =VLOOKUP(C11,Sheet1!$A$1:$B$93,2) -> خمس | C11: =VLOOKUP($U$7,'Nilai Syafahi'!$A$4:$Y$43,6,FALSE) -> 5 | K11: الصرف | L11: 42 | M11: =VLOOKUP(N11,Sheet1!$A$1:$B$93,2) | P11: مصطلح الحديث | R11: 4 | U11: Akhir | V11: 25
B12: =VLOOKUP(C12,Sheet1!$A$1:$B$93,2) -> خمس | C12: =VLOOKUP($U$7,'Nilai Syafahi'!$A$4:$Y$43,7,FALSE) -> 5 | K12: المطالعة | L12: 43 | M12: =VLOOKUP(N12,Sheet1!$A$1:$B$93,2) -> خمس | N12: =VLOOKUP($U$7,'Nilai Tahriri'!$A$2:$Z$41,7,FALSE) -> 5 | P12: الفقه | R12: 5
B13: =VLOOKUP(C13,Sheet1!$A$1:$B$93,2) -> اربع و نصف | C13: =VLOOKUP($U$7,'Nilai Syafahi'!$A$4:$Y$43,8,FALSE) -> 4.5 | K13: النصوص الأدبية | L13: 44 | M13: =VLOOKUP(N13,Sheet1!$A$1:$B$93,2) | P13: أصول الفقه | R13: 6
B14: =VLOOKUP(C14,Sheet1!$A$1:$B$93,2) -> خمس و نصف | C14: =VLOOKUP($U$7,'Nilai Syafahi'!$A$4:$Y$43,9,FALSE) -> 5.5 | K14: المحادثة العربية | L14: 45 | M14: =VLOOKUP(N14,Sheet1!$A$1:$B$93,2) | P14: علم الفرائض | R14: 7
B15: اللغة الإنجليزية | M15: =VLOOKUP(N15,Sheet1!$A$1:$B$93,2) -> خمس و نصف | N15: =VLOOKUP($U$7,'Nilai Tahriri'!$A$2:$Z$41,8,FALSE) -> 5.5 | P15: أصول الدين \ التوحيد | R15: 8
B16: =VLOOKUP(C16,Sheet1!$A$1:$B$93,2) -> خمس | C16: =VLOOKUP($U$7,'Nilai Syafahi'!$A$4:$Y$43,10,FALSE) -> 5 | G16: Conversation | L16: 46 | M16: =VLOOKUP(N16,Sheet1!$A$1:$B$93,2) | P16: الديانة\الأديان | R16: 9
B17: =VLOOKUP(C17,Sheet1!$A$1:$B$93,2) | G17: Grammer | H17: Grammer | I17: Grammer | J17: Grammer | K17: Grammer | L17: 47 | M17: =VLOOKUP(N17,Sheet1!$A$1:$B$93,2) | P17: تاريخ التشريع الإسلامي | R17: 10
B18: =VLOOKUP(C18,Sheet1!$A$1:$B$93,2) | G18: Structure | L18: 48 | M18: =VLOOKUP(N18,Sheet1!$A$1:$B$93,2) -> ستّ | N18: =VLOOKUP($U$7,'Nilai Tahriri'!$A$2:$Z$41,9,FALSE) -> 6 | P18: تاريخ الإسلام | R18: 11
B19: =VLOOKUP(C19,Sheet1!$A$1:$B$93,2) -> خمس | C19: =VLOOKUP($U$7,'Nilai Syafahi'!$A$4:$Y$43,11,FALSE) -> 5 | G19: Reading | L19: 49 | M19: =VLOOKUP(N19,Sheet1!$A$1:$B$93,2) -> خمس | N19: =VLOOKUP($U$7,'Nilai Tahriri'!$A$2:$Z$41,10,FALSE) -> 5 | P19: الإنشاء \ التعبير التحريري | R19: 12
B20: =VLOOKUP(C20,Sheet1!$A$1:$B$93,2) -> ستّ | C20: =VLOOKUP($U$7,'Nilai Syafahi'!$A$4:$Y$43,12,FALSE) -> 6 | G20: Vocabularies | L20: 50 | M20: =VLOOKUP(N20,Sheet1!$A$1:$B$93,2) -> ستّ | N20: =VLOOKUP($U$7,'Nilai Tahriri'!$A$2:$Z$41,11,FALSE) -> 6 | P20: تمرين اللغة العربية | R20: 13
B21: المواد الفقهية | M21: =VLOOKUP(N21,Sheet1!$A$1:$B$93,2) -> خمس و نصف | N21: =VLOOKUP($U$7,'Nilai Tahriri'!$A$2:$Z$41,12,FALSE) -> 5.5 | P21: المطالعة | R21: 14
B22: =VLOOKUP(C22,Sheet1!$A$1:$B$93,2) -> سبع و نصف | C22: =VLOOKUP($U$7,'Nilai Syafahi'!$A$4:$Y$43,13,FALSE) -> 7.5 | G22: قراءة القرآن | L22: 51 | M22: =VLOOKUP(N22,Sheet1!$A$1:$B$93,2) -> خمس و نصف | N22: =VLOOKUP($U$7,'Nilai Tahriri'!$A$2:$Z$41,13,FALSE) -> 5.5 | P22: النصوص الأدبية | Q22: 12 | R22: 15
B23: =VLOOKUP(C23,Sheet1!$A$1:$B$93,2) -> سبع | C23: =VLOOKUP($U$7,'Nilai Syafahi'!$A$4:$Y$43,14,FALSE) -> 7 | G23: التجويد | L23: 52 | M23: =VLOOKUP(N23,Sheet1!$A$1:$B$93,2) -> اربع و نصف | N23: =VLOOKUP($U$7,'Nilai Tahriri'!$A$2:$Z$41,14,FALSE) -> 4.5 | P23: النحو والتطبيق | R23: 16
B24: =VLOOKUP(C24,Sheet1!$A$1:$B$93,2) -> ست و نصف | C24: =VLOOKUP($U$7,'Nilai Syafahi'!$A$4:$Y$43,15,FALSE) -> 6.5 | G24: حفط القرآن | L24: 53 | M24: =VLOOKUP(N24,Sheet1!$A$1:$B$93,2) -> خمس | N24: =VLOOKUP($U$7,'Nilai Tahriri'!$A$2:$Z$41,15,FALSE) -> 5 | P24: الصرف والتطبيق | R24: 17
B25: =VLOOKUP(C25,Sheet1!$A$1:$B$93,2) -> ستّ | C25: =VLOOKUP($U$7,'Nilai Syafahi'!$A$4:$Y$43,16,FALSE) -> 6 | G25: الفقه | L25: 54 | M25: =VLOOKUP(N25,Sheet1!$A$1:$B$93,2) | P25: البلاغة | R25: 18
B26: =VLOOKUP(C26,Sheet1!$A$1:$B$93,2) -> سبع | C26: =VLOOKUP($U$7,'Nilai Syafahi'!$A$4:$Y$43,17,FALSE) -> 7 | G26: Praktik Sholat | K26: ممارسة الصلاة | L26: 55 | M26: =VLOOKUP(N26,Sheet1!$A$1:$B$93,2) | P26: علم المنطق | R26: 19
B27: =VLOOKUP(C27,Sheet1!$A$1:$B$93,2) -> ست و نصف | C27: =VLOOKUP($U$7,'Nilai Syafahi'!$A$4:$Y$43,18,FALSE) -> 6.5 | G27: الأدعية اليومية | L27: 56 | M27: =VLOOKUP(N27,Sheet1!$A$1:$B$93,2) | P27: تا. أدب اللغة | R27: 20
B28: كتب التراث | M28: =VLOOKUP(N28,Sheet1!$A$1:$B$93,2) -> خمس | N28: =VLOOKUP($U$7,'Nilai Tahriri'!$A$2:$Z$41,16,FALSE) -> 5 | P28: الإملاء | R28: 21
G29: فتح القريب | L29: 57 | M29: =VLOOKUP(N29,Sheet1!$A$1:$B$93,2) -> ستّ | N29: =VLOOKUP($U$7,'Nilai Tahriri'!$A$2:$Z$41,17,FALSE) -> 6 | P29: الخط العربي | R29: 22
B30: =VLOOKUP(C30,Sheet1!$A$1:$B$93,2) | G30: فتح المعين | L30: 58 | M30: =VLOOKUP(N30,Sheet1!$A$1:$B$93,2) | P30: التربية والتعليم | R30: 23
B31: =VLOOKUP(C31,Sheet1!$A$1:$B$93,2) | G31: العمريطي | L31: 59 | M31: =VLOOKUP(N31,Sheet1!$A$1:$B$93,2) | P31: التربية العملية | R31: 24
B32: =VLOOKUP(C32,Sheet1!$A$1:$B$93,2) | G32: الفية ابن مالك | L32: 60 | M32: =VLOOKUP(N32,Sheet1!$A$1:$B$93,2) -> ثمان | N32: =VLOOKUP($U$7,'Nilai Tahriri'!$A$2:$Z$41,18,FALSE) -> 8 | P32: روح المعهد | R32: 25
B33: =VLOOKUP($U$7,'Nilai Syafahi'!$A$4:$Y$43,19,FALSE) -> 85.5 | K33: الجملة | M33: =VLOOKUP(N33,Sheet1!$A$1:$B$93,2) -> ثمان | N33: =VLOOKUP($U$7,'Nilai Tahriri'!$A$2:$Z$41,19,FALSE) -> 8 | P33: الخطابة | R33: 26
M34: =VLOOKUP(N34,Sheet1!$A$1:$B$93,2) -> ثمان | N34: =VLOOKUP($U$7,'Nilai Tahriri'!$A$2:$Z$41,20,FALSE) -> 8 | O34: Bhs. Inggris | P34: الإنجليزية | R34: 27
B35: البيان | M35: =VLOOKUP(N35,Sheet1!$A$1:$B$93,2) -> سبع | N35: =VLOOKUP($U$7,'Nilai Tahriri'!$A$2:$Z$41,21,FALSE) -> 7 | O35: Bhs. Indonesia | P35: الإندونيسية | R35: 28
B36: المواظبة | D36: السلوك | K36: النظافة | M36: =VLOOKUP(N36,Sheet1!$A$1:$B$93,2) -> سبع و نصف | N36: =VLOOKUP($U$7,'Nilai Tahriri'!$A$2:$Z$41,22,FALSE) -> 7.5 | O36: Matematika | P36: الرياضية | R36: 29
B37: =VLOOKUP($U$7,Akhlak!$A$4:$J$43,6,FALSE) -> 8 | D37: =VLOOKUP($U$7,Akhlak!$A$4:$J$43,5,FALSE) -> 8 | K37: =VLOOKUP($U$7,Akhlak!$A$4:$J$43,4,FALSE) -> 8 | M37: =VLOOKUP(N37,Sheet1!$A$1:$B$93,2) | O37: Fisika | P37: الفيزياء | R37: 30
B38: أيام الغياب | M38: =VLOOKUP(N38,Sheet1!$A$1:$B$93,2) -> سبع و نصف | N38: =VLOOKUP($U$7,'Nilai Tahriri'!$A$2:$Z$41,23,FALSE) -> 7.5 | O38: Biologi | P38: البيولوجيا | R38: 31
B39: لآخر | D39: لاسـتئذان | K39: لمرض | M39: =VLOOKUP(N39,Sheet1!$A$1:$B$93,2) | O39: Kimia | P39: الكيمياء | R39: 32
B40: =VLOOKUP($U$7,Akhlak!$A$4:$J$43,9,FALSE) -> 0 | D40: =VLOOKUP($U$7,Akhlak!$A$4:$J$43,8,FALSE) -> 0 | K40: =VLOOKUP($U$7,Akhlak!$A$4:$J$43,7,FALSE) -> 3 | M40: =VLOOKUP(N40,Sheet1!$A$1:$B$93,2) -> ثمان | N40: =VLOOKUP($U$7,'Nilai Tahriri'!$A$2:$Z$41,24,FALSE) -> 8 | O40: Geografi | P40: الجغرافيا | R40: 33
B41: مستوى التفوق | D41: التقدير العام | M41: =VLOOKUP(N41,Sheet1!$A$1:$B$93,2) | O41: Sosiologi | P41: سوسيولوجيا | R41: 34
B42: =VLOOKUP($U$7,'Nilai Syafahi'!$A$4:$Y$43,24,FALSE) -> 10 | D42: =VLOOKUP($U$7,'Nilai Syafahi'!$A$4:$Y$43,23,FALSE) -> 6.1081081 | K42: =VLOOKUP($U$7,'Nilai Syafahi'!$A$4:$Y$43,22,FALSE) -> 226 | M42: =VLOOKUP(N42,Sheet1!$A$1:$B$93,2) | O42: Ekonomi | P42: الإقتصادية | R42: 35
...

Sheet Rekap Nilai
A1: REKAP NILAI UJIAN
A3: =Biodata!C4 -> الثاني ج للبنات
A5: No | B5: Nama | C5: No Ujian | D5: Jumlah Nilai | E5: Nilai Rata-Rata | F5: Peringkat | G5: Keterangan
A6: 1 | B6: ='Data Siswa'!B16 -> NAYZILA HOLA SAFIRAH | C6: ='Data Siswa'!C16 -> 0866 | D6: ='Nilai Syafahi'!V18 -> 250 | E6: ='Nilai Syafahi'!W18 -> 6.7567568 | F6: ='Nilai Syafahi'!X18 -> 1 | G6: ='Nilai Syafahi'!Y18 -> -
A7: 2 | B7: ='Data Siswa'!B2 -> ANINDHITA MAHARANI | C7: ='Data Siswa'!C2 -> 0852 | D7: ='Nilai Syafahi'!V4 -> 247.5 | E7: ='Nilai Syafahi'!W4 -> 6.6891892 | F7: ='Nilai Syafahi'!X4 -> 2 | G7: ='Nilai Syafahi'!Y4 -> -
A8: 3 | B8: ='Data Siswa'!B24 -> SITI ROHMAH NUR'AZIZAH | C8: ='Data Siswa'!C24 -> 0874 | D8: ='Nilai Syafahi'!V26 -> 245 | E8: ='Nilai Syafahi'!W26 -> 6.6216216 | F8: ='Nilai Syafahi'!X26 -> 3 | G8: ='Nilai Syafahi'!Y26 -> -
A9: 4 | B9: ='Data Siswa'!B5 -> FARRAS AUFA ZAHIRA | C9: ='Data Siswa'!C5 -> 0855 | D9: ='Nilai Syafahi'!V7 -> 244 | E9: ='Nilai Syafahi'!W7 -> 6.5945946 | F9: ='Nilai Syafahi'!X7 -> 4 | G9: ='Nilai Syafahi'!Y7 -> -
A10: 5 | B10: ='Data Siswa'!B14 -> NASYA DIAH SASMIDA | C10: ='Data Siswa'!C14 -> 0864 | D10: ='Nilai Syafahi'!V16 -> 234.5 | E10: ='Nilai Syafahi'!W16 -> 6.3378378 | F10: ='Nilai Syafahi'!X16 -> 5 | G10: ='Nilai Syafahi'!Y16 -> -
A11: 6 | B11: ='Data Siswa'!B9 -> MELAN ROSDIANI | C11: ='Data Siswa'!C9 -> 0859 | D11: ='Nilai Syafahi'!V11 -> 231 | E11: ='Nilai Syafahi'!W11 -> 6.2432432 | F11: ='Nilai Syafahi'!X11 -> 6 | G11: ='Nilai Syafahi'!Y11 -> -
A12: 7 | B12: ='Data Siswa'!B10 -> MUTIA AZAHRA | C12: ='Data Siswa'!C10 -> 0860 | D12: ='Nilai Syafahi'!V12 -> 231 | E12: ='Nilai Syafahi'!W12 -> 6.2432432 | F12: ='Nilai Syafahi'!X12 -> 6 | G12: ='Nilai Syafahi'!Y12 -> -
A13: 8 | B13: ='Data Siswa'!B18 -> RIKA NOVRIYATI | C13: ='Data Siswa'!C18 -> 0868 | D13: ='Nilai Syafahi'!V20 -> 229.5 | E13: ='Nilai Syafahi'!W20 -> 6.2027027 | F13: ='Nilai Syafahi'!X20 -> 7 | G13: ='Nilai Syafahi'!Y20 -> -
A14: 9 | B14: ='Data Siswa'!B11 -> MYIESHA NAFEEZA PUTRI PURNOMO | C14: ='Data Siswa'!C11 -> 0861 | D14: ='Nilai Syafahi'!V13 -> 227.5 | E14: ='Nilai Syafahi'!W13 -> 6.1486486 | F14: ='Nilai Syafahi'!X13 -> 8 | G14: ='Nilai Syafahi'!Y13 -> -
A15: 10 | B15: ='Data Siswa'!B20 -> SALWA JANUA PUTRI | C15: ='Data Siswa'!C20 -> 0870 | D15: ='Nilai Syafahi'!V22 -> 227.5 | E15: ='Nilai Syafahi'!W22 -> 6.1486486 | F15: ='Nilai Syafahi'!X22 -> 8 | G15: ='Nilai Syafahi'!Y22 -> -
A16: 11 | B16: ='Data Siswa'!B19 -> SABILA DITA ALMIRA ANASYA | C16: ='Data Siswa'!C19 -> 0869 | D16: ='Nilai Syafahi'!V21 -> 227 | E16: ='Nilai Syafahi'!W21 -> 6.1351351 | F16: ='Nilai Syafahi'!X21 -> 9 | G16: ='Nilai Syafahi'!Y21 -> -
A17: 12 | B17: ='Data Siswa'!B25 -> SYAFA AULIA RIADHOTUL AISY | C17: ='Data Siswa'!C25 -> 0875 | D17: ='Nilai Syafahi'!V27 -> 227 | E17: ='Nilai Syafahi'!W27 -> 6.1351351 | F17: ='Nilai Syafahi'!X27 -> 9 | G17: ='Nilai Syafahi'!Y27 -> -
A18: 13 | B18: ='Data Siswa'!B26 -> UMMY FATIHATUS SAUMAH | C18: ='Data Siswa'!C26 -> 0876 | D18: ='Nilai Syafahi'!V28 -> 226 | E18: ='Nilai Syafahi'!W28 -> 6.1081081 | F18: ='Nilai Syafahi'!X28 -> 10 | G18: ='Nilai Syafahi'!Y28 -> -
A19: 14 | B19: ='Data Siswa'!B6 -> HALIMAH RASYIDAH | C19: ='Data Siswa'!C6 -> 0856 | D19: ='Nilai Syafahi'!V8 -> 225.5 | E19: ='Nilai Syafahi'!W8 -> 6.0945946 | F19: ='Nilai Syafahi'!X8 -> 11 | G19: ='Nilai Syafahi'!Y8 -> -
A20: 15 | B20: ='Data Siswa'!B4 -> FADILAH ASIFA AYUNINGTIAS | C20: ='Data Siswa'!C4 -> 0854 | D20: ='Nilai Syafahi'!V6 -> 224.5 | E20: ='Nilai Syafahi'!W6 -> 6.0675676 | F20: ='Nilai Syafahi'!X6 -> 12 | G20: ='Nilai Syafahi'!Y6 -> -
A21: 16 | B21: ='Data Siswa'!B13 -> NAIL SALMA KHAIRIN | C21: ='Data Siswa'!C13 -> 0863 | D21: ='Nilai Syafahi'!V15 -> 223 | E21: ='Nilai Syafahi'!W15 -> 6.027027 | F21: ='Nilai Syafahi'!X15 -> 13 | G21: ='Nilai Syafahi'!Y15 -> -
A22: 17 | B22: ='Data Siswa'!B15 -> NASYWA ALIIYAH PUTRI | C22: ='Data Siswa'!C15 -> 0865 | D22: ='Nilai Syafahi'!V17 -> 221 | E22: ='Nilai Syafahi'!W17 -> 5.972973 | F22: ='Nilai Syafahi'!X17 -> 14 | G22: ='Nilai Syafahi'!Y17 -> -
A23: 18 | B23: ='Data Siswa'!B22 -> SHINTA ARUM NANDANA PUTRI | C23: ='Data Siswa'!C22 -> 0872 | D23: ='Nilai Syafahi'!V24 -> 220 | E23: ='Nilai Syafahi'!W24 -> 5.9459459 | F23: ='Nilai Syafahi'!X24 -> 15 | G23: ='Nilai Syafahi'!Y24 -> -
A24: 19 | B24: ='Data Siswa'!B23 -> SITI ELISA | C24: ='Data Siswa'!C23 -> 0873 | D24: ='Nilai Syafahi'!V25 -> 220 | E24: ='Nilai Syafahi'!W25 -> 5.9459459 | F24: ='Nilai Syafahi'!X25 -> 15 | G24: ='Nilai Syafahi'!Y25 -> -
A25: 20 | B25: ='Data Siswa'!B12 -> NAHDIATURIDHO | C25: ='Data Siswa'!C12 -> 0862 | D25: ='Nilai Syafahi'!V14 -> 219 | E25: ='Nilai Syafahi'!W14 -> 5.9189189 | F25: ='Nilai Syafahi'!X14 -> 16 | G25: ='Nilai Syafahi'!Y14 -> -
A26: 21 | B26: ='Data Siswa'!B8 -> ILFA MINNATIKA | C26: ='Data Siswa'!C8 -> 0858 | D26: ='Nilai Syafahi'!V10 -> 218.5 | E26: ='Nilai Syafahi'!W10 -> 5.9054054 | F26: ='Nilai Syafahi'!X10 -> 17 | G26: ='Nilai Syafahi'!Y10 -> -
A27: 22 | B27: ='Data Siswa'!B17 -> NILAM EKY CAHYANI | C27: ='Data Siswa'!C17 -> 0867 | D27: ='Nilai Syafahi'!V19 -> 217.5 | E27: ='Nilai Syafahi'!W19 -> 5.8783784 | F27: ='Nilai Syafahi'!X19 -> 18 | G27: ='Nilai Syafahi'!Y19 -> -
A28: 23 | B28: ='Data Siswa'!B3 -> AULIA FAJRIANI | C28: ='Data Siswa'!C3 -> 0853 | D28: ='Nilai Syafahi'!V5 -> 215 | E28: ='Nilai Syafahi'!W5 -> 5.8108108 | F28: ='Nilai Syafahi'!X5 -> 19 | G28: ='Nilai Syafahi'!Y5 -> -
A29: 24 | B29: ='Data Siswa'!B21 -> SHAFA TRI NURAINI | C29: ='Data Siswa'!C21 -> 0871 | D29: ='Nilai Syafahi'!V23 -> 213.5 | E29: ='Nilai Syafahi'!W23 -> 5.7702703 | F29: ='Nilai Syafahi'!X23 -> 20 | G29: ='Nilai Syafahi'!Y23 -> -
A30: 25 | B30: ='Data Siswa'!B7 -> IBNATY SALSABILA LIRABBIHA | C30: ='Data Siswa'!C7 -> 0857 | D30: ='Nilai Syafahi'!V9 -> 202.5 | E30: ='Nilai Syafahi'!W9 -> 5.472973 | F30: ='Nilai Syafahi'!X9 -> 21 | G30: ='Nilai Syafahi'!Y9 -> -
A31: 26 | B31: ='Data Siswa'!B27 -> 0 | C31: ='Data Siswa'!C27 -> 0 | D31: ='Nilai Syafahi'!V29 -> 0 | E31: ='Nilai Syafahi'!W29 -> #DIV/0! | F31: ='Nilai Syafahi'!X29 -> 22 | G31: ='Nilai Syafahi'!Y29 -> -
A32: 27 | B32: ='Data Siswa'!B28 -> 0 | C32: ='Data Siswa'!C28 -> 0 | D32: ='Nilai Syafahi'!V30 -> 0 | E32: ='Nilai Syafahi'!W30 -> #DIV/0! | F32: ='Nilai Syafahi'!X30 -> 22 | G32: ='Nilai Syafahi'!Y30 -> -
A33: 28 | B33: ='Data Siswa'!B29 -> 0 | C33: ='Data Siswa'!C29 -> 0 | D33: ='Nilai Syafahi'!V31 -> 0 | E33: ='Nilai Syafahi'!W31 -> #DIV/0! | F33: ='Nilai Syafahi'!X31 -> 22 | G33: ='Nilai Syafahi'!Y31 -> -
A34: 29 | B34: ='Data Siswa'!B30 -> 0 | C34: ='Data Siswa'!C30 -> 0 | D34: ='Nilai Syafahi'!V32 -> 0 | E34: ='Nilai Syafahi'!W32 -> #DIV/0! | F34: ='Nilai Syafahi'!X32 -> 22 | G34: ='Nilai Syafahi'!Y32 -> -
A35: 30 | B35: ='Data Siswa'!B31 -> 0 | C35: ='Data Siswa'!C31 -> 0 | D35: ='Nilai Syafahi'!V33 -> 0 | E35: ='Nilai Syafahi'!W33 -> #DIV/0! | F35: ='Nilai Syafahi'!X33 -> 22 | G35: ='Nilai Syafahi'!Y33 -> -
A36: 31 | B36: ='Data Siswa'!B32 -> 0 | C36: ='Data Siswa'!C32 -> 0 | D36: ='Nilai Syafahi'!V34 -> 0 | E36: ='Nilai Syafahi'!W34 -> #DIV/0! | F36: ='Nilai Syafahi'!X34 -> 22 | G36: ='Nilai Syafahi'!Y34 -> -
A37: 32 | B37: ='Data Siswa'!B33 -> 0 | C37: ='Data Siswa'!C33 -> 0 | D37: ='Nilai Syafahi'!V35 -> 0 | E37: ='Nilai Syafahi'!W35 -> #DIV/0! | F37: ='Nilai Syafahi'!X35 -> 22 | G37: ='Nilai Syafahi'!Y35 -> -
A38: 33 | B38: ='Data Siswa'!B34 -> 0 | C38: ='Data Siswa'!C34 -> 0 | D38: ='Nilai Syafahi'!V36 -> 0 | E38: ='Nilai Syafahi'!W36 -> #DIV/0! | F38: ='Nilai Syafahi'!X36 -> 22 | G38: ='Nilai Syafahi'!Y36 -> -
A39: 34 | B39: ='Data Siswa'!B35 -> 0 | C39: ='Data Siswa'!C35 -> 0 | D39: ='Nilai Syafahi'!V37 -> 0 | E39: ='Nilai Syafahi'!W37 -> #DIV/0! | F39: ='Nilai Syafahi'!X37 -> 22 | G39: ='Nilai Syafahi'!Y37 -> -
A40: 35 | B40: ='Data Siswa'!B36 -> 0 | C40: ='Data Siswa'!C36 -> 0 | D40: ='Nilai Syafahi'!V38 -> 0 | E40: ='Nilai Syafahi'!W38 -> #DIV/0! | F40: ='Nilai Syafahi'!X38 -> 22 | G40: ='Nilai Syafahi'!Y38 -> -
A41: 36 | B41: ='Data Siswa'!B37 -> 0 | C41: ='Data Siswa'!C37 -> 0 | D41: ='Nilai Syafahi'!V39 -> 0 | E41: ='Nilai Syafahi'!W39 -> #DIV/0! | F41: ='Nilai Syafahi'!X39 -> 22 | G41: ='Nilai Syafahi'!Y39 -> -
A42: 37 | B42: ='Data Siswa'!B38 -> 0 | C42: ='Data Siswa'!C38 -> 0 | D42: ='Nilai Syafahi'!V40 -> 0 | E42: ='Nilai Syafahi'!W40 -> #DIV/0! | F42: ='Nilai Syafahi'!X40 -> 22 | G42: ='Nilai Syafahi'!Y40 -> -
...

Sheet Sheet1
A2: 0
A3: 1 | B3: واحد
A4: 1.1 | B4: واحد و واحد
A5: 1.2 | B5: واحد و اثنين
A6: 1.3 | B6: واحد و ثلاث
A7: 1.4 | B7: واحد و اربع
A8: 1.5 | B8: واحد و نصف
A9: 1.6 | B9: واحد و ست
A10: 1.7 | B10: واحد و سبع
A11: 1.8 | B11: واحد و ثمان
A12: 1.9 | B12: واحد و تسع
A13: 2 | B13: اثنين
A14: 2.1 | B14: اثنين و واحد
... A93: 10 | B93: عشر
