Workbook
Name nilai: 'Nilai Tahriri'!$B$2:$AG$27

Sheet Identitas
C2: NAMA WALI KELAS
C4: KELAS
C6: SEMESTER
C8: TAHUN PELAJARAN
C10: TANGGAL HIJRIYAH
C12: TANGGAL MILADIYAH

Sheet Biodata
C1: IDENTITAS RAPOT
B4: =CONCATENATE(F4," ",E4," ",C4) -> الصف : الرابع ج للبنات | C4: الرابع ج للبنات | E4: : | F4: الصف | G4: 1
F5: ( Kelas )
B7: =CONCATENATE(F7," ",E7," ",C7) -> الفصل الدراسي : الأول | C7: الأول | E7: : | F7: الفصل الدراسي | G7: 2
F8: ( Semester )
B10: =CONCATENATE(F10," : ",C11," ه"," \ ",C10," م") -> العام الدراسي : ١٤٤٤ - ١٤٤٥ ه \ ٢٠٢٣ - ٢٠٢٤ م | C10: ٢٠٢٣ - ٢٠٢٤ | E10: : | F10: العام الدراسي | G10: 3
C11: ١٤٤٤ - ١٤٤٥ | F11: ( Tahun Pelajaran )
C13: ٠٩ من جمادى الآخر سنة ١٤٤٥ ه | E13: : | F13: تحريرا بسـيرانج في | G13: 4
C14: ٢٢ من ديسمبر سنة ٢٠٢٣ م | F14: ( Tanggal Rapot )
C16: الأستاذ شهاب المعي | E16: : | F16: مدير المدرسة | G16: 5
F17: ( Nama Kepala Sekolah )
E19: : | F19: ولي الفصل | G19: 6
F20: ( Nama Wali Kelas )

Sheet Data Siswa
A1: No | B1: Nama | C1: No Exam | D1: Keterangan
A2: 1 | B2: ALIFA RIZKIYAH | C2: 1097
A3: 2 | B3: ASSYIFA RAHMAWATI | C3: 1098
A4: 3 | B4: ATHIRA PUTRI TAZKIAH | C4: 1099
A5: 4 | B5: AYU FITRI RAMADHANI | C5: 1100
A6: 5 | B6: BUNGA AULIA | C6: 1101
A7: 6 | B7: DINA LAURA | C7: 1102
A8: 7 | B8: EVI OKTAVIANI | C8: 1103
A9: 8 | B9: INDAH MAELANI | C9: 1104
A10: 9 | B10: MAR'AH AINUN NABILAH | C10: 1105
A11: 10 | B11: MUTIARA INDAH PRATIWI | C11: 1106
A12: 11 | B12: NAILA RIZKI ARABELA | C12: 1107
A13: 12 | B13: NAILA SEPTIANI | C13: 1108
... A31: 30 | B31: ZASKIA ANANTA PAMBUDI | C31: 1126
A32: 31
A33: 32
A34: 33
A35: 34
A36: 35
A37: 36
A38: 37
A39: 38
A40: 39
A41: 40

Sheet Nilai Tahriri
A1: No | B1: Nama | C1: No Ujian | D1: التفسير | E1: الحديث | F1: الفقه | G1: اصول الفقه | H1: الديانة | I1: التاريخ الإسلام | J1: التعبير التحريري | K1: تمرين اللغة | L1: المطالعة | M1: النصوص الأدبية | N1: النحو | O1: الصرف | P1: البلاغة | Q1: الإملاء | R1: الخط | S1: التربية والتعليم | T1: روح المعهد | U1: الخطابة | V1: B. Inggris | W1: B. Indonesia | X1: Matematika | Y1: Fisika | Z1: Biologi | AA1: Kimia | AB1: Geografi | AC1: Sosiologi | AD1: Ekonomi | AE1: PPKN | AF1: Sjrh. Indo | AG1: Jumlah Nilai | AH1: Nilai Rata2
A2: ='Data Siswa'!A2 -> 1 | B2: ='Data Siswa'!B2 -> ALIFA RIZKIYAH | C2: ='Data Siswa'!C2 -> 1097 | D2: 4.5 | E2: 4.5 | F2: 4.5 | G2: 5.5 | H2: 5 | I2: 4.8 | J2: 4 | K2: 5 | L2: 7 | M2: 5.5 | N2: 5 | O2: 4 | P2: 4 | Q2: 5 | R2: 5 | S2: 5.5 | T2: 8 | U2: 7 | V2: 7.5 | W2: 7.5 | X2: 7.5 | AB2: 7.8 | AC2: 6.5 | AD2: 6.5 | AE2: 8 | AF2: 8 | AG2: =SUM(D2:AF2) -> 153.1 | AH2: =AVERAGE(D2:AF2) -> 5.8884615
A3: ='Data Siswa'!A3 -> 2 | B3: ='Data Siswa'!B3 -> ASSYIFA RAHMAWATI | C3: ='Data Siswa'!C3 -> 1098 | H3: 4.5 | I3: 4 | J3: 4 | L3: 6.5 | M3: 5 | N3: 5 | P3: 4 | Q3: 6 | R3: 5 | S3: 6.5 | T3: 8 | U3: 7 | V3: 8.2 | X3: 8 | AC3: 6 | AD3: 6.5 | AE3: 8.3 | AG3: =SUM(D3:AF3) -> 102.5 | AH3: =AVERAGE(D3:AF3) -> 6.0294118
A4: ='Data Siswa'!A4 -> 3 | B4: ='Data Siswa'!B4 -> ATHIRA PUTRI TAZKIAH | C4: ='Data Siswa'!C4 -> 1099 | E4: 4.5 | F4: 5.5 | G4: 5 | H4: 4.5 | I4: 4 | J4: 4 | L4: 7 | M4: 6 | N4: 5 | O4: 4 | P4: 5 | R4: 5 | T4: 8 | U4: 7 | V4: 8.4 | W4: 7.5 | X4: 8 | AC4: 6 | AD4: 7.3 | AE4: 8 | AF4: 8 | AG4: =SUM(D4:AF4) -> 127.7 | AH4: =AVERAGE(D4:AF4) -> 6.0809524
A5: ='Data Siswa'!A5 -> 4 | B5: ='Data Siswa'!B5 -> AYU FITRI RAMADHANI | C5: ='Data Siswa'!C5 -> 1100 | D5: 4.5 | E5: 4 | F5: 6 | G5: 5 | H5: 4.5 | I5: 4.2 | J5: 4 | K5: 4 | L5: 5 | M5: 5 | N5: 5 | O5: 4 | P5: 4.5 | Q5: 4 | R5: 5 | S5: 5 | T5: 8 | U5: 8 | V5: 8 | W5: 7.5 | X5: 8 | AB5: 8.2 | AC5: 6.5 | AD5: 7.8 | AE5: 8 | AF5: 8.2 | AG5: =SUM(D5:AF5) -> 151.9 | AH5: =AVERAGE(D5:AF5) -> 5.8423077
A6: ='Data Siswa'!A6 -> 5 | B6: ='Data Siswa'!B6 -> BUNGA AULIA | C6: ='Data Siswa'!C6 -> 1101 | D6: 4.5 | E6: 5 | F6: 4 | G6: 4.5 | H6: 4 | I6: 4.4 | J6: 4 | K6: 4 | L6: 5 | M6: 4 | N6: 5 | O6: 5 | P6: 4 | Q6: 4 | R6: 5 | S6: 4 | T6: 8 | U6: 7 | V6: 7.5 | W6: 7.5 | X6: 7.5 | AB6: 8.2 | AC6: 7 | AD6: 8 | AE6: 8 | AF6: 8 | AG6: =SUM(D6:AF6) -> 147.1 | AH6: =AVERAGE(D6:AF6) -> 5.6576923
A7: ='Data Siswa'!A7 -> 6 | B7: ='Data Siswa'!B7 -> DINA LAURA | C7: ='Data Siswa'!C7 -> 1102 | D7: 6.5 | E7: 6.5 | F7: 7 | G7: 8 | H7: 4.5 | I7: 5 | J7: 4.5 | K7: 6.5 | L7: 6 | M7: 6 | N7: 5 | O7: 5.5 | P7: 5 | Q7: 5 | R7: 5 | S7: 5.5 | T7: 8 | U7: 7 | V7: 8 | W7: 7.5 | X7: 7.5 | AB7: 8 | AC7: 6 | AD7: 7.5 | AE7: 8.2 | AF7: 8 | AG7: =SUM(D7:AF7) -> 167.2 | AH7: =AVERAGE(D7:AF7) -> 6.4307692
A8: ='Data Siswa'!A8 -> 7 | B8: ='Data Siswa'!B8 -> EVI OKTAVIANI | C8: ='Data Siswa'!C8 -> 1103 | D8: 6.5 | E8: 6.5 | F8: 8 | G8: 8 | H8: 5.5 | I8: 6 | J8: 5.5 | K8: 7.5 | L8: 6 | M8: 6 | N8: 6.5 | O8: 4 | P8: 7 | Q8: 6.5 | R8: 5 | S8: 6.5 | T8: 8 | U8: 7 | V8: 8.4 | W8: 8 | X8: 8.5 | AB8: 8.6 | AC8: 6.5 | AD8: 8.5 | AE8: 8 | AF8: 8.3 | AG8: =SUM(D8:AF8) -> 180.8 | AH8: =AVERAGE(D8:AF8) -> 6.9538462
A9: ='Data Siswa'!A9 -> 8 | B9: ='Data Siswa'!B9 -> INDAH MAELANI | C9: ='Data Siswa'!C9 -> 1104 | D9: 5.5 | E9: 4 | F9: 5.5 | G9: 5 | H9: 5.5 | I9: 4.4 | J9: 4 | K9: 4.5 | L9: 5.5 | M9: 5.5 | N9: 5 | O9: 4 | P9: 4 | Q9: 4 | R9: 5 | S9: 5.5 | T9: 8 | U9: 7 | V9: 7.8 | W9: 7.5 | X9: 7.5 | AB9: 7.7 | AC9: 6.5 | AD9: 7 | AE9: 8.5 | AF9: 8.8 | AG9: =SUM(D9:AF9) -> 153.2 | AH9: =AVERAGE(D9:AF9) -> 5.8923077
A10: ='Data Siswa'!A10 -> 9 | B10: ='Data Siswa'!B10 -> MAR'AH AINUN NABILAH | C10: ='Data Siswa'!C10 -> 1105 | D10: 4.5 | E10: 5 | F10: 5.5 | G10: 6 | H10: 5 | I10: 4.2 | J10: 4 | K10: 4 | L10: 5 | M10: 5 | N10: 5 | O10: 5 | P10: 4.5 | Q10: 5 | R10: 5 | S10: 6.5 | T10: 8 | U10: 7 | V10: 8 | W10: 7.5 | X10: 8.5 | AB10: 7.6 | AC10: 6 | AD10: 7.5 | AE10: 8.5 | AF10: 8.2 | AG10: =SUM(D10:AF10) -> 156 | AH10: =AVERAGE(D10:AF10) -> 6
A11: ='Data Siswa'!A11 -> 10 | B11: ='Data Siswa'!B11 -> MUTIARA INDAH PRATIWI | C11: ='Data Siswa'!C11 -> 1106 | D11: 4.5 | E11: 5 | F11: 6 | G11: 5 | H11: 5 | I11: 4.8 | J11: 4 | K11: 4 | L11: 6 | M11: 5 | N11: 5 | O11: 4 | P11: 5 | Q11: 5.5 | R11: 5 | S11: 6 | T11: 8 | U11: 7 | V11: 7.5 | W11: 7.5 | X11: 8.5 | AB11: 7.8 | AC11: 6 | AD11: 7 | AE11: 8.2 | AF11: 8 | AG11: =SUM(D11:AF11) -> 155.3 | AH11: =AVERAGE(D11:AF11) -> 5.9730769
A12: ='Data Siswa'!A12 -> 11 | B12: ='Data Siswa'!B12 -> NAILA RIZKI ARABELA | C12: ='Data Siswa'!C12 -> 1107 | D12: 4.5 | E12: 4 | F12: 6 | G12: 5 | H12: 4.5 | I12: 4.2 | J12: 4 | K12: 4 | L12: 6 | M12: 5 | N12: 5 | O12: 4 | P12: 4.5 | Q12: 5 | R12: 5 | S12: 5 | T12: 8 | U12: 7 | V12: 7.5 | W12: 7.5 | X12: 8.5 | AB12: 8.1 | AC12: 6 | AD12: 8 | AE12: 8.1 | AF12: 8 | AG12: =SUM(D12:AF12) -> 152.4 | AH12: =AVERAGE(D12:AF12) -> 5.8615385
A13: ='Data Siswa'!A13 -> 12 | B13: ='Data Siswa'!B13 -> NAILA SEPTIANI | C13: ='Data Siswa'!C13 -> 1108 | D13: 6 | E13: 6.5 | F13: 7 | G13: 6 | H13: 4.5 | I13: 5 | J13: 4 | K13: 4 | L13: 6 | M13: 5 | N13: 5 | O13: 5.5 | P13: 6 | Q13: 6.5 | R13: 5 | S13: 5.5 | T13: 8 | U13: 8 | V13: 7.8 | W13: 7.5 | X13: 8 | AB13: 8.1 | AC13: 7 | AD13: 8 | AE13: 8.1 | AF13: 8 | AG13: =SUM(D13:AF13) -> 166 | AH13: =AVERAGE(D13:AF13) -> 6.3846154
A14: ='Data Siswa'!A14 -> 13 | B14: ='Data Siswa'!B14 -> NURUL ANNISA HARAHAP | C14: ='Data Siswa'!C14 -> 1109 | D14: 6.5 | E14: 5.5 | F14: 8 | G14: 7 | H14: 5 | I14: 5.2 | J14: 5.5 | K14: 6.5 | L14: 6 | M14: 5.5 | N14: 5 | O14: 7 | P14: 7 | Q14: 6 | R14: 5 | S14: 7 | T14: 8 | U14: 7 | V14: 8 | W14: 7.5 | X14: 8 | AB14: 8.2 | AC14: 6.5 | AD14: 7.8 | AE14: 8.3 | AF14: 8 | AG14: =SUM(D14:AF14) -> 175 | AH14: =AVERAGE(D14:AF14) -> 6.7307692
A15: ='Data Siswa'!A15 -> 14 | B15: ='Data Siswa'!B15 -> RATU NUR ERISYA RADESTA | C15: ='Data Siswa'!C15 -> 1110 | D15: 6 | E15: 4 | F15: 6 | G15: 5 | H15: 4 | I15: 5 | J15: 4 | K15: 4 | L15: 4.5 | M15: 4.5 | N15: 5 | O15: 4 | P15: 4.5 | Q15: 7 | R15: 5 | S15: 4 | T15: 8 | U15: 8 | V15: 7.5 | W15: 7.5 | X15: 8 | AB15: 8.1 | AC15: 6 | AD15: 7 | AE15: 8.2 | AF15: 8 | AG15: =SUM(D15:AF15) -> 152.8 | AH15: =AVERAGE(D15:AF15) -> 5.8769231
A16: ='Data Siswa'!A16 -> 15 | B16: ='Data Siswa'!B16 -> RISMA YANTI MAESARAH | C16: ='Data Siswa'!C16 -> 1111 | D16: 5.5 | E16: 4 | F16: 5.5 | G16: 5 | H16: 4 | I16: 4.1 | J16: 4 | K16: 4 | L16: 5 | M16: 4 | N16: 5 | O16: 4 | P16: 4 | Q16: 5 | R16: 5 | S16: 4.5 | T16: 8 | U16: 8 | V16: 7.5 | W16: 7.5 | X16: 8.5 | AB16: 8.2 | AC16: 6 | AD16: 7.5 | AE16: 8.1 | AF16: 8.2 | AG16: =SUM(D16:AF16) -> 150.1 | AH16: =AVERAGE(D16:AF16) -> 5.7730769
... A31: ='Data Siswa'!A31 -> 30 | B31: ='Data Siswa'!B31 -> ZASKIA ANANTA PAMBUDI | C31: ='Data Siswa'!C31 -> 1126 | D31: 5 | E31: 7 | F31: 7.5 | G31: 6.5 | H31: 5.5 | I31: 4.5 | J31: 4.5 | K31: 6 | L31: 5 | M31: 5 | N31: 5 | O31: 5 | P31: 5.5 | Q31: 6.5 | R31: 5 | S31: 5.5 | T31: 8 | U31: 7 | V31: 8 | W31: 8.5 | X31: 7.5 | AB31: 8 | AC31: 6 | AD31: 7.3 | AE31: 8.1 | AF31: 8 | AG31: =SUM(D31:AF31) -> 165.4 | AH31: =AVERAGE(D31:AF31) -> 6.3615385
A32: ='Data Siswa'!A32 -> 31 | B32: ='Data Siswa'!B32 -> 0 | C32: ='Data Siswa'!C32 -> 0 | AG32: =SUM(D32:AF32) -> 0 | AH32: =AVERAGE(D32:AF32) -> #DIV/0!
A33: ='Data Siswa'!A33 -> 32 | B33: ='Data Siswa'!B33 -> 0 | C33: ='Data Siswa'!C33 -> 0 | AG33: =SUM(D33:AF33) -> 0 | AH33: =AVERAGE(D33:AF33) -> #DIV/0!
A34: ='Data Siswa'!A34 -> 33 | B34: ='Data Siswa'!B34 -> 0 | C34: ='Data Siswa'!C34 -> 0 | AG34: =SUM(D34:AF34) -> 0 | AH34: =AVERAGE(D34:AF34) -> #DIV/0!
A35: ='Data Siswa'!A35 -> 34 | B35: ='Data Siswa'!B35 -> 0 | C35: ='Data Siswa'!C35 -> 0 | AG35: =SUM(D35:AF35) -> 0 | AH35: =AVERAGE(D35:AF35) -> #DIV/0!
A36: ='Data Siswa'!A36 -> 35 | B36: ='Data Siswa'!B36 -> 0 | C36: ='Data Siswa'!C36 -> 0 | AG36: =SUM(D36:AF36) -> 0 | AH36: =AVERAGE(D36:AF36) -> #DIV/0!
A37: ='Data Siswa'!A37 -> 36 | B37: ='Data Siswa'!B37 -> 0 | C37: ='Data Siswa'!C37 -> 0 | AG37: =SUM(D37:AF37) -> 0 | AH37: =AVERAGE(D37:AF37) -> #DIV/0!
A38: ='Data Siswa'!A38 -> 37 | B38: ='Data Siswa'!B38 -> 0 | C38: ='Data Siswa'!C38 -> 0 | AG38: =SUM(D38:AF38) -> 0 | AH38: =AVERAGE(D38:AF38) -> #DIV/0!
A39: ='Data Siswa'!A39 -> 38 | B39: ='Data Siswa'!B39 -> 0 | C39: ='Data Siswa'!C39 -> 0 | AG39: =SUM(D39:AF39) -> 0 | AH39: =AVERAGE(D39:AF39) -> #DIV/0!
A40: ='Data Siswa'!A40 -> 39 | B40: ='Data Siswa'!B40 -> 0 | C40: ='Data Siswa'!C40 -> 0 | AG40: =SUM(D40:AF40) -> 0 | AH40: =AVERAGE(D40:AF40) -> #DIV/0!
A41: ='Data Siswa'!A41 -> 40 | B41: ='Data Siswa'!B41 -> 0 | C41: ='Data Siswa'!C41 -> 0 | AG41: =SUM(D41:AF41) -> 0 | AH41: =AVERAGE(D41:AF41) -> #DIV/0!

Sheet Nilai Syafahi
A1: Biodata | D1: Nilai Ujian Syafahi | W1: Nilai Keseluruhan | Z1: Keterangan
A2: No | B2: Nama Lengkap | C2: No Ujian | D2: اللغة العربية | J2: اللغة الانجليزية | O2: المواد الفقهية | T2: الجملة | U2: Rata-Rata | W2: التقدير العام | X2: Rata-Rata | Y2: مستوي التفوق | Z2: الملاحظة
D3: الانشاء | E3: النحو | F3: الصرف | G3: المطالعة | H3: النصوص الأدبية | I3: المحادثة العربية | J3: Conversation | K3: Grammar | L3: Structure | M3: Reading | N3: Vocabularies | O3: قراءة القرآن | P3: التجويد | Q3: حفظ القرآن | R3: الفقه | S3: الأدعيه اليومية
A4: ='Data Siswa'!A2 -> 1 | B4: ='Data Siswa'!B2 -> ALIFA RIZKIYAH | C4: ='Data Siswa'!C2 -> 1097 | D4: 5 | E4: 4.5 | F4: 4 | G4: 4.5 | H4: 4 | I4: 5 | J4: 6 | K4: 5 | L4: 5 | M4: 5 | N4: 5 | O4: 7 | P4: 5 | Q4: 7 | R4: 5 | S4: 6 | T4: =SUM(D4:S4) -> 83 | U4: =AVERAGE(D4:S4) -> 5.1875 | W4: =SUM('Nilai Tahriri'!AG2,'Nilai Syafahi'!T4) -> 236.1 | X4: =AVERAGE(D4:S4,'Nilai Tahriri'!D2:AF2) -> 5.6214286 | Y4: {=SUM(IF(W4<OFFSET($W$4,0,0,COUNT(W:W),1),1/COUNTIF(OFFSET($W$4,0,0,COUNT(W:W),1),OFFSET($W$4,0,0,COUNT(W:W),1))))+1} -> 25 | Z4: -
A5: ='Data Siswa'!A3 -> 2 | B5: ='Data Siswa'!B3 -> ASSYIFA RAHMAWATI | C5: ='Data Siswa'!C3 -> 1098 | D5: 5 | E5: 5 | F5: 5 | G5: 5 | H5: 5 | I5: 5 | J5: 6 | K5: 5 | L5: 5 | M5: 6 | N5: 6 | O5: 6 | P5: 7 | Q5: 6 | R5: 5.5 | S5: 7 | T5: =SUM(D5:S5) -> 89.5 | U5: =AVERAGE(D5:S5) -> 5.59375 | W5: =SUM('Nilai Tahriri'!AG3,'Nilai Syafahi'!T5) -> 192 | X5: =AVERAGE(D5:S5,'Nilai Tahriri'!D3:AF3) -> 5.8181818 | Y5: {=SUM(IF(W5<OFFSET($W$4,0,0,COUNT(W:W),1),1/COUNTIF(OFFSET($W$4,0,0,COUNT(W:W),1),OFFSET($W$4,0,0,COUNT(W:W),1))))+1} -> 29 | Z5: -
A6: ='Data Siswa'!A4 -> 3 | B6: ='Data Siswa'!B4 -> ATHIRA PUTRI TAZKIAH | C6: ='Data Siswa'!C4 -> 1099 | D6: 5 | E6: 5 | F6: 5 | G6: 5.5 | H6: 5 | I6: 5 | J6: 7 | K6: 7 | L6: 7 | M6: 8 | N6: 7 | O6: 7 | P6: 5.5 | Q6: 7 | R6: 5 | S6: 5 | T6: =SUM(D6:S6) -> 96 | U6: =AVERAGE(D6:S6) -> 6 | W6: =SUM('Nilai Tahriri'!AG4,'Nilai Syafahi'!T6) -> 223.7 | X6: =AVERAGE(D6:S6,'Nilai Tahriri'!D4:AF4) -> 6.0459459 | Y6: {=SUM(IF(W6<OFFSET($W$4,0,0,COUNT(W:W),1),1/COUNTIF(OFFSET($W$4,0,0,COUNT(W:W),1),OFFSET($W$4,0,0,COUNT(W:W),1))))+1} -> 27 | Z6: -
A7: ='Data Siswa'!A5 -> 4 | B7: ='Data Siswa'!B5 -> AYU FITRI RAMADHANI | C7: ='Data Siswa'!C5 -> 1100 | D7: 4 | E7: 4.5 | F7: 5 | G7: 4 | H7: 5 | I7: 5 | J7: 7 | K7: 6 | L7: 6 | M7: 6 | N7: 6 | O7: 7 | P7: 6 | Q7: 7 | R7: 6 | S7: 7 | T7: =SUM(D7:S7) -> 91.5 | U7: =AVERAGE(D7:S7) -> 5.71875 | W7: =SUM('Nilai Tahriri'!AG5,'Nilai Syafahi'!T7) -> 243.4 | X7: =AVERAGE(D7:S7,'Nilai Tahriri'!D5:AF5) -> 5.7952381 | Y7: {=SUM(IF(W7<OFFSET($W$4,0,0,COUNT(W:W),1),1/COUNTIF(OFFSET($W$4,0,0,COUNT(W:W),1),OFFSET($W$4,0,0,COUNT(W:W),1))))+1} -> 16 | Z7: -
A8: ='Data Siswa'!A6 -> 5 | B8: ='Data Siswa'!B6 -> BUNGA AULIA | C8: ='Data Siswa'!C6 -> 1101 | D8: 4.5 | E8: 4.5 | F8: 5 | G8: 4.5 | H8: 5 | I8: 5 | J8: 6 | K8: 5 | L8: 5 | M8: 5 | N8: 5 | O8: 5.5 | P8: 5 | Q8: 7 | R8: 6 | S8: 6 | T8: =SUM(D8:S8) -> 84 | U8: =AVERAGE(D8:S8) -> 5.25 | W8: =SUM('Nilai Tahriri'!AG6,'Nilai Syafahi'!T8) -> 231.1 | X8: =AVERAGE(D8:S8,'Nilai Tahriri'!D6:AF6) -> 5.502381 | Y8: {=SUM(IF(W8<OFFSET($W$4,0,0,COUNT(W:W),1),1/COUNTIF(OFFSET($W$4,0,0,COUNT(W:W),1),OFFSET($W$4,0,0,COUNT(W:W),1))))+1} -> 26 | Z8: -
A9: ='Data Siswa'!A7 -> 6 | B9: ='Data Siswa'!B7 -> DINA LAURA | C9: ='Data Siswa'!C7 -> 1102 | D9: 5 | E9: 5.5 | F9: 6 | G9: 5 | H9: 6 | I9: 5 | J9: 6 | K9: 5 | L9: 5 | M9: 5 | N9: 5 | O9: 7.5 | P9: 7 | Q9: 7 | R9: 7 | S9: 7 | T9: =SUM(D9:S9) -> 94 | U9: =AVERAGE(D9:S9) -> 5.875 | W9: =SUM('Nilai Tahriri'!AG7,'Nilai Syafahi'!T9) -> 261.2 | X9: =AVERAGE(D9:S9,'Nilai Tahriri'!D7:AF7) -> 6.2190476 | Y9: {=SUM(IF(W9<OFFSET($W$4,0,0,COUNT(W:W),1),1/COUNTIF(OFFSET($W$4,0,0,COUNT(W:W),1),OFFSET($W$4,0,0,COUNT(W:W),1))))+1} -> 10 | Z9: -
A10: ='Data Siswa'!A8 -> 7 | B10: ='Data Siswa'!B8 -> EVI OKTAVIANI | C10: ='Data Siswa'!C8 -> 1103 | D10: 5 | E10: 6 | F10: 6 | G10: 6 | H10: 6 | I10: 5.5 | J10: 6 | K10: 6 | L10: 6 | M10: 6 | N10: 6 | O10: 7 | P10: 7 | Q10: 7 | R10: 6 | S10: 6 | T10: =SUM(D10:S10) -> 97.5 | U10: =AVERAGE(D10:S10) -> 6.09375 | W10: =SUM('Nilai Tahriri'!AG8,'Nilai Syafahi'!T10) -> 278.3 | X10: =AVERAGE(D10:S10,'Nilai Tahriri'!D8:AF8) -> 6.6261905 | Y10: {=SUM(IF(W10<OFFSET($W$4,0,0,COUNT(W:W),1),1/COUNTIF(OFFSET($W$4,0,0,COUNT(W:W),1),OFFSET($W$4,0,0,COUNT(W:W),1))))+1} -> 4 | Z10: -
A11: ='Data Siswa'!A9 -> 8 | B11: ='Data Siswa'!B9 -> INDAH MAELANI | C11: ='Data Siswa'!C9 -> 1104 | D11: 5 | E11: 6 | F11: 5 | G11: 4.5 | H11: 5 | I11: 5.5 | J11: 6 | K11: 5 | L11: 5 | M11: 5 | N11: 5 | O11: 5.5 | P11: 6 | Q11: 6 | R11: 6 | S11: 6 | T11: =SUM(D11:S11) -> 86.5 | U11: =AVERAGE(D11:S11) -> 5.40625 | W11: =SUM('Nilai Tahriri'!AG9,'Nilai Syafahi'!T11) -> 239.7 | X11: =AVERAGE(D11:S11,'Nilai Tahriri'!D9:AF9) -> 5.7071429 | Y11: {=SUM(IF(W11<OFFSET($W$4,0,0,COUNT(W:W),1),1/COUNTIF(OFFSET($W$4,0,0,COUNT(W:W),1),OFFSET($W$4,0,0,COUNT(W:W),1))))+1} -> 22 | Z11: -
A12: ='Data Siswa'!A10 -> 9 | B12: ='Data Siswa'!B10 -> MAR'AH AINUN NABILAH | C12: ='Data Siswa'!C10 -> 1105 | D12: 5.5 | E12: 6 | F12: 5.5 | G12: 5 | H12: 5 | I12: 5 | J12: 6 | K12: 5 | L12: 5 | M12: 5 | N12: 5 | O12: 6.5 | P12: 5 | Q12: 6 | R12: 5 | S12: 6.5 | T12: =SUM(D12:S12) -> 87 | U12: =AVERAGE(D12:S12) -> 5.4375 | W12: =SUM('Nilai Tahriri'!AG10,'Nilai Syafahi'!T12) -> 243 | X12: =AVERAGE(D12:S12,'Nilai Tahriri'!D10:AF10) -> 5.7857143 | Y12: {=SUM(IF(W12<OFFSET($W$4,0,0,COUNT(W:W),1),1/COUNTIF(OFFSET($W$4,0,0,COUNT(W:W),1),OFFSET($W$4,0,0,COUNT(W:W),1))))+1} -> 17 | Z12: -
A13: ='Data Siswa'!A11 -> 10 | B13: ='Data Siswa'!B11 -> MUTIARA INDAH PRATIWI | C13: ='Data Siswa'!C11 -> 1106 | D13: 5.5 | E13: 6 | F13: 6 | G13: 5 | H13: 5.5 | I13: 5.5 | J13: 6 | K13: 5 | L13: 5 | M13: 5 | N13: 5 | O13: 6 | P13: 5 | Q13: 6 | R13: 5 | S13: 6 | T13: =SUM(D13:S13) -> 87.5 | U13: =AVERAGE(D13:S13) -> 5.46875 | W13: =SUM('Nilai Tahriri'!AG11,'Nilai Syafahi'!T13) -> 242.8 | X13: =AVERAGE(D13:S13,'Nilai Tahriri'!D11:AF11) -> 5.7809524 | Y13: {=SUM(IF(W13<OFFSET($W$4,0,0,COUNT(W:W),1),1/COUNTIF(OFFSET($W$4,0,0,COUNT(W:W),1),OFFSET($W$4,0,0,COUNT(W:W),1))))+1} -> 18 | Z13: -
A14: ='Data Siswa'!A12 -> 11 | B14: ='Data Siswa'!B12 -> NAILA RIZKI ARABELA | C14: ='Data Siswa'!C12 -> 1107 | D14: 5 | E14: 5 | F14: 5 | G14: 5 | H14: 5 | I14: 5 | J14: 6 | K14: 5 | L14: 5 | M14: 6 | N14: 6 | O14: 6 | P14: 5 | Q14: 6 | R14: 5 | S14: 6 | T14: =SUM(D14:S14) -> 86 | U14: =AVERAGE(D14:S14) -> 5.375 | W14: =SUM('Nilai Tahriri'!AG12,'Nilai Syafahi'!T14) -> 238.4 | X14: =AVERAGE(D14:S14,'Nilai Tahriri'!D12:AF12) -> 5.6761905 | Y14: {=SUM(IF(W14<OFFSET($W$4,0,0,COUNT(W:W),1),1/COUNTIF(OFFSET($W$4,0,0,COUNT(W:W),1),OFFSET($W$4,0,0,COUNT(W:W),1))))+1} -> 24 | Z14: -
A15: ='Data Siswa'!A13 -> 12 | B15: ='Data Siswa'!B13 -> NAILA SEPTIANI | C15: ='Data Siswa'!C13 -> 1108 | D15: 5 | E15: 5 | F15: 5 | G15: 4.5 | H15: 5 | I15: 5 | J15: 6 | K15: 5 | L15: 5 | M15: 6 | N15: 6 | O15: 7 | P15: 6 | Q15: 6 | R15: 5 | S15: 7.5 | T15: =SUM(D15:S15) -> 89 | U15: =AVERAGE(D15:S15) -> 5.5625 | W15: =SUM('Nilai Tahriri'!AG13,'Nilai Syafahi'!T15) -> 255 | X15: =AVERAGE(D15:S15,'Nilai Tahriri'!D13:AF13) -> 6.0714286 | Y15: {=SUM(IF(W15<OFFSET($W$4,0,0,COUNT(W:W),1),1/COUNTIF(OFFSET($W$4,0,0,COUNT(W:W),1),OFFSET($W$4,0,0,COUNT(W:W),1))))+1} -> 11 | Z15: -
... A33: ='Data Siswa'!A31 -> 30 | B33: ='Data Siswa'!B31 -> ZASKIA ANANTA PAMBUDI | C33: ='Data Siswa'!C31 -> 1126 | D33: 6 | E33: 7 | F33: 7 | G33: 6.5 | H33: 6 | I33: 5.5 | J33: 6 | K33: 5 | L33: 5 | M33: 6 | N33: 6 | O33: 6 | P33: 6 | Q33: 7 | R33: 6 | S33: 7 | T33: =SUM(D33:S33) -> 98 | U33: =AVERAGE(D33:S33) -> 6.125 | W33: =SUM('Nilai Tahriri'!AG31,'Nilai Syafahi'!T33) -> 263.4 | X33: =AVERAGE(D33:S33,'Nilai Tahriri'!D31:AF31) -> 6.2714286 | Y33: {=SUM(IF(W33<OFFSET($W$4,0,0,COUNT(W:W),1),1/COUNTIF(OFFSET($W$4,0,0,COUNT(W:W),1),OFFSET($W$4,0,0,COUNT(W:W),1))))+1} -> 9 | Z33: -
A34: ='Data Siswa'!A32 -> 31 | B34: ='Data Siswa'!B32 -> 0 | C34: ='Data Siswa'!C32 -> 0 | T34: =SUM(D34:S34) -> 0 | U34: =AVERAGE(D34:S34) -> #DIV/0! | W34: =SUM('Nilai Tahriri'!AG32,'Nilai Syafahi'!T34) -> 0 | X34: =AVERAGE(D34:S34,'Nilai Tahriri'!D32:AF32) -> #DIV/0! | Y34: {=SUM(IF(W34<OFFSET($W$4,0,0,COUNT(W:W),1),1/COUNTIF(OFFSET($W$4,0,0,COUNT(W:W),1),OFFSET($W$4,0,0,COUNT(W:W),1))))+1} -> 30 | Z34: -
A35: ='Data Siswa'!A33 -> 32 | B35: ='Data Siswa'!B33 -> 0 | C35: ='Data Siswa'!C33 -> 0 | T35: =SUM(D35:S35) -> 0 | U35: =AVERAGE(D35:S35) -> #DIV/0! | W35: =SUM('Nilai Tahriri'!AG33,'Nilai Syafahi'!T35) -> 0 | X35: =AVERAGE(D35:S35,'Nilai Tahriri'!D33:AF33) -> #DIV/0! | Y35: {=SUM(IF(W35<OFFSET($W$4,0,0,COUNT(W:W),1),1/COUNTIF(OFFSET($W$4,0,0,COUNT(W:W),1),OFFSET($W$4,0,0,COUNT(W:W),1))))+1} -> 30 | Z35: -
A36: ='Data Siswa'!A34 -> 33 | B36: ='Data Siswa'!B34 -> 0 | C36: ='Data Siswa'!C34 -> 0 | T36: =SUM(D36:S36) -> 0 | U36: =AVERAGE(D36:S36) -> #DIV/0! | W36: =SUM('Nilai Tahriri'!AG34,'Nilai Syafahi'!T36) -> 0 | X36: =AVERAGE(D36:S36,'Nilai Tahriri'!D34:AF34) -> #DIV/0! | Y36: {=SUM(IF(W36<OFFSET($W$4,0,0,COUNT(W:W),1),1/COUNTIF(OFFSET($W$4,0,0,COUNT(W:W),1),OFFSET($W$4,0,0,COUNT(W:W),1))))+1} -> 30 | Z36: -
A37: ='Data Siswa'!A35 -> 34 | B37: ='Data Siswa'!B35 -> 0 | C37: ='Data Siswa'!C35 -> 0 | T37: =SUM(D37:S37) -> 0 | U37: =AVERAGE(D37:S37) -> #DIV/0! | W37: =SUM('Nilai Tahriri'!AG35,'Nilai Syafahi'!T37) -> 0 | X37: =AVERAGE(D37:S37,'Nilai Tahriri'!D35:AF35) -> #DIV/0! | Y37: {=SUM(IF(W37<OFFSET($W$4,0,0,COUNT(W:W),1),1/COUNTIF(OFFSET($W$4,0,0,COUNT(W:W),1),OFFSET($W$4,0,0,COUNT(W:W),1))))+1} -> 30 | Z37: -
A38: ='Data Siswa'!A36 -> 35 | B38: ='Data Siswa'!B36 -> 0 | C38: ='Data Siswa'!C36 -> 0 | T38: =SUM(D38:S38) -> 0 | U38: =AVERAGE(D38:S38) -> #DIV/0! | W38: =SUM('Nilai Tahriri'!AG36,'Nilai Syafahi'!T38) -> 0 | X38: =AVERAGE(D38:S38,'Nilai Tahriri'!D36:AF36) -> #DIV/0! | Y38: {=SUM(IF(W38<OFFSET($W$4,0,0,COUNT(W:W),1),1/COUNTIF(OFFSET($W$4,0,0,COUNT(W:W),1),OFFSET($W$4,0,0,COUNT(W:W),1))))+1} -> 30 | Z38: -
A39: ='Data Siswa'!A37 -> 36 | B39: ='Data Siswa'!B37 -> 0 | C39: ='Data Siswa'!C37 -> 0 | T39: =SUM(D39:S39) -> 0 | U39: =AVERAGE(D39:S39) -> #DIV/0! | W39: =SUM('Nilai Tahriri'!AG37,'Nilai Syafahi'!T39) -> 0 | X39: =AVERAGE(D39:S39,'Nilai Tahriri'!D37:AF37) -> #DIV/0! | Y39: {=SUM(IF(W39<OFFSET($W$4,0,0,COUNT(W:W),1),1/COUNTIF(OFFSET($W$4,0,0,COUNT(W:W),1),OFFSET($W$4,0,0,COUNT(W:W),1))))+1} -> 30 | Z39: -
A40: ='Data Siswa'!A38 -> 37 | B40: ='Data Siswa'!B38 -> 0 | C40: ='Data Siswa'!C38 -> 0 | T40: =SUM(D40:S40) -> 0 | U40: =AVERAGE(D40:S40) -> #DIV/0! | W40: =SUM('Nilai Tahriri'!AG38,'Nilai Syafahi'!T40) -> 0 | X40: =AVERAGE(D40:S40,'Nilai Tahriri'!D38:AF38) -> #DIV/0! | Y40: {=SUM(IF(W40<OFFSET($W$4,0,0,COUNT(W:W),1),1/COUNTIF(OFFSET($W$4,0,0,COUNT(W:W),1),OFFSET($W$4,0,0,COUNT(W:W),1))))+1} -> 30 | Z40: -
A41: ='Data Siswa'!A39 -> 38 | B41: ='Data Siswa'!B39 -> 0 | C41: ='Data Siswa'!C39 -> 0 | T41: =SUM(D41:S41) -> 0 | U41: =AVERAGE(D41:S41) -> #DIV/0! | W41: =SUM('Nilai Tahriri'!AG39,'Nilai Syafahi'!T41) -> 0 | X41: =AVERAGE(D41:S41,'Nilai Tahriri'!D39:AF39) -> #DIV/0! | Y41: {=SUM(IF(W41<OFFSET($W$4,0,0,COUNT(W:W),1),1/COUNTIF(OFFSET($W$4,0,0,COUNT(W:W),1),OFFSET($W$4,0,0,COUNT(W:W),1))))+1} -> 30 | Z41: -
A42: ='Data Siswa'!A40 -> 39 | B42: ='Data Siswa'!B40 -> 0 | C42: ='Data Siswa'!C40 -> 0 | T42: =SUM(D42:S42) -> 0 | U42: =AVERAGE(D42:S42) -> #DIV/0! | W42: =SUM('Nilai Tahriri'!AG40,'Nilai Syafahi'!T42) -> 0 | X42: =AVERAGE(D42:S42,'Nilai Tahriri'!D40:AF40) -> #DIV/0! | Y42: {=SUM(IF(W42<OFFSET($W$4,0,0,COUNT(W:W),1),1/COUNTIF(OFFSET($W$4,0,0,COUNT(W:W),1),OFFSET($W$4,0,0,COUNT(W:W),1))))+1} -> 30 | Z42: -
A43: ='Data Siswa'!A41 -> 40 | B43: ='Data Siswa'!B41 -> 0 | C43: ='Data Siswa'!C41 -> 0 | T43: =SUM(D43:S43) -> 0 | U43: =AVERAGE(D43:S43) -> #DIV/0! | W43: =SUM('Nilai Tahriri'!AG41,'Nilai Syafahi'!T43) -> 0 | X43: =AVERAGE(D43:S43,'Nilai Tahriri'!D41:AF41) -> #DIV/0! | Y43: {=SUM(IF(W43<OFFSET($W$4,0,0,COUNT(W:W),1),1/COUNTIF(OFFSET($W$4,0,0,COUNT(W:W),1),OFFSET($W$4,0,0,COUNT(W:W),1))))+1} -> 30 | Z43: -

Sheet Akhlak
A1: Biodata | D1: Akhlak
A2: No | B2: Nama Lengkap | C2: No Ujian | D2: البيان | G2: ايام الغيابة | J2: Catatan Wali Kelas Untuk Siswa
D3: النظافة | E3: السلك | F3: المواظبة | G3: لمرض | H3: لاستذان | I3: لآخر | J3: النقد
A4: ='Data Siswa'!A2 -> 1 | B4: ='Data Siswa'!B2 -> ALIFA RIZKIYAH | C4: ='Data Siswa'!C2 -> 1097 | D4: 8 | E4: 8 | F4: 8
A5: ='Data Siswa'!A3 -> 2 | B5: ='Data Siswa'!B3 -> ASSYIFA RAHMAWATI | C5: ='Data Siswa'!C3 -> 1098 | D5: 8 | E5: 8 | F5: 8
A6: ='Data Siswa'!A4 -> 3 | B6: ='Data Siswa'!B4 -> ATHIRA PUTRI TAZKIAH | C6: ='Data Siswa'!C4 -> 1099 | D6: 8 | E6: 8 | F6: 8
A7: ='Data Siswa'!A5 -> 4 | B7: ='Data Siswa'!B5 -> AYU FITRI RAMADHANI | C7: ='Data Siswa'!C5 -> 1100 | D7: 8 | E7: 8 | F7: 8
A8: ='Data Siswa'!A6 -> 5 | B8: ='Data Siswa'!B6 -> BUNGA AULIA | C8: ='Data Siswa'!C6 -> 1101 | D8: 8 | E8: 8 | F8: 8
A9: ='Data Siswa'!A7 -> 6 | B9: ='Data Siswa'!B7 -> DINA LAURA | C9: ='Data Siswa'!C7 -> 1102 | D9: 8 | E9: 8 | F9: 8
A10: ='Data Siswa'!A8 -> 7 | B10: ='Data Siswa'!B8 -> EVI OKTAVIANI | C10: ='Data Siswa'!C8 -> 1103 | D10: 8 | E10: 8 | F10: 8
A11: ='Data Siswa'!A9 -> 8 | B11: ='Data Siswa'!B9 -> INDAH MAELANI | C11: ='Data Siswa'!C9 -> 1104 | D11: 8 | E11: 8 | F11: 8
A12: ='Data Siswa'!A10 -> 9 | B12: ='Data Siswa'!B10 -> MAR'AH AINUN NABILAH | C12: ='Data Siswa'!C10 -> 1105 | D12: 8 | E12: 8 | F12: 8
A13: ='Data Siswa'!A11 -> 10 | B13: ='Data Siswa'!B11 -> MUTIARA INDAH PRATIWI | C13: ='Data Siswa'!C11 -> 1106 | D13: 8 | E13: 8 | F13: 8
A14: ='Data Siswa'!A12 -> 11 | B14: ='Data Siswa'!B12 -> NAILA RIZKI ARABELA | C14: ='Data Siswa'!C12 -> 1107 | D14: 8 | E14: 8 | F14: 8
A15: ='Data Siswa'!A13 -> 12 | B15: ='Data Siswa'!B13 -> NAILA SEPTIANI | C15: ='Data Siswa'!C13 -> 1108 | D15: 8 | E15: 8 | F15: 8
... A43: ='Data Siswa'!A41 -> 40 | B43: ='Data Siswa'!B41 -> 0 | C43: ='Data Siswa'!C41 -> 0 | D43: 8 | E43: 8 | F43: 8

Sheet Rapot
B2: =VLOOKUP($U$7,'Nilai Tahriri'!$A$2:$AG$41,2,FALSE) -> ZASKIA ANANTA PAMBUDI
B3: =Biodata!$B$10 -> العام الدراسي : ١٤٤٤ - ١٤٤٥ ه \ ٢٠٢٣ - ٢٠٢٤ م | M3: =Biodata!$B$7 -> الفصل الدراسي : الأول | P3: =Biodata!$B$4 -> الصف : الرابع ج للبنات
B5: الدرجة الكبرى ٨, الدرجة الصغرى ٤ | L5: مسـلسـل | M5: الدرجة الكبرى ٨, الدرجة الصغرى ٤ | R5: مسـلسـل
B6: الدرجة المكتسبة | G6: المواد الشفهية | M6: الدرجة المكتسبة | O6: المواد التحريرية | U6: HALAMAN
B7: كتابة | C7: رقم | M7: كتابة | N7: رقم | U7: 30
B8: اللغة العربية | M8: =VLOOKUP(N8,Sheet1!$A$1:$B$93,2) | P8: علم التجويد | R8: 1
B9: =VLOOKUP(C9,Sheet1!$A$1:$B$93,2) -> ستّ | C9: =VLOOKUP($U$7,'Nilai Syafahi'!$A$4:$Z$43,4,FALSE) -> 6 | G9: الإنشاء \ التعبير الشفهي | L9: 40 | M9: =VLOOKUP(N9,Sheet1!$A$1:$B$93,2) -> خمس | N9: =VLOOKUP($U$7,'Nilai Tahriri'!$A$2:$AG$41,4,FALSE) -> 5 | P9: التفسير | R9: 2 | U9: Awal | V9: 1
B10: =VLOOKUP(C10,Sheet1!$A$1:$B$93,2) -> سبع | C10: =VLOOKUP($U$7,'Nilai Syafahi'!$A$4:$Z$43,5,FALSE) -> 7 | K10: النحو | L10: 41 | M10: =VLOOKUP(N10,Sheet1!$A$1:$B$93,2) -> سبع | N10: =VLOOKUP($U$7,'Nilai Tahriri'!$A$2:$AG$41,5,FALSE) -> 7 | P10: الحديث | R10: 3
B11: =VLOOKUP(C11,Sheet1!$A$1:$B$93,2) -> سبع | C11: =VLOOKUP($U$7,'Nilai Syafahi'!$A$4:$Z$43,6,FALSE) -> 7 | K11: الصرف | L11: 42 | M11: =VLOOKUP(N11,Sheet1!$A$1:$B$93,2) | P11: مصطلح الحديث | R11: 4 | U11: Akhir | V11: 30
B12: =VLOOKUP(C12,Sheet1!$A$1:$B$93,2) -> ست و نصف | C12: =VLOOKUP($U$7,'Nilai Syafahi'!$A$4:$Z$43,7,FALSE) -> 6.5 | K12: المطالعة | L12: 43 | M12: =VLOOKUP(N12,Sheet1!$A$1:$B$93,2) -> سبع و نصف | N12: =VLOOKUP($U$7,'Nilai Tahriri'!$A$2:$AG$41,6,FALSE) -> 7.5 | P12: الفقه | R12: 5
B13: =VLOOKUP(C13,Sheet1!$A$1:$B$93,2) -> ستّ | C13: =VLOOKUP($U$7,'Nilai Syafahi'!$A$4:$Z$43,8,FALSE) -> 6 | K13: النصوص الأدبية | L13: 44 | M13: =VLOOKUP(N13,Sheet1!$A$1:$B$93,2) -> ست و نصف | N13: =VLOOKUP($U$7,'Nilai Tahriri'!$A$2:$AG$41,7,FALSE) -> 6.5 | P13: أصول الفقه | R13: 6
B14: =VLOOKUP(C14,Sheet1!$A$1:$B$93,2) -> خمس و نصف | C14: =VLOOKUP($U$7,'Nilai Syafahi'!$A$4:$Z$43,9,FALSE) -> 5.5 | K14: المحادثة العربية | L14: 45 | M14: =VLOOKUP(N14,Sheet1!$A$1:$B$93,2) | P14: علم الفرائض | R14: 7
B15: اللغة الإنجليزية | M15: =VLOOKUP(N15,Sheet1!$A$1:$B$93,2) | P15: أصول الدين \ التوحيد | R15: 8
B16: =VLOOKUP(C16,Sheet1!$A$1:$B$93,2) -> ستّ | C16: =VLOOKUP($U$7,'Nilai Syafahi'!$A$4:$Z$43,10,FALSE) -> 6 | G16: Conversation | L16: 46 | M16: =VLOOKUP(N16,Sheet1!$A$1:$B$93,2) -> خمس و نصف | N16: =VLOOKUP($U$7,'Nilai Tahriri'!$A$2:$AG$41,8,FALSE) -> 5.5 | P16: الديانة\الأديان | R16: 9
B17: =VLOOKUP(C17,Sheet1!$A$1:$B$93,2) -> خمس | C17: =VLOOKUP($U$7,'Nilai Syafahi'!$A$4:$Z$43,11,FALSE) -> 5 | G17: Grammer | H17: Grammer | I17: Grammer | J17: Grammer | K17: Grammer | L17: 47 | M17: =VLOOKUP(N17,Sheet1!$A$1:$B$93,2) | P17: تاريخ التشريع الإسلامي | R17: 10
B18: =VLOOKUP(C18,Sheet1!$A$1:$B$93,2) -> خمس | C18: =VLOOKUP($U$7,'Nilai Syafahi'!$A$4:$Z$43,12,FALSE) -> 5 | G18: Structure | L18: 48 | M18: =VLOOKUP(N18,Sheet1!$A$1:$B$93,2) -> اربع و نصف | N18: =VLOOKUP($U$7,'Nilai Tahriri'!$A$2:$AG$41,9,FALSE) -> 4.5 | P18: تاريخ الإسلام | R18: 11
B19: =VLOOKUP(C19,Sheet1!$A$1:$B$93,2) -> ستّ | C19: =VLOOKUP($U$7,'Nilai Syafahi'!$A$4:$Z$43,13,FALSE) -> 6 | G19: Reading | L19: 49 | M19: =VLOOKUP(N19,Sheet1!$A$1:$B$93,2) -> اربع و نصف | N19: =VLOOKUP($U$7,'Nilai Tahriri'!$A$2:$AG$41,10,FALSE) -> 4.5 | P19: الإنشاء \ التعبير التحريري | R19: 12
B20: =VLOOKUP(C20,Sheet1!$A$1:$B$93,2) -> ستّ | C20: =VLOOKUP($U$7,'Nilai Syafahi'!$A$4:$Z$43,14,FALSE) -> 6 | G20: Vocabularies | L20: 50 | M20: =VLOOKUP(N20,Sheet1!$A$1:$B$93,2) -> ستّ | N20: =VLOOKUP($U$7,'Nilai Tahriri'!$A$2:$AG$41,11,FALSE) -> 6 | P20: تمرين اللغة العربية | R20: 13
B21: المواد الفقهية | M21: =VLOOKUP(N21,Sheet1!$A$1:$B$93,2) -> خمس | N21: =VLOOKUP($U$7,'Nilai Tahriri'!$A$2:$AG$41,12,FALSE) -> 5 | P21: المطالعة | R21: 14
B22: =VLOOKUP(C22,Sheet1!$A$1:$B$93,2) -> ستّ | C22: =VLOOKUP($U$7,'Nilai Syafahi'!$A$4:$Z$43,15,FALSE) -> 6 | G22: قراءة القرآن | L22: 51 | M22: =VLOOKUP(N22,Sheet1!$A$1:$B$93,2) -> خمس | N22: =VLOOKUP($U$7,'Nilai Tahriri'!$A$2:$AG$41,13,FALSE) -> 5 | P22: النصوص الأدبية | Q22: 12 | R22: 15
B23: =VLOOKUP(C23,Sheet1!$A$1:$B$93,2) -> ستّ | C23: =VLOOKUP($U$7,'Nilai Syafahi'!$A$4:$Z$43,16,FALSE) -> 6 | G23: التجويد | L23: 52 | M23: =VLOOKUP(N23,Sheet1!$A$1:$B$93,2) -> خمس | N23: =VLOOKUP($U$7,'Nilai Tahriri'!$A$2:$AG$41,14,FALSE) -> 5 | P23: النحو والتطبيق | R23: 16
B24: =VLOOKUP(C24,Sheet1!$A$1:$B$93,2) -> سبع | C24: =VLOOKUP($U$7,'Nilai Syafahi'!$A$4:$Z$43,17,FALSE) -> 7 | G24: حفط القرآن | L24: 53 | M24: =VLOOKUP(N24,Sheet1!$A$1:$B$93,2) -> خمس | N24: =VLOOKUP($U$7,'Nilai Tahriri'!$A$2:$AG$41,15,FALSE) -> 5 | P24: الصرف والتطبيق | R24: 17
B25: =VLOOKUP(C25,Sheet1!$A$1:$B$93,2) -> ستّ | C25: =VLOOKUP($U$7,'Nilai Syafahi'!$A$4:$Z$43,18,FALSE) -> 6 | G25: الفقه | L25: 54 | M25: =VLOOKUP(N25,Sheet1!$A$1:$B$93,2) -> خمس و نصف | N25: =VLOOKUP($U$7,'Nilai Tahriri'!$A$2:$AG$41,16,FALSE) -> 5.5 | P25: البلاغة | R25: 18
B26: =VLOOKUP(C26,Sheet1!$A$1:$B$93,2) | G26: Praktik Sholat | K26: ممارسة الصلاة | L26: 55 | M26: =VLOOKUP(N26,Sheet1!$A$1:$B$93,2) | P26: علم المنطق | R26: 19
B27: =VLOOKUP(C27,Sheet1!$A$1:$B$93,2) -> سبع | C27: =VLOOKUP($U$7,'Nilai Syafahi'!$A$4:$Z$43,19,FALSE) -> 7 | G27: الأدعية اليومية | L27: 56 | M27: =VLOOKUP(N27,Sheet1!$A$1:$B$93,2) | P27: تا. أدب اللغة | R27: 20
B28: كتب التراث | M28: =VLOOKUP(N28,Sheet1!$A$1:$B$93,2) -> ست و نصف | N28: =VLOOKUP($U$7,'Nilai Tahriri'!$A$2:$AG$41,17,FALSE) -> 6.5 | P28: الإملاء | R28: 21
G29: فتح القريب | L29: 57 | M29: =VLOOKUP(N29,Sheet1!$A$1:$B$93,2) -> خمس | N29: =VLOOKUP($U$7,'Nilai Tahriri'!$A$2:$AG$41,18,FALSE) -> 5 | P29: الخط العربي | R29: 22
B30: =VLOOKUP(C30,Sheet1!$A$1:$B$93,2) | G30: فتح المعين | L30: 58 | M30: =VLOOKUP(N30,Sheet1!$A$1:$B$93,2) -> خمس و نصف | N30: =VLOOKUP($U$7,'Nilai Tahriri'!$A$2:$AG$41,19,FALSE) -> 5.5 | P30: التربية والتعليم | R30: 23
B31: =VLOOKUP(C31,Sheet1!$A$1:$B$93,2) | G31: العمريطي | L31: 59 | M31: =VLOOKUP(N31,Sheet1!$A$1:$B$93,2) | P31: التربية العملية | R31: 24
B32: =VLOOKUP(C32,Sheet1!$A$1:$B$93,2) | G32: الفية ابن مالك | L32: 60 | M32: =VLOOKUP(N32,Sheet1!$A$1:$B$93,2) -> ثمان | N32: =VLOOKUP($U$7,'Nilai Tahriri'!$A$2:$AG$41,20,FALSE) -> 8 | P32: روح المعهد | R32: 25
B33: =VLOOKUP($U$7,'Nilai Syafahi'!$A$4:$Z$43,20,FALSE) -> 98 | K33: الجملة | M33: =VLOOKUP(N33,Sheet1!$A$1:$B$93,2) -> سبع | N33: =VLOOKUP($U$7,'Nilai Tahriri'!$A$2:$AG$41,21,FALSE) -> 7 | P33: الخطابة | R33: 26
M34: =VLOOKUP(N34,Sheet1!$A$1:$B$93,2) -> ثمان | N34: =VLOOKUP($U$7,'Nilai Tahriri'!$A$2:$AG$41,22,FALSE) -> 8 | O34: Bhs. Inggris | P34: الإنجليزية | R34: 27
B35: البيان | M35: =VLOOKUP(N35,Sheet1!$A$1:$B$93,2) -> ثمان و نصف | N35: =VLOOKUP($U$7,'Nilai Tahriri'!$A$2:$AG$41,23,FALSE) -> 8.5 | O35: Bhs. Indonesia | P35: الإندونيسية | R35: 28
B36: المواظبة | D36: السلوك | K36: النظافة | M36: =VLOOKUP(N36,Sheet1!$A$1:$B$93,2) -> سبع و نصف | N36: =VLOOKUP($U$7,'Nilai Tahriri'!$A$2:$AG$41,24,FALSE) -> 7.5 | O36: Matematika | P36: الرياضية | R36: 29
B37: =VLOOKUP($U$7,Akhlak!$A$4:$J$43,6,FALSE) -> 8 | D37: =VLOOKUP($U$7,Akhlak!$A$4:$J$43,5,FALSE) -> 8 | K37: =VLOOKUP($U$7,Akhlak!$A$4:$J$43,4,FALSE) -> 8 | M37: =VLOOKUP(N37,Sheet1!$A$1:$B$93,2) | N37: =VLOOKUP($U$7,'Nilai Tahriri'!$A$2:$AG$41,25,FALSE) -> 0 | O37: Fisika | P37: الفيزياء | R37: 30
B38: أيام الغياب | M38: =VLOOKUP(N38,Sheet1!$A$1:$B$93,2) | N38: =VLOOKUP($U$7,'Nilai Tahriri'!$A$2:$AG$41,26,FALSE) -> 0 | O38: Biologi | P38: البيولوجيا | R38: 31
B39: لآخر | D39: لاسـتئذان | K39: لمرض | M39: =VLOOKUP(N39,Sheet1!$A$1:$B$93,2) | N39: =VLOOKUP($U$7,'Nilai Tahriri'!$A$2:$AG$41,27,FALSE) -> 0 | O39: Kimia | P39: الكيمياء | R39: 32
B40: =VLOOKUP($U$7,Akhlak!$A$4:$J$43,9,FALSE) -> 0 | D40: =VLOOKUP($U$7,Akhlak!$A$4:$J$43,8,FALSE) -> 0 | K40: =VLOOKUP($U$7,Akhlak!$A$4:$J$43,7,FALSE) -> 0 | M40: =VLOOKUP(N40,Sheet1!$A$1:$B$93,2) | O40: Geografi | P40: الجغرافيا | R40: 33
B41: مستوى التفوق | D41: التقدير العام | M41: =VLOOKUP(N41,Sheet1!$A$1:$B$93,2) | O41: Sosiologi | P41: سوسيولوجيا | R41: 34
B42: =VLOOKUP($U$7,'Nilai Syafahi'!$A$4:$Z$43,25,FALSE) -> 9 | D42: =VLOOKUP($U$7,'Nilai Syafahi'!$A$4:$Z$43,24,FALSE) -> 6.2714286 | K42: =VLOOKUP($U$7,'Nilai Syafahi'!$A$4:$Z$43,23,FALSE) -> 263.4 | M42: =VLOOKUP(N42,Sheet1!$A$1:$B$93,2) | O42: Ekonomi | P42: الإقتصادية | R42: 35
...

Sheet Rekap Nilai
A1: REKAP NILAI UJIAN
A3: =Biodata!C4 -> الرابع ج للبنات
A5: No | B5: Nama | C5: No Ujian | D5: Jumlah Nilai | E5: Nilai Rata-Rata | F5: Peringkat | G5: Keterangan
A6: 1 | B6: ='Data Siswa'!B30 -> ZAKIA MANILOKA | C6: ='Data Siswa'!C30 -> 1125 | D6: ='Nilai Syafahi'!W32 -> 297.1 | E6: ='Nilai Syafahi'!X32 -> 7.0738095 | F6: ='Nilai Syafahi'!Y32 -> 1 | G6: ='Nilai Syafahi'!Z32 -> -
A7: 2 | B7: ='Data Siswa'!B27 -> VIVI AULIA | C7: ='Data Siswa'!C27 -> 1122 | D7: ='Nilai Syafahi'!W29 -> 293.3 | E7: ='Nilai Syafahi'!X29 -> 6.9833333 | F7: ='Nilai Syafahi'!Y29 -> 2 | G7: ='Nilai Syafahi'!Z29 -> -
A8: 3 | B8: ='Data Siswa'!B24 -> SOFWA SALSABILA | C8: ='Data Siswa'!C24 -> 1119 | D8: ='Nilai Syafahi'!W26 -> 290.4 | E8: ='Nilai Syafahi'!X26 -> 6.9142857 | F8: ='Nilai Syafahi'!Y26 -> 3 | G8: ='Nilai Syafahi'!Z26 -> -
A9: 4 | B9: ='Data Siswa'!B8 -> EVI OKTAVIANI | C9: ='Data Siswa'!C8 -> 1103 | D9: ='Nilai Syafahi'!W10 -> 278.3 | E9: ='Nilai Syafahi'!X10 -> 6.6261905 | F9: ='Nilai Syafahi'!Y10 -> 4 | G9: ='Nilai Syafahi'!Z10 -> -
A10: 5 | B10: ='Data Siswa'!B28 -> ZAHRA CITRA AGUSTIN | C10: ='Data Siswa'!C28 -> 1123 | D10: ='Nilai Syafahi'!W30 -> 277.1 | E10: ='Nilai Syafahi'!X30 -> 6.597619 | F10: ='Nilai Syafahi'!Y30 -> 5 | G10: ='Nilai Syafahi'!Z30 -> -
A11: 6 | B11: ='Data Siswa'!B14 -> NURUL ANNISA HARAHAP | C11: ='Data Siswa'!C14 -> 1109 | D11: ='Nilai Syafahi'!W16 -> 274 | E11: ='Nilai Syafahi'!X16 -> 6.5238095 | F11: ='Nilai Syafahi'!Y16 -> 6 | G11: ='Nilai Syafahi'!Z16 -> -
A12: 7 | B12: ='Data Siswa'!B29 -> ZAHROTUL SYIFA | C12: ='Data Siswa'!C29 -> 1124 | D12: ='Nilai Syafahi'!W31 -> 270.7 | E12: ='Nilai Syafahi'!X31 -> 6.4452381 | F12: ='Nilai Syafahi'!Y31 -> 7 | G12: ='Nilai Syafahi'!Z31 -> -
A13: 8 | B13: ='Data Siswa'!B19 -> RUFAIDAH AZZAHRA | C13: ='Data Siswa'!C19 -> 1114 | D13: ='Nilai Syafahi'!W21 -> 269 | E13: ='Nilai Syafahi'!X21 -> 6.4047619 | F13: ='Nilai Syafahi'!Y21 -> 8 | G13: ='Nilai Syafahi'!Z21 -> -
A14: 9 | B14: ='Data Siswa'!B31 -> ZASKIA ANANTA PAMBUDI | C14: ='Data Siswa'!C31 -> 1126 | D14: ='Nilai Syafahi'!W33 -> 263.4 | E14: ='Nilai Syafahi'!X33 -> 6.2714286 | F14: ='Nilai Syafahi'!Y33 -> 9 | G14: ='Nilai Syafahi'!Z33 -> -
A15: 10 | B15: ='Data Siswa'!B7 -> DINA LAURA | C15: ='Data Siswa'!C7 -> 1102 | D15: ='Nilai Syafahi'!W9 -> 261.2 | E15: ='Nilai Syafahi'!X9 -> 6.2190476 | F15: ='Nilai Syafahi'!Y9 -> 10 | G15: ='Nilai Syafahi'!Z9 -> -
A16: 11 | B16: ='Data Siswa'!B13 -> NAILA SEPTIANI | C16: ='Data Siswa'!C13 -> 1108 | D16: ='Nilai Syafahi'!W15 -> 255 | E16: ='Nilai Syafahi'!X15 -> 6.0714286 | F16: ='Nilai Syafahi'!Y15 -> 11 | G16: ='Nilai Syafahi'!Z15 -> -
A17: 12 | B17: ='Data Siswa'!B23 -> SITI ZAHROTUL UYUN | C17: ='Data Siswa'!C23 -> 1118 | D17: ='Nilai Syafahi'!W25 -> 255 | E17: ='Nilai Syafahi'!X25 -> 6.0714286 | F17: ='Nilai Syafahi'!Y25 -> 11 | G17: ='Nilai Syafahi'!Z25 -> -
A18: 13 | B18: ='Data Siswa'!B18 -> RONA IMRONA | C18: ='Data Siswa'!C18 -> 1113 | D18: ='Nilai Syafahi'!W20 -> 252.6 | E18: ='Nilai Syafahi'!X20 -> 6.0142857 | F18: ='Nilai Syafahi'!Y20 -> 12 | G18: ='Nilai Syafahi'!Z20 -> -
A19: 14 | B19: ='Data Siswa'!B21 -> SITI KHORIAH | C19: ='Data Siswa'!C21 -> 1116 | D19: ='Nilai Syafahi'!W23 -> 250.1 | E19: ='Nilai Syafahi'!X23 -> 5.9547619 | F19: ='Nilai Syafahi'!Y23 -> 13 | G19: ='Nilai Syafahi'!Z23 -> -
A20: 15 | B20: ='Data Siswa'!B15 -> RATU NUR ERISYA RADESTA | C20: ='Data Siswa'!C15 -> 1110 | D20: ='Nilai Syafahi'!W17 -> 247.8 | E20: ='Nilai Syafahi'!X17 -> 5.9 | F20: ='Nilai Syafahi'!Y17 -> 14 | G20: ='Nilai Syafahi'!Z17 -> -
A21: 16 | B21: ='Data Siswa'!B26 -> VERA FEBRIANTI | C21: ='Data Siswa'!C26 -> 1121 | D21: ='Nilai Syafahi'!W28 -> 243.5 | E21: ='Nilai Syafahi'!X28 -> 5.797619 | F21: ='Nilai Syafahi'!Y28 -> 15 | G21: ='Nilai Syafahi'!Z28 -> -
A22: 17 | B22: ='Data Siswa'!B5 -> AYU FITRI RAMADHANI | C22: ='Data Siswa'!C5 -> 1100 | D22: ='Nilai Syafahi'!W7 -> 243.4 | E22: ='Nilai Syafahi'!X7 -> 5.7952381 | F22: ='Nilai Syafahi'!Y7 -> 16 | G22: ='Nilai Syafahi'!Z7 -> -
A23: 18 | B23: ='Data Siswa'!B10 -> MAR'AH AINUN NABILAH | C23: ='Data Siswa'!C10 -> 1105 | D23: ='Nilai Syafahi'!W12 -> 243 | E23: ='Nilai Syafahi'!X12 -> 5.7857143 | F23: ='Nilai Syafahi'!Y12 -> 17 | G23: ='Nilai Syafahi'!Z12 -> -
A24: 19 | B24: ='Data Siswa'!B11 -> MUTIARA INDAH PRATIWI | C24: ='Data Siswa'!C11 -> 1106 | D24: ='Nilai Syafahi'!W13 -> 242.8 | E24: ='Nilai Syafahi'!X13 -> 5.7809524 | F24: ='Nilai Syafahi'!Y13 -> 18 | G24: ='Nilai Syafahi'!Z13 -> -
A25: 20 | B25: ='Data Siswa'!B16 -> RISMA YANTI MAESARAH | C25: ='Data Siswa'!C16 -> 1111 | D25: ='Nilai Syafahi'!W18 -> 240.6 | E25: ='Nilai Syafahi'!X18 -> 5.7285714 | F25: ='Nilai Syafahi'!Y18 -> 19 | G25: ='Nilai Syafahi'!Z18 -> -
A26: 21 | B26: ='Data Siswa'!B25 -> SULISTIA NINGSIH | C26: ='Data Siswa'!C25 -> 1120 | D26: ='Nilai Syafahi'!W27 -> 240.4 | E26: ='Nilai Syafahi'!X27 -> 5.7238095 | F26: ='Nilai Syafahi'!Y27 -> 20 | G26: ='Nilai Syafahi'!Z27 -> -
A27: 22 | B27: ='Data Siswa'!B20 -> SALWA JUHRATUNISA | C27: ='Data Siswa'!C20 -> 1115 | D27: ='Nilai Syafahi'!W22 -> 240 | E27: ='Nilai Syafahi'!X22 -> 5.7142857 | F27: ='Nilai Syafahi'!Y22 -> 21 | G27: ='Nilai Syafahi'!Z22 -> -
A28: 23 | B28: ='Data Siswa'!B9 -> INDAH MAELANI | C28: ='Data Siswa'!C9 -> 1104 | D28: ='Nilai Syafahi'!W11 -> 239.7 | E28: ='Nilai Syafahi'!X11 -> 5.7071429 | F28: ='Nilai Syafahi'!Y11 -> 22 | G28: ='Nilai Syafahi'!Z11 -> -
A29: 24 | B29: ='Data Siswa'!B17 -> RIZKA KAMILATUL ULYA | C29: ='Data Siswa'!C17 -> 1112 | D29: ='Nilai Syafahi'!W19 -> 238.9 | E29: ='Nilai Syafahi'!X19 -> 5.6880952 | F29: ='Nilai Syafahi'!Y19 -> 23 | G29: ='Nilai Syafahi'!Z19 -> -
A30: 25 | B30: ='Data Siswa'!B12 -> NAILA RIZKI ARABELA | C30: ='Data Siswa'!C12 -> 1107 | D30: ='Nilai Syafahi'!W14 -> 238.4 | E30: ='Nilai Syafahi'!X14 -> 5.6761905 | F30: ='Nilai Syafahi'!Y14 -> 24 | G30: ='Nilai Syafahi'!Z14 -> -
A31: 26 | B31: ='Data Siswa'!B2 -> ALIFA RIZKIYAH | C31: ='Data Siswa'!C2 -> 1097 | D31: ='Nilai Syafahi'!W4 -> 236.1 | E31: ='Nilai Syafahi'!X4 -> 5.6214286 | F31: ='Nilai Syafahi'!Y4 -> 25 | G31: ='Nilai Syafahi'!Z4 -> -
A32: 27 | B32: ='Data Siswa'!B6 -> BUNGA AULIA | C32: ='Data Siswa'!C6 -> 1101 | D32: ='Nilai Syafahi'!W8 -> 231.1 | E32: ='Nilai Syafahi'!X8 -> 5.502381 | F32: ='Nilai Syafahi'!Y8 -> 26 | G32: ='Nilai Syafahi'!Z8 -> -
A33: 28 | B33: ='Data Siswa'!B4 -> ATHIRA PUTRI TAZKIAH | C33: ='Data Siswa'!C4 -> 1099 | D33: ='Nilai Syafahi'!W6 -> 223.7 | E33: ='Nilai Syafahi'!X6 -> 6.0459459 | F33: ='Nilai Syafahi'!Y6 -> 27 | G33: ='Nilai Syafahi'!Z6 -> -
A34: 29 | B34: ='Data Siswa'!B22 -> SITI MAESAROH | C34: ='Data Siswa'!C22 -> 1117 | D34: ='Nilai Syafahi'!W24 -> 223.5 | E34: ='Nilai Syafahi'!X24 -> 5.3214286 | F34: ='Nilai Syafahi'!Y24 -> 28 | G34: ='Nilai Syafahi'!Z24 -> -
A35: 30 | B35: ='Data Siswa'!B3 -> ASSYIFA RAHMAWATI | C35: ='Data Siswa'!C3 -> 1098 | D35: ='Nilai Syafahi'!W5 -> 192 | E35: ='Nilai Syafahi'!X5 -> 5.8181818 | F35: ='Nilai Syafahi'!Y5 -> 29 | G35: ='Nilai Syafahi'!Z5 -> -
A36: 31 | B36: ='Data Siswa'!B32 -> 0 | C36: ='Data Siswa'!C32 -> 0 | D36: ='Nilai Syafahi'!W34 -> 0 | E36: ='Nilai Syafahi'!X34 -> #DIV/0! | F36: ='Nilai Syafahi'!Y34 -> 30 | G36: ='Nilai Syafahi'!Z34 -> -
A37: 32 | B37: ='Data Siswa'!B33 -> 0 | C37: ='Data Siswa'!C33 -> 0 | D37: ='Nilai Syafahi'!W35 -> 0 | E37: ='Nilai Syafahi'!X35 -> #DIV/0! | F37: ='Nilai Syafahi'!Y35 -> 30 | G37: ='Nilai Syafahi'!Z35 -> -
A38: 33 | B38: ='Data Siswa'!B34 -> 0 | C38: ='Data Siswa'!C34 -> 0 | D38: ='Nilai Syafahi'!W36 -> 0 | E38: ='Nilai Syafahi'!X36 -> #DIV/0! | F38: ='Nilai Syafahi'!Y36 -> 30 | G38: ='Nilai Syafahi'!Z36 -> -
A39: 34 | B39: ='Data Siswa'!B35 -> 0 | C39: ='Data Siswa'!C35 -> 0 | D39: ='Nilai Syafahi'!W37 -> 0 | E39: ='Nilai Syafahi'!X37 -> #DIV/0! | F39: ='Nilai Syafahi'!Y37 -> 30 | G39: ='Nilai Syafahi'!Z37 -> -
A40: 35 | B40: ='Data Siswa'!B36 -> 0 | C40: ='Data Siswa'!C36 -> 0 | D40: ='Nilai Syafahi'!W38 -> 0 | E40: ='Nilai Syafahi'!X38 -> #DIV/0! | F40: ='Nilai Syafahi'!Y38 -> 30 | G40: ='Nilai Syafahi'!Z38 -> -
A41: 36 | B41: ='Data Siswa'!B37 -> 0 | C41: ='Data Siswa'!C37 -> 0 | D41: ='Nilai Syafahi'!W39 -> 0 | E41: ='Nilai Syafahi'!X39 -> #DIV/0! | F41: ='Nilai Syafahi'!Y39 -> 30 | G41: ='Nilai Syafahi'!Z39 -> -
A42: 37 | B42: ='Data Siswa'!B38 -> 0 | C42: ='Data Siswa'!C38 -> 0 | D42: ='Nilai Syafahi'!W40 -> 0 | E42: ='Nilai Syafahi'!X40 -> #DIV/0! | F42: ='Nilai Syafahi'!Y40 -> 30 | G42: ='Nilai Syafahi'!Z40 -> -
...

Sheet Sheet1
A2: 0
A3: 1 | B3: واحد
A4: 1.1 | B4: واحد و واحد
A5: 1.2 | B5: واحد و اثنين
A6: 1.3 | B6: واحد و ثلاث
A7: 1.4 | B7: واحد و اربع
A8: 1.5 | B8: واحد و نصف
A9: 1.6 | B9: واحد و ست
A10: 1.7 | B10: واحد و سبع
A11: 1.8 | B11: واحد و ثمان
A12: 1.9 | B12: واحد و تسع
A13: 2 | B13: اثنين
A14: 2.1 | B14: اثنين و واحد
... A93: 10 | B93: عشر
