Workbook
Name nilai: 'Nilai Tahriri'!$B$2:$AJ$27

Sheet Identitas
C2: NAMA WALI KELAS
C4: KELAS
C6: SEMESTER
C8: TAHUN PELAJARAN
C10: TANGGAL HIJRIYAH
C12: TANGGAL MILADIYAH

Sheet Biodata
C1: IDENTITAS RAPOT
B4: =CONCATENATE(F4," ",E4," ",C4) -> الصف : الخامس د للبنات | C4: الخامس د للبنات | E4: : | F4: الصف | G4: 1
F5: ( Kelas )
B7: =CONCATENATE(F7," ",E7," ",C7) -> الفصل الدراسي : الأول | C7: الأول | E7: : | F7: الفصل الدراسي | G7: 2
F8: ( Semester )
B10: =CONCATENATE(F10," : ",C11," ه"," \ ",C10," م") -> العام الدراسي : ١٤٤٤ - ١٤٤٥ ه \ ٢٠٢٣ - ٢٠٢٤ م | C10: ٢٠٢٣ - ٢٠٢٤ | E10: : | F10: العام الدراسي | G10: 3
C11: ١٤٤٤ - ١٤٤٥ | F11: ( Tahun Pelajaran )
C13: ٠٩ من جمادى الآخر سنة ١٤٤٥ ه | E13: : | F13: تحريرا بسـيرانج في | G13: 4
C14: ٢٢ من ديسمبر سنة ٢٠٢٣ م | F14: ( Tanggal Rapot )
C16: الأستاذ شهاب المعي | E16: : | F16: مدير المدرسة | G16: 5
F17: ( Nama Kepala Sekolah )
C19: الأستاذ سيف العلوي | E19: : | F19: ولي الفصل | G19: 6
F20: ( Nama Wali Kelas )

Sheet Data Siswa
A1: No | B1: Nama | C1: No Exam | D1: Keterangan
A2: 1 | B2: AISYAH DZAKIYYAH | C2: 1204
A3: 2 | B3: ALINTRI SIFFA MULYANA | C3: 1205
A4: 3 | B4: ANDINI DAHLIANI | C4: 1206
A5: 4 | B5: ANGGITA RAMALIA | C5: 1207
A6: 5 | B6: AYUDYA LESTARI | C6: 1208
A7: 6 | B7: CAHYANI WULANDARI | C7: 1209
A8: 7 | B8: CINDY RAHMANATI | C8: 1210
A9: 8 | B9: DEWI AMELLIA | C9: 1211
A10: 9 | B10: EGIDIA AGISTA NOVELIN | C10: 1212
A11: 10 | B11: ELSA MARDIANA | C11: 1213
A12: 11 | B12: ERINA ANGGRAENI | C12: 1214
A13: 12 | B13: FAHIRA IKMALIA HADI | C13: 1215
... A35: 34 | B35: ZAHROTUL AWWALIYAH | C35: 1237
A36: 35
A37: 36
A38: 37
A39: 38
A40: 39
A41: 40

Sheet Nilai Tahriri
A1: No | B1: Nama | C1: No Ujian | D1: التفسير | E1: الحديث | F1: مصطلح الحديث | G1: الفقه | H1: اصول الفقه | I1: علم الفرائض | J1: الديانة | K1: تاريخ التشريع | L1: التاريخ الإسلام | M1: التعبير التحريري | N1: تمرين اللغة | O1: المطالعة | P1: النصوص الأدبية | Q1: النحو | R1: الصرف | S1: البلاغة | T1: الإملاء | U1: الخط | V1: التربية والتعليم | W1: روح المعهد | X1: الخطابة | Y1: B. Inggris | Z1: B. Indonesia | AA1: Matematika | AB1: Fisika | AC1: Biologi | AD1: Kimia | AE1: Geografi | AF1: Sosiologi | AG1: Ekonomi | AH1: PPKN | AI1: Sjrh. Indo | AJ1: Jumlah Nilai | AK1: Nilai Rata2
A2: ='Data Siswa'!A2 -> 1 | B2: ='Data Siswa'!B2 -> AISYAH DZAKIYYAH | C2: ='Data Siswa'!C2 -> 1204 | E2: 4 | F2: 4.5 | G2: 5.5 | H2: 4.5 | I2: 6 | K2: 6 | L2: 4 | M2: 7 | O2: 5 | P2: 4 | Q2: 5 | R2: 5 | S2: 4.5 | T2: 6 | U2: 7 | V2: 5 | W2: 7 | X2: 8 | Y2: 7.5 | Z2: 8.5 | AA2: 6 | AE2: 8 | AF2: 8.5 | AG2: 7 | AH2: 8 | AJ2: =SUM(D2:AI2) -> 151.5 | AK2: =AVERAGE(D2:AI2) -> 6.06
A3: ='Data Siswa'!A3 -> 2 | B3: ='Data Siswa'!B3 -> ALINTRI SIFFA MULYANA | C3: ='Data Siswa'!C3 -> 1205 | D3: 8 | E3: 5.5 | F3: 5 | G3: 7 | H3: 8 | I3: 7 | J3: 5 | K3: 5 | L3: 5 | M3: 7 | N3: 7.5 | O3: 5 | P3: 6 | Q3: 6 | R3: 5 | S3: 4.5 | T3: 7 | U3: 6 | V3: 8 | W3: 8 | X3: 7 | Y3: 7.5 | Z3: 8.5 | AA3: 6 | AE3: 8 | AF3: 8 | AG3: 6.5 | AH3: 8 | AI3: 6 | AJ3: =SUM(D3:AI3) -> 191 | AK3: =AVERAGE(D3:AI3) -> 6.5862069
A4: ='Data Siswa'!A4 -> 3 | B4: ='Data Siswa'!B4 -> ANDINI DAHLIANI | C4: ='Data Siswa'!C4 -> 1206 | D4: 4 | E4: 5 | F4: 4 | G4: 4 | H4: 4.5 | I4: 4.5 | J4: 4 | K4: 4 | L4: 4 | M4: 4 | N4: 4.5 | O4: 4 | P4: 4 | Q4: 4 | R4: 5 | S4: 4 | T4: 6 | U4: 7 | V4: 4 | W4: 7 | X4: 8 | Y4: 6.5 | Z4: 7.5 | AA4: 6 | AE4: 8.5 | AF4: 8 | AG4: 6 | AH4: 8 | AI4: 6.5 | AJ4: =SUM(D4:AI4) -> 156.5 | AK4: =AVERAGE(D4:AI4) -> 5.3965517
A5: ='Data Siswa'!A5 -> 4 | B5: ='Data Siswa'!B5 -> ANGGITA RAMALIA | C5: ='Data Siswa'!C5 -> 1207 | D5: 4 | E5: 5.5 | F5: 4.5 | G5: 8 | H5: 5.5 | I5: 5 | J5: 4 | K5: 7.5 | L5: 4.5 | M5: 5 | N5: 7.5 | O5: 4 | P5: 5 | Q5: 6.5 | R5: 5 | S5: 4 | T5: 7 | U5: 6 | V5: 6.5 | W5: 8 | X5: 7 | Y5: 7.5 | Z5: 8 | AA5: 9 | AE5: 8 | AF5: 8 | AG5: 7 | AH5: 8 | AI5: 5 | AJ5: =SUM(D5:AI5) -> 180.5 | AK5: =AVERAGE(D5:AI5) -> 6.2241379
A6: ='Data Siswa'!A6 -> 5 | B6: ='Data Siswa'!B6 -> AYUDYA LESTARI | C6: ='Data Siswa'!C6 -> 1208 | D6: 4 | E6: 4.5 | F6: 4 | G6: 4 | H6: 4.5 | I6: 4.5 | J6: 4 | K6: 4 | L6: 4 | M6: 4 | N6: 4 | O6: 4 | P6: 4 | Q6: 4 | R6: 5 | S6: 4 | T6: 6 | U6: 7 | V6: 4 | W6: 7 | X6: 8 | Y6: 6.5 | Z6: 8 | AA6: 6 | AE6: 8 | AF6: 9 | AG6: 6.5 | AH6: 8 | AI6: 6 | AJ6: =SUM(D6:AI6) -> 156.5 | AK6: =AVERAGE(D6:AI6) -> 5.3965517
A7: ='Data Siswa'!A7 -> 6 | B7: ='Data Siswa'!B7 -> CAHYANI WULANDARI | C7: ='Data Siswa'!C7 -> 1209 | D7: 6 | E7: 6 | F7: 4.5 | G7: 7 | H7: 5 | I7: 6 | J7: 4.5 | K7: 5 | L7: 4 | M7: 5 | N7: 7 | O7: 4.5 | P7: 5 | Q7: 6.5 | R7: 5 | S7: 4 | T7: 7 | U7: 6 | V7: 5.5 | W7: 8 | X7: 7 | Y7: 6.5 | Z7: 7.5 | AA7: 6 | AE7: 7.5 | AF7: 8.5 | AG7: 7 | AH7: 8 | AI7: 4.5 | AJ7: =SUM(D7:AI7) -> 174 | AK7: =AVERAGE(D7:AI7) -> 6
A8: ='Data Siswa'!A8 -> 7 | B8: ='Data Siswa'!B8 -> CINDY RAHMANATI | C8: ='Data Siswa'!C8 -> 1210 | D8: 5.5 | E8: 5.5 | F8: 4 | G8: 6 | H8: 6 | I8: 7 | J8: 4 | K8: 5 | L8: 5.5 | M8: 6 | N8: 6.5 | O8: 4 | P8: 4.5 | Q8: 5.5 | R8: 5 | S8: 4.5 | T8: 6 | U8: 7 | V8: 6.5 | W8: 7 | X8: 8 | Y8: 7 | Z8: 9 | AA8: 8 | AE8: 8 | AF8: 8.5 | AG8: 6.5 | AH8: 8 | AI8: 6 | AJ8: =SUM(D8:AI8) -> 180 | AK8: =AVERAGE(D8:AI8) -> 6.2068966
A9: ='Data Siswa'!A9 -> 8 | B9: ='Data Siswa'!B9 -> DEWI AMELLIA | C9: ='Data Siswa'!C9 -> 1211 | D9: 7.5 | E9: 5.5 | F9: 4.5 | G9: 6.5 | H9: 5 | I9: 7 | J9: 7 | K9: 7 | L9: 8 | M9: 5 | N9: 8 | O9: 5.5 | P9: 5.5 | Q9: 6.5 | R9: 4.5 | S9: 4.5 | T9: 7 | U9: 6 | V9: 7 | W9: 8 | X9: 7 | Y9: 9 | Z9: 9 | AA9: 8 | AE9: 9 | AF9: 9.5 | AG9: 7 | AH9: 8 | AI9: 7 | AJ9: =SUM(D9:AI9) -> 199 | AK9: =AVERAGE(D9:AI9) -> 6.862069
A10: ='Data Siswa'!A10 -> 9 | B10: ='Data Siswa'!B10 -> EGIDIA AGISTA NOVELIN | C10: ='Data Siswa'!C10 -> 1212 | D10: 7 | E10: 6 | F10: 4 | G10: 5.5 | H10: 5 | I10: 6.5 | J10: 4.5 | K10: 7 | L10: 4.5 | M10: 5 | N10: 7.5 | O10: 4 | P10: 5.5 | Q10: 6.5 | R10: 6 | S10: 4.5 | T10: 6 | U10: 7 | V10: 6.5 | W10: 7 | X10: 8 | Y10: 8 | Z10: 9 | AA10: 7 | AE10: 9 | AF10: 9.5 | AG10: 9 | AH10: 8 | AI10: 6.5 | AJ10: =SUM(D10:AI10) -> 189.5 | AK10: =AVERAGE(D10:AI10) -> 6.5344828
A11: ='Data Siswa'!A11 -> 10 | B11: ='Data Siswa'!B11 -> ELSA MARDIANA | C11: ='Data Siswa'!C11 -> 1213 | D11: 5 | E11: 5.5 | F11: 4.5 | G11: 6.5 | H11: 5.5 | I11: 6.5 | J11: 4 | K11: 6.5 | L11: 5 | M11: 4.5 | N11: 7 | O11: 4 | P11: 5 | Q11: 5 | R11: 5.5 | S11: 4 | T11: 7 | U11: 6 | V11: 6.5 | W11: 8 | X11: 7 | Y11: 7.5 | Z11: 8 | AA11: 7 | AE11: 8.5 | AF11: 8.5 | AG11: 7 | AH11: 8 | AI11: 6 | AJ11: =SUM(D11:AI11) -> 179 | AK11: =AVERAGE(D11:AI11) -> 6.1724138
A12: ='Data Siswa'!A12 -> 11 | B12: ='Data Siswa'!B12 -> ERINA ANGGRAENI | C12: ='Data Siswa'!C12 -> 1214 | D12: 6.5 | E12: 5.5 | F12: 4.5 | G12: 6 | H12: 5.5 | I12: 5.5 | J12: 4 | K12: 6.5 | L12: 4 | M12: 4.5 | N12: 7 | O12: 4 | P12: 4.5 | Q12: 6 | R12: 5 | S12: 4 | T12: 6 | U12: 7 | V12: 5 | W12: 7 | X12: 8 | Y12: 7.5 | Z12: 8 | AA12: 9 | AE12: 8.5 | AF12: 8 | AG12: 7 | AH12: 8 | AI12: 5 | AJ12: =SUM(D12:AI12) -> 177 | AK12: =AVERAGE(D12:AI12) -> 6.1034483
A13: ='Data Siswa'!A13 -> 12 | B13: ='Data Siswa'!B13 -> FAHIRA IKMALIA HADI | C13: ='Data Siswa'!C13 -> 1215 | D13: 4.5 | E13: 5.5 | F13: 4.5 | G13: 5.5 | H13: 5 | I13: 6.5 | J13: 4.5 | K13: 6 | L13: 4 | M13: 5 | N13: 5 | O13: 4 | P13: 4.5 | Q13: 5 | R13: 5 | S13: 4 | T13: 7 | U13: 6 | V13: 6.5 | W13: 8 | X13: 7 | Y13: 7.5 | Z13: 8.5 | AA13: 6 | AE13: 8 | AF13: 8 | AG13: 6 | AH13: 8 | AI13: 5.5 | AJ13: =SUM(D13:AI13) -> 170.5 | AK13: =AVERAGE(D13:AI13) -> 5.8793103
A14: ='Data Siswa'!A14 -> 13 | B14: ='Data Siswa'!B14 -> FANI RISKA VIANA | C14: ='Data Siswa'!C14 -> 1216 | D14: 5.5 | E14: 5 | F14: 5 | G14: 7 | H14: 5 | I14: 6 | J14: 6 | K14: 7.5 | L14: 7 | M14: 4.5 | N14: 5 | O14: 4 | P14: 7.5 | Q14: 6 | R14: 5.5 | S14: 4 | T14: 6 | U14: 7 | V14: 5 | W14: 7 | X14: 8 | Y14: 7.5 | Z14: 8.5 | AA14: 6 | AE14: 8 | AF14: 8 | AG14: 7.5 | AH14: 8 | AI14: 5.5 | AJ14: =SUM(D14:AI14) -> 182.5 | AK14: =AVERAGE(D14:AI14) -> 6.2931034
... A18: ='Data Siswa'!A18 -> 17 | B18: ='Data Siswa'!B18 -> KEISYA AURA RUSDIANSYAH | C18: ='Data Siswa'!C18 -> 1220 | D18: 6 | E18: 5 | F18: 4 | G18: 4.5 | H18: 4.5 | I18: 6 | J18: 4 | K18: 5 | L18: 4 | M18: 5 | N18: 8 | O18: 4.5 | P18: 5 | Q18: 5.5 | R18: 5.5 | S18: 4 | T18: 6 | U18: 7 | V18: 6.5 | W18: 7 | X18: 8 | Y18: 7.5 | Z18: 8.5 | AA18: 6 | AE18: 9 | AF18: 8.5 | AG18: 6.5 | AH18: 8 | AI18: 6 | AJ18: =SUM(D18:AI18) -> 175 | AK18: =AVERAGE(D18:AI18) -> 6.0344828
A19: ='Data Siswa'!A19 -> 18 | B19: ='Data Siswa'!B19 -> LESTIANA LUXMY MADINA NUSA | C19: ='Data Siswa'!C19 -> 1221 | D19: 5.5 | E19: 5 | F19: 4 | G19: 4 | H19: 5 | I19: 6.5 | J19: 4 | K19: 4 | M19: 5.5 | N19: 7 | O19: 4 | P19: 4.5 | Q19: 6 | R19: 5 | S19: 4 | T19: 7 | U19: 6 | V19: 6.5 | W19: 8 | X19: 7 | Y19: 7 | Z19: 9 | AE19: 8 | AF19: 8 | AG19: 7 | AH19: 8 | AI19: 7.5 | AJ19: =SUM(D19:AI19) -> 163 | AK19: =AVERAGE(D19:AI19) -> 6.037037
A20: ='Data Siswa'!A20 -> 19 | B20: ='Data Siswa'!B20 -> MEIRIN NUR SANDRILA | C20: ='Data Siswa'!C20 -> 1222 | D20: 8 | E20: 5.5 | F20: 4.5 | G20: 7.5 | H20: 7 | I20: 6 | J20: 4 | K20: 7 | L20: 7 | M20: 5.5 | N20: 7.5 | O20: 7 | P20: 5 | Q20: 6.5 | R20: 6 | S20: 4 | T20: 6 | U20: 7 | V20: 6.5 | W20: 7 | X20: 8 | Y20: 9 | Z20: 8.5 | AA20: 8 | AE20: 8 | AF20: 8.5 | AG20: 7.5 | AH20: 8 | AI20: 5 | AJ20: =SUM(D20:AI20) -> 195 | AK20: =AVERAGE(D20:AI20) -> 6.7241379
A21: ='Data Siswa'!A21 -> 20 | B21: ='Data Siswa'!B21 -> NAJWA KHOERUNNISA | C21: ='Data Siswa'!C21 -> 1223 | D21: 6.5 | E21: 5.5 | F21: 4 | G21: 6.5 | H21: 6.5 | I21: 6 | J21: 4 | K21: 6 | L21: 7 | M21: 5 | N21: 8 | O21: 4 | P21: 5 | Q21: 6 | R21: 5.5 | S21: 4 | T21: 7 | U21: 6 | V21: 5 | W21: 8 | X21: 7 | Y21: 7 | Z21: 7.5 | AA21: 6 | AE21: 8 | AF21: 8 | AG21: 6.5 | AH21: 8 | AI21: 7 | AJ21: =SUM(D21:AI21) -> 180.5 | AK21: =AVERAGE(D21:AI21) -> 6.2241379
A22: ='Data Siswa'!A22 -> 21 | B22: ='Data Siswa'!B22 -> NAJWA ZAHROTUNNISA | C22: ='Data Siswa'!C22 -> 1224 | D22: 4 | E22: 5 | F22: 4 | G22: 4.5 | H22: 6 | I22: 5.5 | J22: 4 | K22: 4 | L22: 4 | M22: 5 | N22: 7 | O22: 4 | P22: 4 | Q22: 5 | R22: 6 | S22: 4 | T22: 6 | U22: 7 | V22: 4.5 | W22: 7 | X22: 8 | Y22: 7 | Z22: 8 | AA22: 5.5 | AE22: 8 | AF22: 8 | AG22: 7 | AH22: 8 | AI22: 5 | AJ22: =SUM(D22:AI22) -> 165 | AK22: =AVERAGE(D22:AI22) -> 5.6896552
A23: ='Data Siswa'!A23 -> 22 | B23: ='Data Siswa'!B23 -> NANDA HAMIDAH | C23: ='Data Siswa'!C23 -> 1225 | D23: 4.5 | E23: 5.5 | F23: 4.5 | G23: 5.5 | H23: 5 | I23: 6 | J23: 4 | K23: 4.5 | L23: 5 | M23: 4.5 | N23: 6.5 | O23: 4.5 | P23: 5 | Q23: 5.5 | R23: 6 | S23: 4 | T23: 7 | U23: 6 | V23: 5 | W23: 8 | X23: 7 | Y23: 7.5 | Z23: 7 | AA23: 7 | AE23: 8 | AF23: 8.5 | AG23: 6.5 | AH23: 8 | AI23: 4.5 | AJ23: =SUM(D23:AI23) -> 170.5 | AK23: =AVERAGE(D23:AI23) -> 5.8793103
A24: ='Data Siswa'!A24 -> 23 | B24: ='Data Siswa'!B24 -> NOVA AULIA RITONGA | C24: ='Data Siswa'!C24 -> 1226 | D24: 4.5 | E24: 5.5 | F24: 4 | G24: 6 | H24: 5.5 | I24: 6.5 | J24: 4 | K24: 4 | L24: 4.5 | M24: 5 | N24: 7.5 | O24: 4.5 | P24: 4 | Q24: 5.5 | R24: 5 | S24: 4 | T24: 6 | U24: 7 | V24: 5 | W24: 7 | X24: 8 | Y24: 7.5 | Z24: 7 | AA24: 7 | AE24: 8 | AF24: 9 | AG24: 6.5 | AH24: 8 | AI24: 5.5 | AJ24: =SUM(D24:AI24) -> 171.5 | AK24: =AVERAGE(D24:AI24) -> 5.9137931
A25: ='Data Siswa'!A25 -> 24 | B25: ='Data Siswa'!B25 -> NUR AFNI OKTAFIYANTI | C25: ='Data Siswa'!C25 -> 1227 | D25: 4 | E25: 5 | F25: 4 | G25: 4 | H25: 4.5 | J25: 5 | M25: 5 | N25: 7 | O25: 4 | P25: 5 | R25: 6 | T25: 7 | U25: 6 | W25: 8 | X25: 7 | Y25: 7.5 | Z25: 8.5 | AE25: 8 | AF25: 8.5 | AG25: 7 | AI25: 6.5 | AJ25: =SUM(D25:AI25) -> 127.5 | AK25: =AVERAGE(D25:AI25) -> 6.0714286
A26: ='Data Siswa'!A26 -> 25 | B26: ='Data Siswa'!B26 -> NURIYANTI | C26: ='Data Siswa'!C26 -> 1228 | D26: 4.5 | E26: 5.5 | F26: 5 | G26: 7 | H26: 4.5 | I26: 5.5 | J26: 4 | K26: 4 | L26: 7 | M26: 5 | N26: 5 | O26: 4 | P26: 4.5 | Q26: 6 | R26: 6 | S26: 4 | T26: 6 | U26: 7 | V26: 7.5 | W26: 7 | X26: 8 | Y26: 7.5 | Z26: 7 | AA26: 9.5 | AE26: 8.5 | AF26: 8 | AG26: 7 | AH26: 8 | AI26: 5 | AJ26: =SUM(D26:AI26) -> 177.5 | AK26: =AVERAGE(D26:AI26) -> 6.1206897
A27: ='Data Siswa'!A27 -> 26 | B27: ='Data Siswa'!B27 -> RAMINAH | C27: ='Data Siswa'!C27 -> 1229 | D27: 4 | E27: 5.5 | F27: 5 | G27: 4 | H27: 4.5 | I27: 5 | J27: 4 | K27: 4 | L27: 4 | M27: 4 | N27: 8 | O27: 4 | P27: 4 | Q27: 4 | R27: 5.5 | S27: 4 | T27: 7 | U27: 6 | V27: 6 | W27: 8 | X27: 7 | Y27: 7.5 | Z27: 7.5 | AA27: 5.5 | AE27: 8 | AF27: 8 | AG27: 7 | AH27: 8.5 | AI27: 6 | AJ27: =SUM(D27:AI27) -> 165.5 | AK27: =AVERAGE(D27:AI27) -> 5.7068966
A28: ='Data Siswa'!A28 -> 27 | B28: ='Data Siswa'!B28 -> RAYNA NURUL AUDINA | C28: ='Data Siswa'!C28 -> 1230 | D28: 7.5 | E28: 6 | F28: 4 | G28: 6 | H28: 5.5 | I28: 6 | J28: 4 | M28: 4.5 | N28: 5.5 | O28: 4 | P28: 5 | R28: 5 | T28: 6 | U28: 7 | W28: 7 | X28: 8 | Y28: 7.5 | Z28: 8.5 | AE28: 8.5 | AF28: 9 | AG28: 7.5 | AI28: 6.5 | AJ28: =SUM(D28:AI28) -> 138.5 | AK28: =AVERAGE(D28:AI28) -> 6.2954545
A29: ='Data Siswa'!A29 -> 28 | B29: ='Data Siswa'!B29 -> REIFA AULIA NURFAUZA | C29: ='Data Siswa'!C29 -> 1231 | D29: 6 | E29: 6 | F29: 4 | G29: 6 | H29: 4.5 | I29: 6.5 | J29: 4 | K29: 4 | L29: 6 | M29: 5 | N29: 6.5 | O29: 4.5 | P29: 4.5 | Q29: 5.5 | R29: 5.5 | S29: 5.5 | T29: 7 | U29: 6 | V29: 6 | W29: 8 | X29: 7 | Y29: 8 | Z29: 9 | AA29: 9 | AE29: 8 | AF29: 8.5 | AG29: 7 | AH29: 8 | AI29: 5.5 | AJ29: =SUM(D29:AI29) -> 181 | AK29: =AVERAGE(D29:AI29) -> 6.2413793
A30: ='Data Siswa'!A30 -> 29 | B30: ='Data Siswa'!B30 -> SALIS FIJRIYANI | C30: ='Data Siswa'!C30 -> 1232 | D30: 8 | E30: 5 | F30: 4.5 | G30: 8 | H30: 7 | I30: 6.5 | J30: 5 | K30: 7.5 | L30: 6.5 | M30: 6 | N30: 7.5 | O30: 5 | P30: 6.5 | Q30: 7.5 | R30: 5 | S30: 5.5 | T30: 6 | U30: 7 | V30: 7 | W30: 7 | X30: 8 | Y30: 8 | Z30: 7.5 | AA30: 7.5 | AE30: 9 | AF30: 9 | AG30: 7.5 | AH30: 8 | AI30: 5.5 | AJ30: =SUM(D30:AI30) -> 198 | AK30: =AVERAGE(D30:AI30) -> 6.8275862
A31: ='Data Siswa'!A31 -> 30 | B31: ='Data Siswa'!B31 -> SITI ADLAH | C31: ='Data Siswa'!C31 -> 1233 | D31: 6.5 | E31: 5 | F31: 6 | G31: 7 | H31: 7 | I31: 6.5 | J31: 5.5 | K31: 7 | L31: 7 | M31: 5 | N31: 8 | O31: 4.5 | P31: 6.5 | Q31: 5.5 | R31: 5 | S31: 4.5 | T31: 7 | U31: 6 | V31: 5 | W31: 8 | X31: 7 | Y31: 7.5 | Z31: 9 | AA31: 6.5 | AE31: 8 | AF31: 8.5 | AG31: 7 | AH31: 8 | AI31: 6 | AJ31: =SUM(D31:AI31) -> 190 | AK31: =AVERAGE(D31:AI31) -> 6.5517241
A32: ='Data Siswa'!A32 -> 31 | B32: ='Data Siswa'!B32 -> SITI NURHALISAH | C32: ='Data Siswa'!C32 -> 1234 | D32: 5 | E32: 6 | F32: 4.5 | G32: 5 | H32: 5 | I32: 6 | J32: 4 | K32: 4 | L32: 4.5 | M32: 4 | N32: 7.5 | O32: 4 | P32: 5 | Q32: 5.5 | R32: 6 | S32: 4 | T32: 6 | U32: 7 | V32: 4 | W32: 7 | X32: 8 | Y32: 7.5 | Z32: 8.5 | AA32: 6 | AE32: 8 | AF32: 8 | AG32: 6.5 | AH32: 8 | AI32: 6 | AJ32: =SUM(D32:AI32) -> 170.5 | AK32: =AVERAGE(D32:AI32) -> 5.8793103
A33: ='Data Siswa'!A33 -> 32 | B33: ='Data Siswa'!B33 -> TIA FATHATUL MUTHOHAROH | C33: ='Data Siswa'!C33 -> 1235 | D33: 8 | E33: 5.5 | F33: 5 | G33: 7.5 | H33: 7.5 | I33: 7 | J33: 5 | K33: 7 | L33: 7 | M33: 5 | N33: 7 | O33: 6 | P33: 5 | Q33: 7.5 | R33: 5.5 | S33: 5 | T33: 7 | U33: 6 | V33: 7 | W33: 8 | X33: 7 | Y33: 7.5 | Z33: 8.5 | AA33: 8.5 | AE33: 8.5 | AF33: 8.5 | AG33: 7.5 | AH33: 8 | AI33: 7 | AJ33: =SUM(D33:AI33) -> 199.5 | AK33: =AVERAGE(D33:AI33) -> 6.8793103
A34: ='Data Siswa'!A34 -> 33 | B34: ='Data Siswa'!B34 -> VHISCA FAMELA ERICA | C34: ='Data Siswa'!C34 -> 1236 | D34: 4.5 | E34: 5 | F34: 4.5 | G34: 5 | H34: 5 | I34: 6.5 | J34: 4 | K34: 4 | L34: 5 | M34: 5.5 | N34: 8 | O34: 4 | P34: 4 | Q34: 4 | R34: 5 | S34: 4.5 | T34: 6 | U34: 7 | V34: 5 | W34: 7 | X34: 8 | Y34: 7 | Z34: 7.5 | AA34: 6 | AE34: 8 | AF34: 9 | AG34: 7 | AH34: 8 | AI34: 6 | AJ34: =SUM(D34:AI34) -> 170 | AK34: =AVERAGE(D34:AI34) -> 5.862069
A35: ='Data Siswa'!A35 -> 34 | B35: ='Data Siswa'!B35 -> ZAHROTUL AWWALIYAH | C35: ='Data Siswa'!C35 -> 1237 | D35: 4.5 | E35: 5 | F35: 4 | G35: 4.5 | H35: 4.5 | I35: 6.5 | J35: 4 | K35: 6 | M35: 5 | N35: 7.5 | O35: 4 | P35: 4.5 | Q35: 5 | R35: 5 | S35: 4 | T35: 7 | U35: 6 | W35: 8 | X35: 7 | Y35: 7.5 | Z35: 7.5 | AE35: 8.5 | AF35: 8.5 | AG35: 7 | AH35: 8 | AI35: 5.5 | AJ35: =SUM(D35:AI35) -> 154.5 | AK35: =AVERAGE(D35:AI35) -> 5.9423077
A36: ='Data Siswa'!A36 -> 35 | B36: ='Data Siswa'!B36 -> 0 | C36: ='Data Siswa'!C36 -> 0 | AJ36: =SUM(D36:AI36) -> 0 | AK36: =AVERAGE(D36:AI36) -> #DIV/0!
A37: ='Data Siswa'!A37 -> 36 | B37: ='Data Siswa'!B37 -> 0 | C37: ='Data Siswa'!C37 -> 0 | AJ37: =SUM(D37:AI37) -> 0 | AK37: =AVERAGE(D37:AI37) -> #DIV/0!
A38: ='Data Siswa'!A38 -> 37 | B38: ='Data Siswa'!B38 -> 0 | C38: ='Data Siswa'!C38 -> 0 | AJ38: =SUM(D38:AI38) -> 0 | AK38: =AVERAGE(D38:AI38) -> #DIV/0!
A39: ='Data Siswa'!A39 -> 38 | B39: ='Data Siswa'!B39 -> 0 | C39: ='Data Siswa'!C39 -> 0 | AJ39: =SUM(D39:AI39) -> 0 | AK39: =AVERAGE(D39:AI39) -> #DIV/0!
A40: ='Data Siswa'!A40 -> 39 | B40: ='Data Siswa'!B40 -> 0 | C40: ='Data Siswa'!C40 -> 0 | AJ40: =SUM(D40:AI40) -> 0 | AK40: =AVERAGE(D40:AI40) -> #DIV/0!
A41: ='Data Siswa'!A41 -> 40 | B41: ='Data Siswa'!B41 -> 0 | C41: ='Data Siswa'!C41 -> 0 | AJ41: =SUM(D41:AI41) -> 0 | AK41: =AVERAGE(D41:AI41) -> #DIV/0!

Sheet Lembar1

Sheet Nilai Syafahi
A1: Biodata | D1: Nilai Ujian Syafahi | W1: Nilai Keseluruhan | Z1: Keterangan
A2: No | B2: Nama Lengkap | C2: No Ujian | D2: اللغة العربية | J2: اللغة الانجليزية | O2: المواد الفقهية | T2: الجملة | U2: Rata-Rata | W2: التقدير العام | X2: Rata-Rata | Y2: مستوي التفوق | Z2: الملاحظة
D3: الانشاء | E3: النحو | F3: الصرف | G3: المطالعة | H3: النصوص الأدبية | I3: المحادثة العربية | J3: Conversation | K3: Grammar | L3: Structure | M3: Reading | N3: Vocabularies | O3: قراءة القرآن | P3: التجويد | Q3: حفظ القرآن | R3: الفقه | S3: الأدعيه اليومية
A4: ='Data Siswa'!A2 -> 1 | B4: ='Data Siswa'!B2 -> AISYAH DZAKIYYAH | C4: ='Data Siswa'!C2 -> 1204 | D4: 5 | E4: 5 | F4: 5 | G4: 6 | H4: 5 | I4: 5.5 | J4: 6 | K4: 6 | L4: 5 | M4: 6 | N4: 6 | O4: 6 | P4: 5 | Q4: 6 | R4: 5.5 | S4: 7 | T4: =SUM(D4:S4) -> 90 | U4: =AVERAGE(D4:S4) -> 5.625 | W4: =SUM('Nilai Tahriri'!AJ2,'Nilai Syafahi'!T4) -> 241.5 | X4: =AVERAGE(D4:S4,'Nilai Tahriri'!D2:AI2) -> 5.8902439 | Y4: {=SUM(IF(W4<OFFSET($W$4,0,0,COUNT(W:W),1),1/COUNTIF(OFFSET($W$4,0,0,COUNT(W:W),1),OFFSET($W$4,0,0,COUNT(W:W),1))))+1} -> 28 | Z4: -
A5: ='Data Siswa'!A3 -> 2 | B5: ='Data Siswa'!B3 -> ALINTRI SIFFA MULYANA | C5: ='Data Siswa'!C3 -> 1205 | D5: 5 | E5: 5 | F5: 5.5 | G5: 6 | H5: 5 | I5: 6 | J5: 7 | K5: 6 | L5: 6.5 | M5: 7 | N5: 6 | O5: 6 | P5: 5 | Q5: 6 | R5: 6 | S5: 7.5 | T5: =SUM(D5:S5) -> 95.5 | U5: =AVERAGE(D5:S5) -> 5.96875 | W5: =SUM('Nilai Tahriri'!AJ3,'Nilai Syafahi'!T5) -> 286.5 | X5: =AVERAGE(D5:S5,'Nilai Tahriri'!D3:AI3) -> 6.3666667 | Y5: {=SUM(IF(W5<OFFSET($W$4,0,0,COUNT(W:W),1),1/COUNTIF(OFFSET($W$4,0,0,COUNT(W:W),1),OFFSET($W$4,0,0,COUNT(W:W),1))))+1} -> 5 | Z5: -
A6: ='Data Siswa'!A4 -> 3 | B6: ='Data Siswa'!B4 -> ANDINI DAHLIANI | C6: ='Data Siswa'!C4 -> 1206 | D6: 4 | E6: 4.5 | F6: 4.5 | G6: 4 | H6: 4 | I6: 4.5 | J6: 5 | K6: 4.5 | L6: 4.5 | M6: 4.5 | N6: 5 | O6: 5 | P6: 5 | Q6: 5 | R6: 4.5 | S6: 6.5 | T6: =SUM(D6:S6) -> 75 | U6: =AVERAGE(D6:S6) -> 4.6875 | W6: =SUM('Nilai Tahriri'!AJ4,'Nilai Syafahi'!T6) -> 231.5 | X6: =AVERAGE(D6:S6,'Nilai Tahriri'!D4:AI4) -> 5.1444444 | Y6: {=SUM(IF(W6<OFFSET($W$4,0,0,COUNT(W:W),1),1/COUNTIF(OFFSET($W$4,0,0,COUNT(W:W),1),OFFSET($W$4,0,0,COUNT(W:W),1))))+1} -> 29 | Z6: -
A7: ='Data Siswa'!A5 -> 4 | B7: ='Data Siswa'!B5 -> ANGGITA RAMALIA | C7: ='Data Siswa'!C5 -> 1207 | D7: 5 | E7: 6 | F7: 5 | G7: 6 | H7: 5 | I7: 6 | J7: 6.5 | K7: 7 | L7: 7 | M7: 6 | N7: 6.5 | O7: 6 | P7: 6 | Q7: 6.5 | R7: 6 | S7: 7.5 | T7: =SUM(D7:S7) -> 98 | U7: =AVERAGE(D7:S7) -> 6.125 | W7: =SUM('Nilai Tahriri'!AJ5,'Nilai Syafahi'!T7) -> 278.5 | X7: =AVERAGE(D7:S7,'Nilai Tahriri'!D5:AI5) -> 6.1888889 | Y7: {=SUM(IF(W7<OFFSET($W$4,0,0,COUNT(W:W),1),1/COUNTIF(OFFSET($W$4,0,0,COUNT(W:W),1),OFFSET($W$4,0,0,COUNT(W:W),1))))+1} -> 8 | Z7: -
A8: ='Data Siswa'!A6 -> 5 | B8: ='Data Siswa'!B6 -> AYUDYA LESTARI | C8: ='Data Siswa'!C6 -> 1208 | D8: 4 | E8: 4.5 | F8: 4 | G8: 4 | H8: 4 | I8: 4 | J8: 5 | K8: 4.5 | L8: 4.5 | M8: 4.5 | N8: 5.5 | O8: 5 | P8: 5 | Q8: 5 | R8: 4.5 | S8: 4.5 | T8: =SUM(D8:S8) -> 72.5 | U8: =AVERAGE(D8:S8) -> 4.53125 | W8: =SUM('Nilai Tahriri'!AJ6,'Nilai Syafahi'!T8) -> 229 | X8: =AVERAGE(D8:S8,'Nilai Tahriri'!D6:AI6) -> 5.0888889 | Y8: {=SUM(IF(W8<OFFSET($W$4,0,0,COUNT(W:W),1),1/COUNTIF(OFFSET($W$4,0,0,COUNT(W:W),1),OFFSET($W$4,0,0,COUNT(W:W),1))))+1} -> 31 | Z8: -
A9: ='Data Siswa'!A7 -> 6 | B9: ='Data Siswa'!B7 -> CAHYANI WULANDARI | C9: ='Data Siswa'!C7 -> 1209 | D9: 5 | E9: 5.5 | F9: 5.5 | G9: 5.5 | H9: 5 | I9: 6.5 | J9: 6 | K9: 5.5 | L9: 6.5 | M9: 6 | N9: 6.5 | O9: 6 | P9: 5.5 | Q9: 5 | R9: 4.5 | S9: 6 | T9: =SUM(D9:S9) -> 90.5 | U9: =AVERAGE(D9:S9) -> 5.65625 | W9: =SUM('Nilai Tahriri'!AJ7,'Nilai Syafahi'!T9) -> 264.5 | X9: =AVERAGE(D9:S9,'Nilai Tahriri'!D7:AI7) -> 5.8777778 | Y9: {=SUM(IF(W9<OFFSET($W$4,0,0,COUNT(W:W),1),1/COUNTIF(OFFSET($W$4,0,0,COUNT(W:W),1),OFFSET($W$4,0,0,COUNT(W:W),1))))+1} -> 18 | Z9: -
A10: ='Data Siswa'!A8 -> 7 | B10: ='Data Siswa'!B8 -> CINDY RAHMANATI | C10: ='Data Siswa'!C8 -> 1210 | D10: 5 | E10: 5 | F10: 5 | G10: 4.5 | H10: 5 | I10: 5.5 | J10: 6 | K10: 7 | L10: 5.5 | M10: 6 | N10: 6 | O10: 5.5 | P10: 5.5 | Q10: 6 | R10: 5.5 | S10: 6 | T10: =SUM(D10:S10) -> 89 | U10: =AVERAGE(D10:S10) -> 5.5625 | W10: =SUM('Nilai Tahriri'!AJ8,'Nilai Syafahi'!T10) -> 269 | X10: =AVERAGE(D10:S10,'Nilai Tahriri'!D8:AI8) -> 5.9777778 | Y10: {=SUM(IF(W10<OFFSET($W$4,0,0,COUNT(W:W),1),1/COUNTIF(OFFSET($W$4,0,0,COUNT(W:W),1),OFFSET($W$4,0,0,COUNT(W:W),1))))+1} -> 15 | Z10: -
A11: ='Data Siswa'!A9 -> 8 | B11: ='Data Siswa'!B9 -> DEWI AMELLIA | C11: ='Data Siswa'!C9 -> 1211 | D11: 5 | E11: 5.5 | F11: 5.5 | G11: 6 | H11: 5.5 | I11: 6 | J11: 7 | K11: 7 | L11: 7 | M11: 7 | N11: 6.5 | O11: 6.5 | P11: 5.5 | Q11: 6 | R11: 5.5 | S11: 6.5 | T11: =SUM(D11:S11) -> 98 | U11: =AVERAGE(D11:S11) -> 6.125 | W11: =SUM('Nilai Tahriri'!AJ9,'Nilai Syafahi'!T11) -> 297 | X11: =AVERAGE(D11:S11,'Nilai Tahriri'!D9:AI9) -> 6.6 | Y11: {=SUM(IF(W11<OFFSET($W$4,0,0,COUNT(W:W),1),1/COUNTIF(OFFSET($W$4,0,0,COUNT(W:W),1),OFFSET($W$4,0,0,COUNT(W:W),1))))+1} -> 1 | Z11: -
A12: ='Data Siswa'!A10 -> 9 | B12: ='Data Siswa'!B10 -> EGIDIA AGISTA NOVELIN | C12: ='Data Siswa'!C10 -> 1212 | D12: 5 | E12: 5.5 | F12: 5 | G12: 4.5 | H12: 5 | I12: 6 | J12: 7 | K12: 6 | L12: 6.5 | M12: 7 | N12: 6 | O12: 6 | P12: 5.5 | Q12: 6 | R12: 5.5 | S12: 6.5 | T12: =SUM(D12:S12) -> 93 | U12: =AVERAGE(D12:S12) -> 5.8125 | W12: =SUM('Nilai Tahriri'!AJ10,'Nilai Syafahi'!T12) -> 282.5 | X12: =AVERAGE(D12:S12,'Nilai Tahriri'!D10:AI10) -> 6.2777778 | Y12: {=SUM(IF(W12<OFFSET($W$4,0,0,COUNT(W:W),1),1/COUNTIF(OFFSET($W$4,0,0,COUNT(W:W),1),OFFSET($W$4,0,0,COUNT(W:W),1))))+1} -> 7 | Z12: -
A13: ='Data Siswa'!A11 -> 10 | B13: ='Data Siswa'!B11 -> ELSA MARDIANA | C13: ='Data Siswa'!C11 -> 1213 | D13: 5 | E13: 6 | F13: 6 | G13: 5.5 | H13: 5.5 | I13: 6 | J13: 6 | K13: 6 | L13: 5.5 | M13: 6.5 | N13: 6.5 | O13: 6 | P13: 5.5 | Q13: 6 | R13: 5.5 | S13: 5.5 | T13: =SUM(D13:S13) -> 93 | U13: =AVERAGE(D13:S13) -> 5.8125 | W13: =SUM('Nilai Tahriri'!AJ11,'Nilai Syafahi'!T13) -> 272 | X13: =AVERAGE(D13:S13,'Nilai Tahriri'!D11:AI11) -> 6.0444444 | Y13: {=SUM(IF(W13<OFFSET($W$4,0,0,COUNT(W:W),1),1/COUNTIF(OFFSET($W$4,0,0,COUNT(W:W),1),OFFSET($W$4,0,0,COUNT(W:W),1))))+1} -> 12 | Z13: -
A14: ='Data Siswa'!A12 -> 11 | B14: ='Data Siswa'!B12 -> ERINA ANGGRAENI | C14: ='Data Siswa'!C12 -> 1214 | D14: 5 | E14: 6.5 | F14: 6 | G14: 6 | H14: 6 | I14: 6.5 | J14: 6 | K14: 6 | L14: 6 | M14: 6.5 | N14: 6.5 | O14: 6 | P14: 5.5 | Q14: 6 | R14: 5.5 | S14: 6 | T14: =SUM(D14:S14) -> 96 | U14: =AVERAGE(D14:S14) -> 6 | W14: =SUM('Nilai Tahriri'!AJ12,'Nilai Syafahi'!T14) -> 273 | X14: =AVERAGE(D14:S14,'Nilai Tahriri'!D12:AI12) -> 6.0666667 | Y14: {=SUM(IF(W14<OFFSET($W$4,0,0,COUNT(W:W),1),1/COUNTIF(OFFSET($W$4,0,0,COUNT(W:W),1),OFFSET($W$4,0,0,COUNT(W:W),1))))+1} -> 10 | Z14: -
A15: ='Data Siswa'!A13 -> 12 | B15: ='Data Siswa'!B13 -> FAHIRA IKMALIA HADI | C15: ='Data Siswa'!C13 -> 1215 | D15: 5 | E15: 4.5 | F15: 6 | G15: 6 | H15: 5.5 | I15: 6 | J15: 6 | K15: 5.5 | L15: 6 | M15: 6.5 | N15: 6 | O15: 6 | P15: 5 | Q15: 6 | R15: 5.5 | S15: 6.5 | T15: =SUM(D15:S15) -> 92 | U15: =AVERAGE(D15:S15) -> 5.75 | W15: =SUM('Nilai Tahriri'!AJ13,'Nilai Syafahi'!T15) -> 262.5 | X15: =AVERAGE(D15:S15,'Nilai Tahriri'!D13:AI13) -> 5.8333333 | Y15: {=SUM(IF(W15<OFFSET($W$4,0,0,COUNT(W:W),1),1/COUNTIF(OFFSET($W$4,0,0,COUNT(W:W),1),OFFSET($W$4,0,0,COUNT(W:W),1))))+1} -> 19 | Z15: -
... A37: ='Data Siswa'!A35 -> 34 | B37: ='Data Siswa'!B35 -> ZAHROTUL AWWALIYAH | C37: ='Data Siswa'!C35 -> 1237 | D37: 5.5 | E37: 5.5 | F37: 5.5 | G37: 5.5 | H37: 5.5 | I37: 6 | J37: 5.5 | K37: 6 | L37: 6 | M37: 5.5 | N37: 5.5 | O37: 6 | P37: 6 | Q37: 6 | R37: 5.5 | S37: 5.5 | T37: =SUM(D37:S37) -> 91 | U37: =AVERAGE(D37:S37) -> 5.6875 | W37: =SUM('Nilai Tahriri'!AJ35,'Nilai Syafahi'!T37) -> 245.5 | X37: =AVERAGE(D37:S37,'Nilai Tahriri'!D35:AI35) -> 5.8452381 | Y37: {=SUM(IF(W37<OFFSET($W$4,0,0,COUNT(W:W),1),1/COUNTIF(OFFSET($W$4,0,0,COUNT(W:W),1),OFFSET($W$4,0,0,COUNT(W:W),1))))+1} -> 27 | Z37: -
A38: ='Data Siswa'!A36 -> 35 | B38: ='Data Siswa'!B36 -> 0 | C38: ='Data Siswa'!C36 -> 0 | T38: =SUM(D38:S38) -> 0 | U38: =AVERAGE(D38:S38) -> #DIV/0! | W38: =SUM('Nilai Tahriri'!AJ36,'Nilai Syafahi'!T38) -> 0 | X38: =AVERAGE(D38:S38,'Nilai Tahriri'!D36:AI36) -> #DIV/0! | Y38: {=SUM(IF(W38<OFFSET($W$4,0,0,COUNT(W:W),1),1/COUNTIF(OFFSET($W$4,0,0,COUNT(W:W),1),OFFSET($W$4,0,0,COUNT(W:W),1))))+1} -> 33 | Z38: -
A39: ='Data Siswa'!A37 -> 36 | B39: ='Data Siswa'!B37 -> 0 | C39: ='Data Siswa'!C37 -> 0 | T39: =SUM(D39:S39) -> 0 | U39: =AVERAGE(D39:S39) -> #DIV/0! | W39: =SUM('Nilai Tahriri'!AJ37,'Nilai Syafahi'!T39) -> 0 | X39: =AVERAGE(D39:S39,'Nilai Tahriri'!D37:AI37) -> #DIV/0! | Y39: {=SUM(IF(W39<OFFSET($W$4,0,0,COUNT(W:W),1),1/COUNTIF(OFFSET($W$4,0,0,COUNT(W:W),1),OFFSET($W$4,0,0,COUNT(W:W),1))))+1} -> 33 | Z39: -
A40: ='Data Siswa'!A38 -> 37 | B40: ='Data Siswa'!B38 -> 0 | C40: ='Data Siswa'!C38 -> 0 | T40: =SUM(D40:S40) -> 0 | U40: =AVERAGE(D40:S40) -> #DIV/0! | W40: =SUM('Nilai Tahriri'!AJ38,'Nilai Syafahi'!T40) -> 0 | X40: =AVERAGE(D40:S40,'Nilai Tahriri'!D38:AI38) -> #DIV/0! | Y40: {=SUM(IF(W40<OFFSET($W$4,0,0,COUNT(W:W),1),1/COUNTIF(OFFSET($W$4,0,0,COUNT(W:W),1),OFFSET($W$4,0,0,COUNT(W:W),1))))+1} -> 33 | Z40: -
A41: ='Data Siswa'!A39 -> 38 | B41: ='Data Siswa'!B39 -> 0 | C41: ='Data Siswa'!C39 -> 0 | T41: =SUM(D41:S41) -> 0 | U41: =AVERAGE(D41:S41) -> #DIV/0! | W41: =SUM('Nilai Tahriri'!AJ39,'Nilai Syafahi'!T41) -> 0 | X41: =AVERAGE(D41:S41,'Nilai Tahriri'!D39:AI39) -> #DIV/0! | Y41: {=SUM(IF(W41<OFFSET($W$4,0,0,COUNT(W:W),1),1/COUNTIF(OFFSET($W$4,0,0,COUNT(W:W),1),OFFSET($W$4,0,0,COUNT(W:W),1))))+1} -> 33 | Z41: -
A42: ='Data Siswa'!A40 -> 39 | B42: ='Data Siswa'!B40 -> 0 | C42: ='Data Siswa'!C40 -> 0 | T42: =SUM(D42:S42) -> 0 | U42: =AVERAGE(D42:S42) -> #DIV/0! | W42: =SUM('Nilai Tahriri'!AJ40,'Nilai Syafahi'!T42) -> 0 | X42: =AVERAGE(D42:S42,'Nilai Tahriri'!D40:AI40) -> #DIV/0! | Y42: {=SUM(IF(W42<OFFSET($W$4,0,0,COUNT(W:W),1),1/COUNTIF(OFFSET($W$4,0,0,COUNT(W:W),1),OFFSET($W$4,0,0,COUNT(W:W),1))))+1} -> 33 | Z42: -
A43: ='Data Siswa'!A41 -> 40 | B43: ='Data Siswa'!B41 -> 0 | C43: ='Data Siswa'!C41 -> 0 | T43: =SUM(D43:S43) -> 0 | U43: =AVERAGE(D43:S43) -> #DIV/0! | W43: =SUM('Nilai Tahriri'!AJ41,'Nilai Syafahi'!T43) -> 0 | X43: =AVERAGE(D43:S43,'Nilai Tahriri'!D41:AI41) -> #DIV/0! | Y43: {=SUM(IF(W43<OFFSET($W$4,0,0,COUNT(W:W),1),1/COUNTIF(OFFSET($W$4,0,0,COUNT(W:W),1),OFFSET($W$4,0,0,COUNT(W:W),1))))+1} -> 33 | Z43: -

Sheet Akhlak
A1: Biodata | D1: Akhlak
A2: No | B2: Nama Lengkap | C2: No Ujian | D2: البيان | G2: ايام الغيابة | J2: Catatan Wali Kelas Untuk Siswa
D3: النظافة | E3: السلك | F3: المواظبة | G3: لمرض | H3: لاستذان | I3: لآخر | J3: النقد
A4: ='Data Siswa'!A2 -> 1 | B4: ='Data Siswa'!B2 -> AISYAH DZAKIYYAH | C4: ='Data Siswa'!C2 -> 1204 | D4: 8 | E4: 8 | F4: 8 | G4: - | H4: 2 | I4: -
A5: ='Data Siswa'!A3 -> 2 | B5: ='Data Siswa'!B3 -> ALINTRI SIFFA MULYANA | C5: ='Data Siswa'!C3 -> 1205 | D5: 8 | E5: 8 | F5: 8 | G5: 1 | H5: 1 | I5: -
A6: ='Data Siswa'!A4 -> 3 | B6: ='Data Siswa'!B4 -> ANDINI DAHLIANI | C6: ='Data Siswa'!C4 -> 1206 | D6: 8 | E6: 8 | F6: 8 | G6: - | H6: 1 | I6: -
A7: ='Data Siswa'!A5 -> 4 | B7: ='Data Siswa'!B5 -> ANGGITA RAMALIA | C7: ='Data Siswa'!C5 -> 1207 | D7: 8 | E7: 8 | F7: 8 | G7: 2 | H7: 2 | I7: -
A8: ='Data Siswa'!A6 -> 5 | B8: ='Data Siswa'!B6 -> AYUDYA LESTARI | C8: ='Data Siswa'!C6 -> 1208 | D8: 8 | E8: 8 | F8: 8 | G8: - | H8: 1 | I8: -
A9: ='Data Siswa'!A7 -> 6 | B9: ='Data Siswa'!B7 -> CAHYANI WULANDARI | C9: ='Data Siswa'!C7 -> 1209 | D9: 8 | E9: 8 | F9: 8 | G9: - | H9: 2 | I9: -
A10: ='Data Siswa'!A8 -> 7 | B10: ='Data Siswa'!B8 -> CINDY RAHMANATI | C10: ='Data Siswa'!C8 -> 1210 | D10: 8 | E10: 8 | F10: 8 | G10: - | H10: 2 | I10: -
A11: ='Data Siswa'!A9 -> 8 | B11: ='Data Siswa'!B9 -> DEWI AMELLIA | C11: ='Data Siswa'!C9 -> 1211 | D11: 8 | E11: 8 | F11: 8 | G11: 1 | H11: 1 | I11: -
A12: ='Data Siswa'!A10 -> 9 | B12: ='Data Siswa'!B10 -> EGIDIA AGISTA NOVELIN | C12: ='Data Siswa'!C10 -> 1212 | D12: 8 | E12: 8 | F12: 8 | G12: - | H12: 3 | I12: -
A13: ='Data Siswa'!A11 -> 10 | B13: ='Data Siswa'!B11 -> ELSA MARDIANA | C13: ='Data Siswa'!C11 -> 1213 | D13: 8 | E13: 8 | F13: 8 | G13: 1 | H13: 2 | I13: -
A14: ='Data Siswa'!A12 -> 11 | B14: ='Data Siswa'!B12 -> ERINA ANGGRAENI | C14: ='Data Siswa'!C12 -> 1214 | D14: 8 | E14: 8 | F14: 8 | G14: - | H14: 2 | I14: -
A15: ='Data Siswa'!A13 -> 12 | B15: ='Data Siswa'!B13 -> FAHIRA IKMALIA HADI | C15: ='Data Siswa'!C13 -> 1215 | D15: 8 | E15: 8 | F15: 8 | G15: - | H15: 2 | I15: -
A16: ='Data Siswa'!A14 -> 13 | B16: ='Data Siswa'!B14 -> FANI RISKA VIANA | C16: ='Data Siswa'!C14 -> 1216 | D16: 8 | E16: 8 | F16: 8 | G16: 2 | H16: 2 | I16: -
A17: ='Data Siswa'!A15 -> 14 | B17: ='Data Siswa'!B15 -> FIKA NUR AMELIA | C17: ='Data Siswa'!C15 -> 1217 | D17: 8 | E17: 8 | F17: 8 | G17: - | H17: 3 | I17: -
A18: ='Data Siswa'!A16 -> 15 | B18: ='Data Siswa'!B16 -> INDAH MAWADDAH | C18: ='Data Siswa'!C16 -> 1218 | D18: 8 | E18: 8 | F18: 8 | G18: 1 | H18: 2 | I18: -
A19: ='Data Siswa'!A17 -> 16 | B19: ='Data Siswa'!B17 -> INTAN NURRIZKA | C19: ='Data Siswa'!C17 -> 1219 | D19: 8 | E19: 8 | F19: 8 | G19: - | H19: 3 | I19: -
A20: ='Data Siswa'!A18 -> 17 | B20: ='Data Siswa'!B18 -> KEISYA AURA RUSDIANSYAH | C20: ='Data Siswa'!C18 -> 1220 | D20: 8 | E20: 8 | F20: 8 | G20: - | H20: 3 | I20: -
A21: ='Data Siswa'!A19 -> 18 | B21: ='Data Siswa'!B19 -> LESTIANA LUXMY MADINA NUSA | C21: ='Data Siswa'!C19 -> 1221 | D21: 8 | E21: 8 | F21: 8 | G21: - | H21: 3 | I21: -
A22: ='Data Siswa'!A20 -> 19 | B22: ='Data Siswa'!B20 -> MEIRIN NUR SANDRILA | C22: ='Data Siswa'!C20 -> 1222 | D22: 8 | E22: 8 | F22: 8 | G22: - | H22: 3 | I22: -
A23: ='Data Siswa'!A21 -> 20 | B23: ='Data Siswa'!B21 -> NAJWA KHOERUNNISA | C23: ='Data Siswa'!C21 -> 1223 | D23: 8 | E23: 8 | F23: 8 | G23: - | H23: 3 | I23: -
A24: ='Data Siswa'!A22 -> 21 | B24: ='Data Siswa'!B22 -> NAJWA ZAHROTUNNISA | C24: ='Data Siswa'!C22 -> 1224 | D24: 8 | E24: 8 | F24: 8 | G24: - | H24: 3 | I24: -
A25: ='Data Siswa'!A23 -> 22 | B25: ='Data Siswa'!B23 -> NANDA HAMIDAH | C25: ='Data Siswa'!C23 -> 1225 | D25: 8 | E25: 8 | F25: 8 | G25: - | H25: 2 | I25: -
A26: ='Data Siswa'!A24 -> 23 | B26: ='Data Siswa'!B24 -> NOVA AULIA RITONGA | C26: ='Data Siswa'!C24 -> 1226 | D26: 8 | E26: 8 | F26: 8 | G26: 1 | H26: 1 | I26: -
A27: ='Data Siswa'!A25 -> 24 | B27: ='Data Siswa'!B25 -> NUR AFNI OKTAFIYANTI | C27: ='Data Siswa'!C25 -> 1227 | D27: 8 | E27: 8 | F27: 8 | G27: - | H27: 1 | I27: -
A28: ='Data Siswa'!A26 -> 25 | B28: ='Data Siswa'!B26 -> NURIYANTI | C28: ='Data Siswa'!C26 -> 1228 | D28: 8 | E28: 8 | F28: 8 | G28: 1 | H28: 1 | I28: -
A29: ='Data Siswa'!A27 -> 26 | B29: ='Data Siswa'!B27 -> RAMINAH | C29: ='Data Siswa'!C27 -> 1229 | D29: 8 | E29: 8 | F29: 8 | G29: 1 | H29: 2 | I29: -
A30: ='Data Siswa'!A28 -> 27 | B30: ='Data Siswa'!B28 -> RAYNA NURUL AUDINA | C30: ='Data Siswa'!C28 -> 1230 | D30: 8 | E30: 8 | F30: 8 | G30: 1 | H30: 1 | I30: -
A31: ='Data Siswa'!A29 -> 28 | B31: ='Data Siswa'!B29 -> REIFA AULIA NURFAUZA | C31: ='Data Siswa'!C29 -> 1231 | D31: 8 | E31: 8 | F31: 8 | G31: 1 | H31: 1 | I31: -
A32: ='Data Siswa'!A30 -> 29 | B32: ='Data Siswa'!B30 -> SALIS FIJRIYANI | C32: ='Data Siswa'!C30 -> 1232 | D32: 8 | E32: 8 | F32: 8 | G32: 1 | H32: 1 | I32: -
A33: ='Data Siswa'!A31 -> 30 | B33: ='Data Siswa'!B31 -> SITI ADLAH | C33: ='Data Siswa'!C31 -> 1233 | D33: 8 | E33: 8 | F33: 8 | G33: 1 | H33: 3 | I33: -
A34: ='Data Siswa'!A32 -> 31 | B34: ='Data Siswa'!B32 -> SITI NURHALISAH | C34: ='Data Siswa'!C32 -> 1234 | D34: 8 | E34: 8 | F34: 8 | G34: - | H34: 3 | I34: - | J34: -
A35: ='Data Siswa'!A33 -> 32 | B35: ='Data Siswa'!B33 -> TIA FATHATUL MUTHOHAROH | C35: ='Data Siswa'!C33 -> 1235 | D35: 8 | E35: 8 | F35: 8 | G35: - | H35: 3 | I35: - | J35: -
A36: ='Data Siswa'!A34 -> 33 | B36: ='Data Siswa'!B34 -> VHISCA FAMELA ERICA | C36: ='Data Siswa'!C34 -> 1236 | D36: 8 | E36: 8 | F36: 8 | G36: - | H36: 3 | I36: - | J36: -
A37: ='Data Siswa'!A35 -> 34 | B37: ='Data Siswa'!B35 -> ZAHROTUL AWWALIYAH | C37: ='Data Siswa'!C35 -> 1237 | D37: 8 | E37: 8 | F37: 8 | G37: - | H37: 3 | I37: - | J37: -
A38: ='Data Siswa'!A36 -> 35 | B38: ='Data Siswa'!B36 -> 0 | C38: ='Data Siswa'!C36 -> 0 | J38: -
A39: ='Data Siswa'!A37 -> 36 | B39: ='Data Siswa'!B37 -> 0 | C39: ='Data Siswa'!C37 -> 0 | J39: -
A40: ='Data Siswa'!A38 -> 37 | B40: ='Data Siswa'!B38 -> 0 | C40: ='Data Siswa'!C38 -> 0 | J40: -
...

Sheet Rapot
B2: =VLOOKUP($U$7,'Nilai Tahriri'!$A$2:$AJ$41,2,FALSE) -> ZAHROTUL AWWALIYAH
B3: =Biodata!$B$10 -> العام الدراسي : ١٤٤٤ - ١٤٤٥ ه \ ٢٠٢٣ - ٢٠٢٤ م | M3: =Biodata!$B$7 -> الفصل الدراسي : الأول | P3: =Biodata!$B$4 -> الصف : الخامس د للبنات
B5: الدرجة الكبرى ٨, الدرجة الصغرى ٤ | L5: مسـلسـل | M5: الدرجة الكبرى ٨, الدرجة الصغرى ٤ | R5: مسـلسـل
B6: الدرجة المكتسبة | G6: المواد الشفهية | M6: الدرجة المكتسبة | O6: المواد التحريرية | U6: HALAMAN
B7: كتابة | C7: رقم | M7: كتابة | N7: رقم | U7: 34
B8: اللغة العربية | M8: =VLOOKUP(N8,Sheet1!$A$1:$B$93,2) | P8: علم التجويد | R8: 1
B9: =VLOOKUP(C9,Sheet1!$A$1:$B$93,2) -> خمس و نصف | C9: =VLOOKUP($U$7,'Nilai Syafahi'!$A$4:$Z$43,4,FALSE) -> 5.5 | G9: الإنشاء \ التعبير الشفهي | L9: 40 | M9: =VLOOKUP(N9,Sheet1!$A$1:$B$93,2) -> اربع و نصف | N9: =VLOOKUP($U$7,'Nilai Tahriri'!$A$2:$AJ$41,4,FALSE) -> 4.5 | P9: التفسير | R9: 2 | U9: Awal | V9: 1
B10: =VLOOKUP(C10,Sheet1!$A$1:$B$93,2) -> خمس و نصف | C10: =VLOOKUP($U$7,'Nilai Syafahi'!$A$4:$Z$43,5,FALSE) -> 5.5 | K10: النحو | L10: 41 | M10: =VLOOKUP(N10,Sheet1!$A$1:$B$93,2) -> خمس | N10: =VLOOKUP($U$7,'Nilai Tahriri'!$A$2:$AJ$41,5,FALSE) -> 5 | P10: الحديث | R10: 3
B11: =VLOOKUP(C11,Sheet1!$A$1:$B$93,2) -> خمس و نصف | C11: =VLOOKUP($U$7,'Nilai Syafahi'!$A$4:$Z$43,6,FALSE) -> 5.5 | K11: الصرف | L11: 42 | M11: =VLOOKUP(N11,Sheet1!$A$1:$B$93,2) -> اربع | N11: =VLOOKUP($U$7,'Nilai Tahriri'!$A$2:$AJ$41,6,FALSE) -> 4 | P11: مصطلح الحديث | R11: 4 | U11: Akhir | V11: 34
B12: =VLOOKUP(C12,Sheet1!$A$1:$B$93,2) -> خمس و نصف | C12: =VLOOKUP($U$7,'Nilai Syafahi'!$A$4:$Z$43,7,FALSE) -> 5.5 | K12: المطالعة | L12: 43 | M12: =VLOOKUP(N12,Sheet1!$A$1:$B$93,2) -> اربع و نصف | N12: =VLOOKUP($U$7,'Nilai Tahriri'!$A$2:$AJ$41,7,FALSE) -> 4.5 | P12: الفقه | R12: 5
B13: =VLOOKUP(C13,Sheet1!$A$1:$B$93,2) -> خمس و نصف | C13: =VLOOKUP($U$7,'Nilai Syafahi'!$A$4:$Z$43,8,FALSE) -> 5.5 | K13: النصوص الأدبية | L13: 44 | M13: =VLOOKUP(N13,Sheet1!$A$1:$B$93,2) -> اربع و نصف | N13: =VLOOKUP($U$7,'Nilai Tahriri'!$A$2:$AJ$41,8,FALSE) -> 4.5 | P13: أصول الفقه | R13: 6
B14: =VLOOKUP(C14,Sheet1!$A$1:$B$93,2) -> ستّ | C14: =VLOOKUP($U$7,'Nilai Syafahi'!$A$4:$Z$43,9,FALSE) -> 6 | K14: المحادثة العربية | L14: 45 | M14: =VLOOKUP(N14,Sheet1!$A$1:$B$93,2) -> ست و نصف | N14: =VLOOKUP($U$7,'Nilai Tahriri'!$A$2:$AJ$41,9,FALSE) -> 6.5 | P14: علم الفرائض | R14: 7
B15: اللغة الإنجليزية | M15: =VLOOKUP(N15,Sheet1!$A$1:$B$93,2) | P15: أصول الدين \ التوحيد | R15: 8
B16: =VLOOKUP(C16,Sheet1!$A$1:$B$93,2) -> خمس و نصف | C16: =VLOOKUP($U$7,'Nilai Syafahi'!$A$4:$Z$43,10,FALSE) -> 5.5 | G16: Conversation | L16: 46 | M16: =VLOOKUP(N16,Sheet1!$A$1:$B$93,2) -> اربع | N16: =VLOOKUP($U$7,'Nilai Tahriri'!$A$2:$AJ$41,10,FALSE) -> 4 | P16: الديانة\الأديان | R16: 9
B17: =VLOOKUP(C17,Sheet1!$A$1:$B$93,2) -> ستّ | C17: =VLOOKUP($U$7,'Nilai Syafahi'!$A$4:$Z$43,11,FALSE) -> 6 | G17: Grammer | H17: Grammer | I17: Grammer | J17: Grammer | K17: Grammer | L17: 47 | M17: =VLOOKUP(N17,Sheet1!$A$1:$B$93,2) -> ستّ | N17: =VLOOKUP($U$7,'Nilai Tahriri'!$A$2:$AJ$41,11,FALSE) -> 6 | P17: تاريخ التشريع الإسلامي | R17: 10
B18: =VLOOKUP(C18,Sheet1!$A$1:$B$93,2) -> ستّ | C18: =VLOOKUP($U$7,'Nilai Syafahi'!$A$4:$Z$43,12,FALSE) -> 6 | G18: Structure | L18: 48 | M18: =VLOOKUP(N18,Sheet1!$A$1:$B$93,2) | N18: =VLOOKUP($U$7,'Nilai Tahriri'!$A$2:$AJ$41,12,FALSE) -> 0 | P18: تاريخ الإسلام | R18: 11
B19: =VLOOKUP(C19,Sheet1!$A$1:$B$93,2) -> خمس و نصف | C19: =VLOOKUP($U$7,'Nilai Syafahi'!$A$4:$Z$43,13,FALSE) -> 5.5 | G19: Reading | L19: 49 | M19: =VLOOKUP(N19,Sheet1!$A$1:$B$93,2) -> خمس | N19: =VLOOKUP($U$7,'Nilai Tahriri'!$A$2:$AJ$41,13,FALSE) -> 5 | P19: الإنشاء \ التعبير التحريري | R19: 12
B20: =VLOOKUP(C20,Sheet1!$A$1:$B$93,2) -> خمس و نصف | C20: =VLOOKUP($U$7,'Nilai Syafahi'!$A$4:$Z$43,14,FALSE) -> 5.5 | G20: Vocabularies | L20: 50 | M20: =VLOOKUP(N20,Sheet1!$A$1:$B$93,2) -> سبع و نصف | N20: =VLOOKUP($U$7,'Nilai Tahriri'!$A$2:$AJ$41,14,FALSE) -> 7.5 | P20: تمرين اللغة العربية | R20: 13
B21: المواد الفقهية | M21: =VLOOKUP(N21,Sheet1!$A$1:$B$93,2) -> اربع | N21: =VLOOKUP($U$7,'Nilai Tahriri'!$A$2:$AJ$41,15,FALSE) -> 4 | P21: المطالعة | R21: 14
B22: =VLOOKUP(C22,Sheet1!$A$1:$B$93,2) -> ستّ | C22: =VLOOKUP($U$7,'Nilai Syafahi'!$A$4:$Z$43,15,FALSE) -> 6 | G22: قراءة القرآن | L22: 51 | M22: =VLOOKUP(N22,Sheet1!$A$1:$B$93,2) -> اربع و نصف | N22: =VLOOKUP($U$7,'Nilai Tahriri'!$A$2:$AJ$41,16,FALSE) -> 4.5 | P22: النصوص الأدبية | Q22: 12 | R22: 15
B23: =VLOOKUP(C23,Sheet1!$A$1:$B$93,2) -> ستّ | C23: =VLOOKUP($U$7,'Nilai Syafahi'!$A$4:$Z$43,16,FALSE) -> 6 | G23: التجويد | L23: 52 | M23: =VLOOKUP(N23,Sheet1!$A$1:$B$93,2) -> خمس | N23: =VLOOKUP($U$7,'Nilai Tahriri'!$A$2:$AJ$41,17,FALSE) -> 5 | P23: النحو والتطبيق | R23: 16
B24: =VLOOKUP(C24,Sheet1!$A$1:$B$93,2) -> ستّ | C24: =VLOOKUP($U$7,'Nilai Syafahi'!$A$4:$Z$43,17,FALSE) -> 6 | G24: حفط القرآن | L24: 53 | M24: =VLOOKUP(N24,Sheet1!$A$1:$B$93,2) -> خمس | N24: =VLOOKUP($U$7,'Nilai Tahriri'!$A$2:$AJ$41,18,FALSE) -> 5 | P24: الصرف والتطبيق | R24: 17
B25: =VLOOKUP(C25,Sheet1!$A$1:$B$93,2) -> خمس و نصف | C25: =VLOOKUP($U$7,'Nilai Syafahi'!$A$4:$Z$43,18,FALSE) -> 5.5 | G25: الفقه | L25: 54 | M25: =VLOOKUP(N25,Sheet1!$A$1:$B$93,2) -> اربع | N25: =VLOOKUP($U$7,'Nilai Tahriri'!$A$2:$AJ$41,19,FALSE) -> 4 | P25: البلاغة | R25: 18
B26: =VLOOKUP(C26,Sheet1!$A$1:$B$93,2) | G26: Praktik Sholat | K26: ممارسة الصلاة | L26: 55 | M26: =VLOOKUP(N26,Sheet1!$A$1:$B$93,2) | P26: علم المنطق | R26: 19
B27: =VLOOKUP(C27,Sheet1!$A$1:$B$93,2) -> خمس و نصف | C27: =VLOOKUP($U$7,'Nilai Syafahi'!$A$4:$Z$43,19,FALSE) -> 5.5 | G27: الأدعية اليومية | L27: 56 | M27: =VLOOKUP(N27,Sheet1!$A$1:$B$93,2) | P27: تا. أدب اللغة | R27: 20
B28: كتب التراث | M28: =VLOOKUP(N28,Sheet1!$A$1:$B$93,2) -> سبع | N28: =VLOOKUP($U$7,'Nilai Tahriri'!$A$2:$AJ$41,20,FALSE) -> 7 | P28: الإملاء | R28: 21
G29: فتح القريب | L29: 57 | M29: =VLOOKUP(N29,Sheet1!$A$1:$B$93,2) -> ستّ | N29: =VLOOKUP($U$7,'Nilai Tahriri'!$A$2:$AJ$41,21,FALSE) -> 6 | P29: الخط العربي | R29: 22
B30: =VLOOKUP(C30,Sheet1!$A$1:$B$93,2) | G30: فتح المعين | L30: 58 | M30: =VLOOKUP(N30,Sheet1!$A$1:$B$93,2) | N30: =VLOOKUP($U$7,'Nilai Tahriri'!$A$2:$AJ$41,22,FALSE) -> 0 | P30: التربية والتعليم | R30: 23
B31: =VLOOKUP(C31,Sheet1!$A$1:$B$93,2) | G31: العمريطي | L31: 59 | M31: =VLOOKUP(N31,Sheet1!$A$1:$B$93,2) | P31: التربية العملية | R31: 24
B32: =VLOOKUP(C32,Sheet1!$A$1:$B$93,2) | G32: الفية ابن مالك | L32: 60 | M32: =VLOOKUP(N32,Sheet1!$A$1:$B$93,2) -> ثمان | N32: =VLOOKUP($U$7,'Nilai Tahriri'!$A$2:$AJ$41,23,FALSE) -> 8 | P32: روح المعهد | R32: 25
B33: =VLOOKUP($U$7,'Nilai Syafahi'!$A$4:$Z$43,20,FALSE) -> 91 | K33: الجملة | M33: =VLOOKUP(N33,Sheet1!$A$1:$B$93,2) -> سبع | N33: =VLOOKUP($U$7,'Nilai Tahriri'!$A$2:$AJ$41,24,FALSE) -> 7 | P33: الخطابة | R33: 26
M34: =VLOOKUP(N34,Sheet1!$A$1:$B$93,2) -> سبع و نصف | N34: =VLOOKUP($U$7,'Nilai Tahriri'!$A$2:$AJ$41,25,FALSE) -> 7.5 | O34: Bhs. Inggris | P34: الإنجليزية | R34: 27
B35: البيان | M35: =VLOOKUP(N35,Sheet1!$A$1:$B$93,2) -> سبع و نصف | N35: =VLOOKUP($U$7,'Nilai Tahriri'!$A$2:$AJ$41,26,FALSE) -> 7.5 | O35: Bhs. Indonesia | P35: الإندونيسية | R35: 28
B36: المواظبة | D36: السلوك | K36: النظافة | M36: =VLOOKUP(N36,Sheet1!$A$1:$B$93,2) | N36: =VLOOKUP($U$7,'Nilai Tahriri'!$A$2:$AJ$41,27,FALSE) -> 0 | O36: Matematika | P36: الرياضية | R36: 29
B37: =VLOOKUP($U$7,Akhlak!$A$4:$J$43,6,FALSE) -> 8 | D37: =VLOOKUP($U$7,Akhlak!$A$4:$J$43,5,FALSE) -> 8 | K37: =VLOOKUP($U$7,Akhlak!$A$4:$J$43,4,FALSE) -> 8 | M37: =VLOOKUP(N37,Sheet1!$A$1:$B$93,2) | N37: =VLOOKUP($U$7,'Nilai Tahriri'!$A$2:$AJ$41,28,FALSE) -> 0 | O37: Fisika | P37: الفيزياء | R37: 30
B38: أيام الغياب | M38: =VLOOKUP(N38,Sheet1!$A$1:$B$93,2) | N38: =VLOOKUP($U$7,'Nilai Tahriri'!$A$2:$AJ$41,29,FALSE) -> 0 | O38: Biologi | P38: البيولوجيا | R38: 31
B39: لآخر | D39: لاسـتئذان | K39: لمرض | M39: =VLOOKUP(N39,Sheet1!$A$1:$B$93,2) | N39: =VLOOKUP($U$7,'Nilai Tahriri'!$A$2:$AJ$41,30,FALSE) -> 0 | O39: Kimia | P39: الكيمياء | R39: 32
B40: =VLOOKUP($U$7,Akhlak!$A$4:$J$43,9,FALSE) -> - | D40: =VLOOKUP($U$7,Akhlak!$A$4:$J$43,8,FALSE) -> 3 | K40: =VLOOKUP($U$7,Akhlak!$A$4:$J$43,7,FALSE) -> - | M40: =VLOOKUP(N40,Sheet1!$A$1:$B$93,2) | O40: Geografi | P40: الجغرافيا | R40: 33
B41: مستوى التفوق | D41: التقدير العام | M41: =VLOOKUP(N41,Sheet1!$A$1:$B$93,2) | O41: Sosiologi | P41: سوسيولوجيا | R41: 34
B42: =VLOOKUP($U$7,'Nilai Syafahi'!$A$4:$Z$43,25,FALSE) -> 27 | D42: =VLOOKUP($U$7,'Nilai Syafahi'!$A$4:$Z$43,24,FALSE) -> 5.8452381 | K42: =VLOOKUP($U$7,'Nilai Syafahi'!$A$4:$Z$43,23,FALSE) -> 245.5 | M42: =VLOOKUP(N42,Sheet1!$A$1:$B$93,2) | O42: Ekonomi | P42: الإقتصادية | R42: 35
...

Sheet Rekap Nilai
A1: REKAP NILAI UJIAN
A3: =Biodata!C4 -> الخامس د للبنات
A5: No | B5: Nama | C5: No Ujian | D5: Jumlah Nilai | E5: Nilai Rata-Rata | F5: Peringkat | G5: Keterangan
A6: 1 | B6: ='Data Siswa'!B9 -> DEWI AMELLIA | C6: ='Data Siswa'!C9 -> 1211 | D6: ='Nilai Syafahi'!W11 -> 297 | E6: ='Nilai Syafahi'!X11 -> 6.6 | F6: ='Nilai Syafahi'!Y11 -> 1 | G6: ='Nilai Syafahi'!Z11 -> -
A7: 2 | B7: ='Data Siswa'!B20 -> MEIRIN NUR SANDRILA | C7: ='Data Siswa'!C20 -> 1222 | D7: ='Nilai Syafahi'!W22 -> 296.5 | E7: ='Nilai Syafahi'!X22 -> 6.5888889 | F7: ='Nilai Syafahi'!Y22 -> 2 | G7: ='Nilai Syafahi'!Z22 -> -
A8: 3 | B8: ='Data Siswa'!B33 -> TIA FATHATUL MUTHOHAROH | C8: ='Data Siswa'!C33 -> 1235 | D8: ='Nilai Syafahi'!W35 -> 295 | E8: ='Nilai Syafahi'!X35 -> 6.5555556 | F8: ='Nilai Syafahi'!Y35 -> 3 | G8: ='Nilai Syafahi'!Z35 -> -
A9: 4 | B9: ='Data Siswa'!B30 -> SALIS FIJRIYANI | C9: ='Data Siswa'!C30 -> 1232 | D9: ='Nilai Syafahi'!W32 -> 294 | E9: ='Nilai Syafahi'!X32 -> 6.5333333 | F9: ='Nilai Syafahi'!Y32 -> 4 | G9: ='Nilai Syafahi'!Z32 -> -
A10: 5 | B10: ='Data Siswa'!B3 -> ALINTRI SIFFA MULYANA | C10: ='Data Siswa'!C3 -> 1205 | D10: ='Nilai Syafahi'!W5 -> 286.5 | E10: ='Nilai Syafahi'!X5 -> 6.3666667 | F10: ='Nilai Syafahi'!Y5 -> 5 | G10: ='Nilai Syafahi'!Z5 -> -
A11: 6 | B11: ='Data Siswa'!B31 -> SITI ADLAH | C11: ='Data Siswa'!C31 -> 1233 | D11: ='Nilai Syafahi'!W33 -> 285.5 | E11: ='Nilai Syafahi'!X33 -> 6.3444444 | F11: ='Nilai Syafahi'!Y33 -> 6 | G11: ='Nilai Syafahi'!Z33 -> -
A12: 7 | B12: ='Data Siswa'!B10 -> EGIDIA AGISTA NOVELIN | C12: ='Data Siswa'!C10 -> 1212 | D12: ='Nilai Syafahi'!W12 -> 282.5 | E12: ='Nilai Syafahi'!X12 -> 6.2777778 | F12: ='Nilai Syafahi'!Y12 -> 7 | G12: ='Nilai Syafahi'!Z12 -> -
A13: 8 | B13: ='Data Siswa'!B5 -> ANGGITA RAMALIA | C13: ='Data Siswa'!C5 -> 1207 | D13: ='Nilai Syafahi'!W7 -> 278.5 | E13: ='Nilai Syafahi'!X7 -> 6.1888889 | F13: ='Nilai Syafahi'!Y7 -> 8 | G13: ='Nilai Syafahi'!Z7 -> -
A14: 9 | B14: ='Data Siswa'!B17 -> INTAN NURRIZKA | C14: ='Data Siswa'!C17 -> 1219 | D14: ='Nilai Syafahi'!W19 -> 278.5 | E14: ='Nilai Syafahi'!X19 -> 6.1888889 | F14: ='Nilai Syafahi'!Y19 -> 8 | G14: ='Nilai Syafahi'!Z19 -> -
A15: 10 | B15: ='Data Siswa'!B21 -> NAJWA KHOERUNNISA | C15: ='Data Siswa'!C21 -> 1223 | D15: ='Nilai Syafahi'!W23 -> 273.5 | E15: ='Nilai Syafahi'!X23 -> 6.0777778 | F15: ='Nilai Syafahi'!Y23 -> 9 | G15: ='Nilai Syafahi'!Z23 -> -
A16: 11 | B16: ='Data Siswa'!B12 -> ERINA ANGGRAENI | C16: ='Data Siswa'!C12 -> 1214 | D16: ='Nilai Syafahi'!W14 -> 273 | E16: ='Nilai Syafahi'!X14 -> 6.0666667 | F16: ='Nilai Syafahi'!Y14 -> 10 | G16: ='Nilai Syafahi'!Z14 -> -
A17: 12 | B17: ='Data Siswa'!B29 -> REIFA AULIA NURFAUZA | C17: ='Data Siswa'!C29 -> 1231 | D17: ='Nilai Syafahi'!W31 -> 272.5 | E17: ='Nilai Syafahi'!X31 -> 6.0555556 | F17: ='Nilai Syafahi'!Y31 -> 11 | G17: ='Nilai Syafahi'!Z31 -> -
A18: 13 | B18: ='Data Siswa'!B11 -> ELSA MARDIANA | C18: ='Data Siswa'!C11 -> 1213 | D18: ='Nilai Syafahi'!W13 -> 272 | E18: ='Nilai Syafahi'!X13 -> 6.0444444 | F18: ='Nilai Syafahi'!Y13 -> 12 | G18: ='Nilai Syafahi'!Z13 -> -
A19: 14 | B19: ='Data Siswa'!B14 -> FANI RISKA VIANA | C19: ='Data Siswa'!C14 -> 1216 | D19: ='Nilai Syafahi'!W16 -> 271.5 | E19: ='Nilai Syafahi'!X16 -> 6.0333333 | F19: ='Nilai Syafahi'!Y16 -> 13 | G19: ='Nilai Syafahi'!Z16 -> -
A20: 15 | B20: ='Data Siswa'!B26 -> NURIYANTI | C20: ='Data Siswa'!C26 -> 1228 | D20: ='Nilai Syafahi'!W28 -> 269.5 | E20: ='Nilai Syafahi'!X28 -> 5.9888889 | F20: ='Nilai Syafahi'!Y28 -> 14 | G20: ='Nilai Syafahi'!Z28 -> -
A21: 16 | B21: ='Data Siswa'!B8 -> CINDY RAHMANATI | C21: ='Data Siswa'!C8 -> 1210 | D21: ='Nilai Syafahi'!W10 -> 269 | E21: ='Nilai Syafahi'!X10 -> 5.9777778 | F21: ='Nilai Syafahi'!Y10 -> 15 | G21: ='Nilai Syafahi'!Z10 -> -
A22: 17 | B22: ='Data Siswa'!B32 -> SITI NURHALISAH | C22: ='Data Siswa'!C32 -> 1234 | D22: ='Nilai Syafahi'!W34 -> 266 | E22: ='Nilai Syafahi'!X34 -> 5.9111111 | F22: ='Nilai Syafahi'!Y34 -> 16 | G22: ='Nilai Syafahi'!Z34 -> -
A23: 18 | B23: ='Data Siswa'!B24 -> NOVA AULIA RITONGA | C23: ='Data Siswa'!C24 -> 1226 | D23: ='Nilai Syafahi'!W26 -> 265 | E23: ='Nilai Syafahi'!X26 -> 5.8888889 | F23: ='Nilai Syafahi'!Y26 -> 17 | G23: ='Nilai Syafahi'!Z26 -> -
A24: 19 | B24: ='Data Siswa'!B7 -> CAHYANI WULANDARI | C24: ='Data Siswa'!C7 -> 1209 | D24: ='Nilai Syafahi'!W9 -> 264.5 | E24: ='Nilai Syafahi'!X9 -> 5.8777778 | F24: ='Nilai Syafahi'!Y9 -> 18 | G24: ='Nilai Syafahi'!Z9 -> -
A25: 20 | B25: ='Data Siswa'!B13 -> FAHIRA IKMALIA HADI | C25: ='Data Siswa'!C13 -> 1215 | D25: ='Nilai Syafahi'!W15 -> 262.5 | E25: ='Nilai Syafahi'!X15 -> 5.8333333 | F25: ='Nilai Syafahi'!Y15 -> 19 | G25: ='Nilai Syafahi'!Z15 -> -
A26: 21 | B26: ='Data Siswa'!B34 -> VHISCA FAMELA ERICA | C26: ='Data Siswa'!C34 -> 1236 | D26: ='Nilai Syafahi'!W36 -> 262 | E26: ='Nilai Syafahi'!X36 -> 5.8222222 | F26: ='Nilai Syafahi'!Y36 -> 20 | G26: ='Nilai Syafahi'!Z36 -> -
A27: 22 | B27: ='Data Siswa'!B23 -> NANDA HAMIDAH | C27: ='Data Siswa'!C23 -> 1225 | D27: ='Nilai Syafahi'!W25 -> 261 | E27: ='Nilai Syafahi'!X25 -> 5.8 | F27: ='Nilai Syafahi'!Y25 -> 21 | G27: ='Nilai Syafahi'!Z25 -> -
A28: 23 | B28: ='Data Siswa'!B18 -> KEISYA AURA RUSDIANSYAH | C28: ='Data Siswa'!C18 -> 1220 | D28: ='Nilai Syafahi'!W20 -> 258 | E28: ='Nilai Syafahi'!X20 -> 5.7333333 | F28: ='Nilai Syafahi'!Y20 -> 22 | G28: ='Nilai Syafahi'!Z20 -> -
A29: 24 | B29: ='Data Siswa'!B15 -> FIKA NUR AMELIA | C29: ='Data Siswa'!C15 -> 1217 | D29: ='Nilai Syafahi'!W17 -> 252 | E29: ='Nilai Syafahi'!X17 -> 5.6 | F29: ='Nilai Syafahi'!Y17 -> 23 | G29: ='Nilai Syafahi'!Z17 -> -
A30: 25 | B30: ='Data Siswa'!B16 -> INDAH MAWADDAH | C30: ='Data Siswa'!C16 -> 1218 | D30: ='Nilai Syafahi'!W18 -> 252 | E30: ='Nilai Syafahi'!X18 -> 5.6 | F30: ='Nilai Syafahi'!Y18 -> 23 | G30: ='Nilai Syafahi'!Z18 -> -
A31: 26 | B31: ='Data Siswa'!B19 -> LESTIANA LUXMY MADINA NUSA | C31: ='Data Siswa'!C19 -> 1221 | D31: ='Nilai Syafahi'!W21 -> 249.5 | E31: ='Nilai Syafahi'!X21 -> 5.8023256 | F31: ='Nilai Syafahi'!Y21 -> 24 | G31: ='Nilai Syafahi'!Z21 -> -
A32: 27 | B32: ='Data Siswa'!B22 -> NAJWA ZAHROTUNNISA | C32: ='Data Siswa'!C22 -> 1224 | D32: ='Nilai Syafahi'!W24 -> 249 | E32: ='Nilai Syafahi'!X24 -> 5.5333333 | F32: ='Nilai Syafahi'!Y24 -> 25 | G32: ='Nilai Syafahi'!Z24 -> -
A33: 28 | B33: ='Data Siswa'!B27 -> RAMINAH | C33: ='Data Siswa'!C27 -> 1229 | D33: ='Nilai Syafahi'!W29 -> 247.5 | E33: ='Nilai Syafahi'!X29 -> 5.5 | F33: ='Nilai Syafahi'!Y29 -> 26 | G33: ='Nilai Syafahi'!Z29 -> -
A34: 29 | B34: ='Data Siswa'!B35 -> ZAHROTUL AWWALIYAH | C34: ='Data Siswa'!C35 -> 1237 | D34: ='Nilai Syafahi'!W37 -> 245.5 | E34: ='Nilai Syafahi'!X37 -> 5.8452381 | F34: ='Nilai Syafahi'!Y37 -> 27 | G34: ='Nilai Syafahi'!Z37 -> -
A35: 30 | B35: ='Data Siswa'!B2 -> AISYAH DZAKIYYAH | C35: ='Data Siswa'!C2 -> 1204 | D35: ='Nilai Syafahi'!W4 -> 241.5 | E35: ='Nilai Syafahi'!X4 -> 5.8902439 | F35: ='Nilai Syafahi'!Y4 -> 28 | G35: ='Nilai Syafahi'!Z4 -> -
A36: 31 | B36: ='Data Siswa'!B4 -> ANDINI DAHLIANI | C36: ='Data Siswa'!C4 -> 1206 | D36: ='Nilai Syafahi'!W6 -> 231.5 | E36: ='Nilai Syafahi'!X6 -> 5.1444444 | F36: ='Nilai Syafahi'!Y6 -> 29 | G36: ='Nilai Syafahi'!Z6 -> -
A37: 32 | B37: ='Data Siswa'!B28 -> RAYNA NURUL AUDINA | C37: ='Data Siswa'!C28 -> 1230 | D37: ='Nilai Syafahi'!W30 -> 231 | E37: ='Nilai Syafahi'!X30 -> 6.0789474 | F37: ='Nilai Syafahi'!Y30 -> 30 | G37: ='Nilai Syafahi'!Z30 -> -
A38: 33 | B38: ='Data Siswa'!B6 -> AYUDYA LESTARI | C38: ='Data Siswa'!C6 -> 1208 | D38: ='Nilai Syafahi'!W8 -> 229 | E38: ='Nilai Syafahi'!X8 -> 5.0888889 | F38: ='Nilai Syafahi'!Y8 -> 31 | G38: ='Nilai Syafahi'!Z8 -> -
A39: 34 | B39: ='Data Siswa'!B25 -> NUR AFNI OKTAFIYANTI | C39: ='Data Siswa'!C25 -> 1227 | D39: ='Nilai Syafahi'!W27 -> 218.5 | E39: ='Nilai Syafahi'!X27 -> 5.9054054 | F39: ='Nilai Syafahi'!Y27 -> 32 | G39: ='Nilai Syafahi'!Z27 -> -
A40: 35 | B40: ='Data Siswa'!B36 -> 0 | C40: ='Data Siswa'!C36 -> 0 | D40: ='Nilai Syafahi'!W38 -> 0 | E40: ='Nilai Syafahi'!X38 -> #DIV/0! | F40: ='Nilai Syafahi'!Y38 -> 33 | G40: ='Nilai Syafahi'!Z38 -> -
A41: 36 | B41: ='Data Siswa'!B37 -> 0 | C41: ='Data Siswa'!C37 -> 0 | D41: ='Nilai Syafahi'!W39 -> 0 | E41: ='Nilai Syafahi'!X39 -> #DIV/0! | F41: ='Nilai Syafahi'!Y39 -> 33 | G41: ='Nilai Syafahi'!Z39 -> -
A42: 37 | B42: ='Data Siswa'!B38 -> 0 | C42: ='Data Siswa'!C38 -> 0 | D42: ='Nilai Syafahi'!W40 -> 0 | E42: ='Nilai Syafahi'!X40 -> #DIV/0! | F42: ='Nilai Syafahi'!Y40 -> 33 | G42: ='Nilai Syafahi'!Z40 -> -
...

Sheet Sheet1
A2: 0
A3: 1 | B3: واحد
A4: 1.1 | B4: واحد و واحد
A5: 1.2 | B5: واحد و اثنين
A6: 1.3 | B6: واحد و ثلاث
A7: 1.4 | B7: واحد و اربع
A8: 1.5 | B8: واحد و نصف
A9: 1.6 | B9: واحد و ست
A10: 1.7 | B10: واحد و سبع
A11: 1.8 | B11: واحد و ثمان
A12: 1.9 | B12: واحد و تسع
A13: 2 | B13: اثنين
A14: 2.1 | B14: اثنين و واحد
... A93: 10 | B93: عشر
