Workbook
Name nilai: 'Nilai Tahriri'!$B$2:$AO$27

Sheet Identitas
C2: NAMA WALI KELAS
C4: KELAS
C6: SEMESTER
C8: TAHUN PELAJARAN
C10: TANGGAL HIJRIYAH
C12: TANGGAL MILADIYAH

Sheet Biodata
C1: IDENTITAS RAPOT
B4: =CONCATENATE(F4," ",E4," ",C4) -> الصف : السادس ج للبنات | C4: السادس ج للبنات | E4: : | F4: الصف | G4: 1
F5: ( Kelas )
B7: =CONCATENATE(F7," ",E7," ",C7) -> الفصل الدراسي : الأول | C7: الأول | E7: : | F7: الفصل الدراسي | G7: 2
F8: ( Semester )
B10: =CONCATENATE(F10," : ",C11," ه"," \ ",C10," م") -> العام الدراسي : ١٤٤٤ - ١٤٤٥ ه \ ٢٠٢٣ - ٢٠٢٤ م | C10: ٢٠٢٣ - ٢٠٢٤ | E10: : | F10: العام الدراسي | G10: 3
C11: ١٤٤٤ - ١٤٤٥ | F11: ( Tahun Pelajaran )
C13: ٠٩ من جمادى الآخر سنة ١٤٤٥ ه | E13: : | F13: تحريرا بسـيرانج في | G13: 4
C14: ٢٢ من ديسمبر سنة ٢٠٢٣ م | F14: ( Tanggal Rapot )
C16: الأستاذ شهاب المعي | E16: : | F16: مدير المدرسة | G16: 5
F17: ( Nama Kepala Sekolah )
E19: : | F19: ولي الفصل | G19: 6
F20: ( Nama Wali Kelas )

Sheet Data Siswa
A1: No | B1: Nama | C1: No Exam | D1: Keterangan
A2: 1 | B2: ADELIA | C2: 1303
A3: 2 | B3: ALIYA | C3: 1304
A4: 3 | B4: ANGGITA JULIA | C4: 1305
A5: 4 | B5: ANISA NURSAFITRI | C5: 1306
A6: 5 | B6: ANNISA AULIA PRATIWI | C6: 1307
A7: 6 | B7: CHELSY AULIA | C7: 1308
A8: 7 | B8: DALIA SHINTA CHALISA | C8: 1309
A9: 8 | B9: DEA PUSPITA | C9: 1310
A10: 9 | B10: DEVA ARINDI PUTRI | C10: 1311
A11: 10 | B11: DEWI ALLAWIYAH | C11: 1312
A12: 11 | B12: DINDA LUTFIAH SYAWAL | C12: 1313
A13: 12 | B13: ELSA APRILIA MUFTI | C13: 1314
... A34: 33 | B34: YAYAH SA'DIYAH | C34: 1335
A35: 34
A36: 35
A37: 36
A38: 37
A39: 38
A40: 39
A41: 40

Sheet Nilai Tahriri
A1: No | B1: Nama | C1: No Ujian | D1: التفسير | E1: الحديث | F1: مصطلح الحديث | G1: الفقه | H1: اصول الفقه | I1: علم الفرائض | J1: آيات الأحكام | K1: الديانة | L1: تاريخ التشريع | M1: التاريخ الإسلام | N1: التعبير التحريري | O1: تمرين اللغة | P1: المطالعة | Q1: النصوص الأدبية | R1: النحو | S1: الصرف | T1: البلاغة | U1: علم المنطق | V1: تا. ادب اللغة | W1: الإملاء | X1: الخط | Y1: التربية والتعليم | Z1: التربية والعماية | AA1: روح المعهد | AB1: الخطابة | AC1: B. Inggris | AD1: B. Indonesia | AE1: Matematika | AF1: Fisika | AG1: Biologi | AH1: Kimia | AI1: Geografi | AJ1: Sosiologi | AK1: Ekonomi | AL1: PPKN | AM1: Sjrh. Indo | AN1: Komputer | AO1: Jumlah Nilai | AP1: Nilai Rata2
A2: ='Data Siswa'!A2 -> 1 | B2: ='Data Siswa'!B2 -> ADELIA | C2: ='Data Siswa'!C2 -> 1303 | D2: 7 | E2: 6.5 | F2: 4 | G2: 7 | H2: 6 | I2: 6 | J2: 6 | K2: 5 | L2: 5 | M2: 8.5 | N2: 6.5 | O2: 5 | P2: 6 | Q2: 6 | R2: 5.8 | S2: 6 | T2: 5.5 | U2: 7.5 | V2: 6 | W2: 7 | X2: 5 | Z2: 5.5 | AA2: 7 | AB2: 7 | AC2: 6.2 | AD2: 6.5 | AE2: 6 | AI2: 6 | AJ2: 8.8 | AK2: 7.3 | AL2: 7.9 | AM2: 8 | AN2: 7.9 | AO2: =SUM(D2:AN2) -> 211.4 | AP2: =AVERAGE(D2:AN2) -> 6.4060606
A3: ='Data Siswa'!A3 -> 2 | B3: ='Data Siswa'!B3 -> ALIYA | C3: ='Data Siswa'!C3 -> 1304 | D3: 7 | E3: 5 | F3: 4 | G3: 7 | H3: 6 | I3: 6 | J3: 5 | K3: 5 | L3: 4 | M3: 8.8 | N3: 6 | O3: 5 | P3: 6.5 | Q3: 4 | R3: 6 | S3: 6.1 | T3: 4 | U3: 6.5 | V3: 7 | W3: 8 | X3: 6 | Z3: 5.5 | AA3: 7 | AB3: 7 | AC3: 6.2 | AD3: 5 | AE3: 6.5 | AI3: 5.5 | AJ3: 8.2 | AK3: 6.5 | AL3: 8 | AM3: 8.5 | AN3: 7.9 | AO3: =SUM(D3:AN3) -> 204.7 | AP3: =AVERAGE(D3:AN3) -> 6.2030303
A4: ='Data Siswa'!A4 -> 3 | B4: ='Data Siswa'!B4 -> ANGGITA JULIA | C4: ='Data Siswa'!C4 -> 1305 | D4: 6.5 | E4: 5 | F4: 4.5 | G4: 7.5 | H4: 7 | I4: 6 | J4: 5 | K4: 4.5 | L4: 7 | M4: 8.5 | N4: 6.5 | O4: 5 | P4: 6 | Q4: 6 | R4: 6.5 | S4: 6.5 | T4: 7 | U4: 8 | V4: 6 | W4: 7.5 | X4: 6 | Z4: 5 | AA4: 7 | AB4: 7 | AC4: 6 | AD4: 5.5 | AE4: 6 | AI4: 5 | AJ4: 8 | AK4: 7.3 | AL4: 7.9 | AM4: 8 | AN4: 8.2 | AO4: =SUM(D4:AN4) -> 213.4 | AP4: =AVERAGE(D4:AN4) -> 6.4666667
A5: ='Data Siswa'!A5 -> 4 | B5: ='Data Siswa'!B5 -> ANISA NURSAFITRI | C5: ='Data Siswa'!C5 -> 1306 | D5: 7 | E5: 5.5 | F5: 4.5 | G5: 6 | H5: 6 | I5: 6 | J5: 5 | K5: 5 | L5: 6 | M5: 8.8 | N5: 6 | O5: 4 | P5: 6 | Q5: 4 | R5: 5.6 | S5: 6 | T5: 4 | U5: 6 | V5: 6 | W5: 5.5 | X5: 5 | Z5: 4.5 | AA5: 7 | AB5: 7 | AC5: 6.2 | AD5: 5 | AE5: 6 | AI5: 6 | AJ5: 8.3 | AK5: 7.5 | AL5: 7.8 | AM5: 8.5 | AN5: 8 | AO5: =SUM(D5:AN5) -> 199.7 | AP5: =AVERAGE(D5:AN5) -> 6.0515152
A6: ='Data Siswa'!A6 -> 5 | B6: ='Data Siswa'!B6 -> ANNISA AULIA PRATIWI | C6: ='Data Siswa'!C6 -> 1307 | D6: 6 | E6: 6 | F6: 4 | G6: 5.5 | H6: 5 | I6: 5 | J6: 5 | K6: 4.5 | L6: 6 | M6: 8.8 | N6: 5 | O6: 5.5 | P6: 6.5 | Q6: 6 | R6: 5.7 | S6: 6 | T6: 4.5 | U6: 6 | V6: 6 | W6: 7 | X6: 6 | Z6: 4.5 | AA6: 7 | AB6: 6.5 | AC6: 6.6 | AD6: 5.5 | AE6: 6.5 | AI6: 5 | AJ6: 8.1 | AK6: 7.5 | AL6: 7.7 | AM6: 8.7 | AN6: 7.8 | AO6: =SUM(D6:AN6) -> 201.4 | AP6: =AVERAGE(D6:AN6) -> 6.1030303
A7: ='Data Siswa'!A7 -> 6 | B7: ='Data Siswa'!B7 -> CHELSY AULIA | C7: ='Data Siswa'!C7 -> 1308 | D7: 6 | E7: 5.5 | F7: 4.5 | G7: 6.5 | H7: 6.5 | I7: 6 | J7: 4 | K7: 4.5 | L7: 6 | M7: 8 | N7: 5.5 | O7: 4 | P7: 6.5 | Q7: 6 | R7: 6 | S7: 6.2 | T7: 6 | U7: 6 | V7: 7 | W7: 6 | X7: 5 | Z7: 4 | AA7: 7 | AB7: 6.5 | AC7: 6 | AD7: 5 | AE7: 7 | AI7: 5.5 | AJ7: 8.4 | AK7: 7.5 | AL7: 7.7 | AM7: 7.7 | AN7: 7.6 | AO7: =SUM(D7:AN7) -> 201.6 | AP7: =AVERAGE(D7:AN7) -> 6.1090909
A8: ='Data Siswa'!A8 -> 7 | B8: ='Data Siswa'!B8 -> DALIA SHINTA CHALISA | C8: ='Data Siswa'!C8 -> 1309 | D8: 6 | E8: 6 | F8: 4.5 | G8: 7 | H8: 7 | I8: 6 | J8: 6 | K8: 5 | L8: 6.5 | M8: 8.5 | N8: 7 | O8: 5 | P8: 6.5 | Q8: 6 | R8: 6.2 | S8: 6 | T8: 6 | U8: 6 | V8: 6.5 | W8: 7 | X8: 5 | Z8: 4.5 | AA8: 7 | AB8: 6.5 | AC8: 6.4 | AD8: 6 | AE8: 6 | AI8: 6 | AJ8: 8.2 | AK8: 7.3 | AL8: 7.7 | AM8: 8 | AN8: 7.7 | AO8: =SUM(D8:AN8) -> 211 | AP8: =AVERAGE(D8:AN8) -> 6.3939394
A9: ='Data Siswa'!A9 -> 8 | B9: ='Data Siswa'!B9 -> DEA PUSPITA | C9: ='Data Siswa'!C9 -> 1310 | D9: 5.5 | E9: 5 | F9: 5 | G9: 7 | H9: 6.5 | I9: 6 | J9: 5 | K9: 4.5 | L9: 4.5 | M9: 8.5 | N9: 6 | O9: 5 | P9: 6.5 | Q9: 5 | R9: 5.7 | S9: 6 | T9: 6.5 | U9: 5 | V9: 6 | W9: 6.5 | X9: 5 | Z9: 4.5 | AA9: 7 | AB9: 7 | AC9: 7.2 | AD9: 5 | AE9: 6 | AI9: 5.5 | AJ9: 8.6 | AK9: 7.3 | AL9: 7.7 | AM9: 8 | AN9: 8 | AO9: =SUM(D9:AN9) -> 202.5 | AP9: =AVERAGE(D9:AN9) -> 6.1363636
A10: ='Data Siswa'!A10 -> 9 | B10: ='Data Siswa'!B10 -> DEVA ARINDI PUTRI | C10: ='Data Siswa'!C10 -> 1311 | D10: 6 | E10: 5 | F10: 4 | G10: 6.5 | H10: 6.5 | I10: 6 | J10: 5 | K10: 4.5 | L10: 5 | M10: 8.5 | N10: 6 | O10: 5 | P10: 7 | Q10: 7 | R10: 6.5 | S10: 7 | T10: 5 | U10: 5 | V10: 7 | W10: 8 | X10: 5 | Z10: 4.5 | AA10: 7 | AB10: 7 | AC10: 6.2 | AD10: 5 | AE10: 6.5 | AI10: 5 | AJ10: 8 | AK10: 6.5 | AL10: 7.7 | AM10: 8 | AN10: 7.9 | AO10: =SUM(D10:AN10) -> 204.8 | AP10: =AVERAGE(D10:AN10) -> 6.2060606
A11: ='Data Siswa'!A11 -> 10 | B11: ='Data Siswa'!B11 -> DEWI ALLAWIYAH | C11: ='Data Siswa'!C11 -> 1312 | D11: 6.5 | E11: 5 | F11: 4 | G11: 7 | H11: 6.5 | I11: 5.5 | J11: 6 | K11: 6 | L11: 7 | M11: 8 | N11: 6 | O11: 5 | P11: 7 | Q11: 6 | R11: 6 | S11: 6.3 | T11: 4.5 | U11: 6.5 | V11: 6 | W11: 8 | X11: 5.5 | Z11: 6 | AA11: 7 | AB11: 7.5 | AC11: 7 | AD11: 6 | AE11: 6 | AI11: 5.5 | AJ11: 8.6 | AK11: 7.5 | AL11: 8 | AM11: 7.7 | AN11: 7.9 | AO11: =SUM(D11:AN11) -> 213 | AP11: =AVERAGE(D11:AN11) -> 6.4545455
A12: ='Data Siswa'!A12 -> 11 | B12: ='Data Siswa'!B12 -> DINDA LUTFIAH SYAWAL | C12: ='Data Siswa'!C12 -> 1313 | D12: 7 | E12: 5 | F12: 5 | G12: 7 | H12: 7 | I12: 6 | J12: 6 | K12: 5 | L12: 7 | M12: 8 | N12: 6.5 | O12: 5 | P12: 7 | Q12: 4 | R12: 6.2 | S12: 6 | T12: 4.5 | U12: 6 | V12: 7 | W12: 6 | X12: 5 | Z12: 4 | AA12: 7 | AB12: 7 | AC12: 6 | AD12: 6 | AE12: 6 | AI12: 6 | AJ12: 8.5 | AK12: 6.5 | AL12: 7.7 | AM12: 7.7 | AN12: 7.8 | AO12: =SUM(D12:AN12) -> 206.4 | AP12: =AVERAGE(D12:AN12) -> 6.2545455
A13: ='Data Siswa'!A13 -> 12 | B13: ='Data Siswa'!B13 -> ELSA APRILIA MUFTI | C13: ='Data Siswa'!C13 -> 1314 | D13: 6 | E13: 4.5 | F13: 4 | G13: 6.5 | H13: 7 | I13: 6 | J13: 4 | K13: 4.5 | L13: 5.5 | M13: 8 | N13: 5.5 | O13: 5 | P13: 6 | Q13: 4 | R13: 5.8 | S13: 6 | T13: 7 | U13: 6 | V13: 6 | W13: 5.5 | X13: 5 | Z13: 5 | AA13: 7 | AB13: 7 | AC13: 7 | AD13: 5.5 | AE13: 6.5 | AI13: 5 | AJ13: 7.6 | AK13: 7 | AL13: 7.7 | AM13: 7.8 | AN13: 7.8 | AO13: =SUM(D13:AN13) -> 198.7 | AP13: =AVERAGE(D13:AN13) -> 6.0212121
A14: ='Data Siswa'!A14 -> 13 | B14: ='Data Siswa'!B14 -> ESIH | C14: ='Data Siswa'!C14 -> 1315 | D14: 5.5 | E14: 5 | F14: 4.5 | G14: 5 | H14: 6 | I14: 4.5 | J14: 4 | L14: 6 | M14: 8.8 | N14: 7 | O14: 5 | P14: 6.5 | Q14: 6 | R14: 5.8 | S14: 6 | T14: 6.5 | U14: 5 | V14: 6 | W14: 6 | X14: 5.5 | Z14: 4.5 | AA14: 7 | AB14: 7 | AC14: 6 | AD14: 5 | AE14: 8 | AI14: 5 | AJ14: 7.8 | AK14: 7 | AL14: 7.8 | AM14: 8.5 | AN14: 7.9 | AO14: =SUM(D14:AN14) -> 196.1 | AP14: =AVERAGE(D14:AN14) -> 6.128125
A15: ='Data Siswa'!A15 -> 14 | B15: ='Data Siswa'!B15 -> KASIH AZZAHRA | C15: ='Data Siswa'!C15 -> 1316 | D15: 6 | E15: 6 | F15: 5 | G15: 7 | H15: 7 | I15: 4.5 | J15: 6 | K15: 5 | L15: 5 | M15: 8.5 | N15: 7 | O15: 5 | P15: 6 | Q15: 7 | R15: 6.3 | S15: 5.6 | T15: 6.5 | U15: 6 | V15: 6.5 | W15: 8 | X15: 5 | Z15: 4 | AA15: 7 | AB15: 7 | AC15: 7.6 | AD15: 6.5 | AE15: 6 | AI15: 6 | AJ15: 8.4 | AK15: 7.3 | AL15: 7.7 | AM15: 8 | AN15: 8.3 | AO15: =SUM(D15:AN15) -> 212.7 | AP15: =AVERAGE(D15:AN15) -> 6.4454545
A16: ='Data Siswa'!A16 -> 15 | B16: ='Data Siswa'!B16 -> LUSIANA | C16: ='Data Siswa'!C16 -> 1317 | D16: 6.5 | E16: 5 | F16: 6 | G16: 7.5 | H16: 7 | I16: 5 | J16: 5 | K16: 5 | L16: 5 | M16: 8 | N16: 6.5 | O16: 5 | P16: 6 | Q16: 6 | R16: 5.8 | S16: 5.6 | T16: 5 | U16: 8 | V16: 7 | W16: 7 | X16: 5 | Z16: 4.5 | AA16: 7 | AB16: 7 | AC16: 7.4 | AD16: 5.5 | AE16: 6 | AI16: 5 | AJ16: 8.4 | AK16: 7.5 | AL16: 7.8 | AM16: 7.7 | AN16: 8.7 | AO16: =SUM(D16:AN16) -> 209.4 | AP16: =AVERAGE(D16:AN16) -> 6.3454545
A17: ='Data Siswa'!A17 -> 16 | B17: ='Data Siswa'!B17 -> MARSYA | C17: ='Data Siswa'!C17 -> 1318 | D17: 6 | E17: 5 | F17: 4.5 | G17: 5.5 | H17: 6 | I17: 6 | J17: 4 | K17: 5 | L17: 5 | M17: 8.5 | N17: 6 | O17: 5 | P17: 6 | Q17: 6 | R17: 6.1 | S17: 6 | T17: 6 | U17: 6 | V17: 5.5 | W17: 7 | X17: 5 | Z17: 5.5 | AA17: 7 | AB17: 7.5 | AC17: 6 | AD17: 5 | AE17: 7 | AI17: 6 | AJ17: 8 | AK17: 7 | AL17: 8 | AM17: 8 | AN17: 7.7 | AO17: =SUM(D17:AN17) -> 202.8 | AP17: =AVERAGE(D17:AN17) -> 6.1454545
A18: ='Data Siswa'!A18 -> 17 | B18: ='Data Siswa'!B18 -> NAJMA NISA FATIHA | C18: ='Data Siswa'!C18 -> 1319 | D18: 6 | E18: 5 | F18: 4.5 | G18: 6.5 | H18: 6.5 | I18: 6 | J18: 5 | K18: 4.5 | L18: 5.5 | M18: 8.5 | N18: 6.5 | O18: 5 | P18: 7 | Q18: 6 | R18: 5.6 | S18: 6.2 | T18: 5 | U18: 7 | V18: 6 | W18: 6.5 | X18: 6 | Z18: 4.5 | AA18: 7 | AB18: 7 | AC18: 6 | AD18: 5.5 | AE18: 6 | AI18: 5 | AJ18: 8.5 | AK18: 6.5 | AL18: 7.7 | AM18: 8 | AN18: 7.4 | AO18: =SUM(D18:AN18) -> 203.9 | AP18: =AVERAGE(D18:AN18) -> 6.1787879
A19: ='Data Siswa'!A19 -> 18 | B19: ='Data Siswa'!B19 -> NALLA BERLIANA PUTRIA FAUZI | C19: ='Data Siswa'!C19 -> 1320 | D19: 6 | E19: 5.5 | F19: 4.5 | G19: 5.5 | H19: 8 | I19: 5 | J19: 6 | K19: 4.5 | L19: 7.5 | M19: 8.5 | N19: 6.5 | O19: 5 | P19: 6.5 | Q19: 7 | R19: 6.5 | S19: 6 | T19: 4 | U19: 8 | V19: 6.5 | W19: 6 | X19: 5 | Z19: 4.5 | AA19: 7 | AB19: 7 | AC19: 6 | AD19: 5 | AE19: 6 | AI19: 5.5 | AJ19: 8.4 | AK19: 6.5 | AL19: 7.7 | AM19: 8 | AN19: 7.6 | AO19: =SUM(D19:AN19) -> 207.2 | AP19: =AVERAGE(D19:AN19) -> 6.2787879
A20: ='Data Siswa'!A20 -> 19 | B20: ='Data Siswa'!B20 -> NASYWA NAFIAH KHOIRONI | C20: ='Data Siswa'!C20 -> 1321 | D20: 5.5 | E20: 5.5 | F20: 4.5 | G20: 6.5 | H20: 6.5 | I20: 5.5 | J20: 6 | K20: 5 | L20: 5 | M20: 8 | N20: 5 | O20: 5 | P20: 7 | Q20: 5 | R20: 5.9 | S20: 6 | T20: 4 | U20: 5.5 | V20: 7 | W20: 6 | X20: 5 | Z20: 4.5 | AA20: 7 | AB20: 7.5 | AC20: 6 | AD20: 5.5 | AE20: 6 | AI20: 6 | AJ20: 7.9 | AK20: 6 | AL20: 8 | AM20: 7.7 | AN20: 7.5 | AO20: =SUM(D20:AN20) -> 199 | AP20: =AVERAGE(D20:AN20) -> 6.030303
A21: ='Data Siswa'!A21 -> 20 | B21: ='Data Siswa'!B21 -> NAZWA RIDHO TUNISA | C21: ='Data Siswa'!C21 -> 1322 | D21: 5.5 | E21: 4.5 | F21: 4.5 | G21: 7 | H21: 7 | I21: 6 | J21: 7 | K21: 4.5 | L21: 6 | M21: 8.8 | N21: 6 | O21: 5 | P21: 7 | Q21: 6 | R21: 5.7 | S21: 5.9 | T21: 5.5 | U21: 6.5 | V21: 6 | W21: 7 | X21: 6 | Z21: 4.5 | AA21: 7 | AB21: 7 | AC21: 6 | AD21: 5.5 | AE21: 6.5 | AI21: 5 | AJ21: 8.1 | AK21: 7 | AL21: 7.8 | AM21: 8.5 | AN21: 8.1 | AO21: =SUM(D21:AN21) -> 208.4 | AP21: =AVERAGE(D21:AN21) -> 6.3151515
A22: ='Data Siswa'!A22 -> 21 | B22: ='Data Siswa'!B22 -> NIHAYATUS SHOLIHAH | C22: ='Data Siswa'!C22 -> 1323 | D22: 5.5 | E22: 5.5 | F22: 5 | G22: 6.5 | H22: 7 | I22: 6 | J22: 6 | K22: 5.5 | L22: 5.5 | M22: 8.8 | N22: 5 | O22: 5 | P22: 6 | Q22: 7 | R22: 5.8 | S22: 5.6 | T22: 5.5 | U22: 6 | V22: 6 | W22: 8 | X22: 5 | Z22: 4.5 | AA22: 7 | AB22: 7 | AC22: 6.8 | AD22: 5 | AE22: 6.5 | AI22: 5 | AJ22: 8.2 | AK22: 7 | AL22: 7.8 | AM22: 8.5 | AN22: 8.1 | AO22: =SUM(D22:AN22) -> 207.6 | AP22: =AVERAGE(D22:AN22) -> 6.2909091
A23: ='Data Siswa'!A23 -> 22 | B23: ='Data Siswa'!B23 -> NOVI DAIPAH | C23: ='Data Siswa'!C23 -> 1324 | D23: 6 | E23: 5 | F23: 6 | G23: 7 | H23: 7.5 | I23: 6 | J23: 8 | K23: 5 | L23: 5 | M23: 8 | N23: 6 | O23: 5 | P23: 6 | Q23: 6 | R23: 6 | S23: 5.8 | T23: 6.5 | U23: 6 | V23: 6 | W23: 8 | X23: 6 | Z23: 4 | AA23: 7 | AB23: 7 | AC23: 6.4 | AD23: 6 | AE23: 6 | AI23: 5.5 | AJ23: 8 | AK23: 7 | AL23: 7.7 | AM23: 7.7 | AN23: 7.9 | AO23: =SUM(D23:AN23) -> 211 | AP23: =AVERAGE(D23:AN23) -> 6.3939394
A24: ='Data Siswa'!A24 -> 23 | B24: ='Data Siswa'!B24 -> NURUL AIDAH | C24: ='Data Siswa'!C24 -> 1325 | D24: 5 | E24: 4.5 | F24: 4.5 | G24: 4.5 | H24: 6 | I24: 4.5 | J24: 5 | K24: 5 | L24: 5 | M24: 8 | N24: 7 | O24: 5 | P24: 6.5 | Q24: 4 | R24: 5.6 | S24: 5.7 | T24: 4 | U24: 4.5 | V24: 5.5 | W24: 6 | X24: 5 | Z24: 4.5 | AA24: 7 | AB24: 7 | AC24: 6 | AD24: 5.5 | AE24: 6 | AI24: 6 | AJ24: 8 | AK24: 7 | AL24: 7.7 | AM24: 7.7 | AN24: 7.5 | AO24: =SUM(D24:AN24) -> 190.7 | AP24: =AVERAGE(D24:AN24) -> 5.7787879
A25: ='Data Siswa'!A25 -> 24 | B25: ='Data Siswa'!B25 -> RAHMA ALIA ZAHRA | C25: ='Data Siswa'!C25 -> 1326 | D25: 6 | E25: 4.5 | F25: 4 | G25: 5 | H25: 8 | I25: 4.5 | J25: 6 | K25: 4.5 | L25: 6 | M25: 8.5 | N25: 6.5 | O25: 5 | P25: 6.5 | Q25: 5 | R25: 5.8 | S25: 6 | T25: 5.5 | U25: 6.5 | V25: 5.5 | W25: 8 | X25: 6 | Z25: 4 | AA25: 7 | AB25: 6.5 | AC25: 7 | AD25: 5.5 | AE25: 6 | AI25: 6 | AJ25: 7.9 | AK25: 7 | AL25: 7.7 | AM25: 8 | AN25: 7.9 | AO25: =SUM(D25:AN25) -> 203.8 | AP25: =AVERAGE(D25:AN25) -> 6.1757576
A26: ='Data Siswa'!A26 -> 25 | B26: ='Data Siswa'!B26 -> SHOFIYAH | C26: ='Data Siswa'!C26 -> 1327 | D26: 5.5 | E26: 5.5 | F26: 4.5 | G26: 7.5 | H26: 7.5 | I26: 6.5 | J26: 5 | K26: 4.5 | L26: 7.5 | M26: 8 | N26: 6 | O26: 5 | P26: 6 | Q26: 5 | R26: 6.5 | S26: 6.4 | T26: 6 | U26: 8 | V26: 5.5 | W26: 6 | X26: 6 | Z26: 5.5 | AA26: 7 | AB26: 7 | AC26: 6 | AD26: 6.5 | AE26: 6 | AI26: 5.5 | AJ26: 8.4 | AK26: 7.3 | AL26: 8 | AM26: 7.8 | AN26: 7.8 | AO26: =SUM(D26:AN26) -> 211.2 | AP26: =AVERAGE(D26:AN26) -> 6.4
A27: ='Data Siswa'!A27 -> 26 | B27: ='Data Siswa'!B27 -> SIFA RAMADANI | C27: ='Data Siswa'!C27 -> 1328 | E27: 5 | G27: 7 | H27: 6.5 | I27: 6 | J27: 5 | K27: 4.5 | L27: 7.5 | M27: 8 | N27: 6 | P27: 6 | Q27: 4 | R27: 6 | S27: 6.2 | T27: 5.5 | U27: 6.5 | V27: 7 | W27: 6 | X27: 5 | Z27: 4.5 | AA27: 7 | AB27: 7.5 | AC27: 6 | AD27: 6 | AE27: 6 | AJ27: 8.4 | AK27: 7.8 | AL27: 7.7 | AM27: 7.7 | AN27: 8.1 | AO27: =SUM(D27:AN27) -> 184.4 | AP27: =AVERAGE(D27:AN27) -> 6.3586207
A28: ='Data Siswa'!A28 -> 27 | B28: ='Data Siswa'!B28 -> SITI NURHALIZAH | C28: ='Data Siswa'!C28 -> 1329 | D28: 6 | F28: 4 | G28: 5 | I28: 5.5 | J28: 4 | K28: 4.5 | L28: 5 | N28: 5 | O28: 5 | P28: 6 | Q28: 4 | R28: 5.7 | S28: 6 | T28: 4 | U28: 5 | V28: 6 | W28: 6 | X28: 5 | Z28: 4 | AA28: 7 | AB28: 7 | AC28: 6 | AE28: 6.5 | AI28: 5 | AJ28: 8 | AK28: 7.5 | AL28: 7.7 | AO28: =SUM(D28:AN28) -> 150.4 | AP28: =AVERAGE(D28:AN28) -> 5.5703704
A29: ='Data Siswa'!A29 -> 28 | B29: ='Data Siswa'!B29 -> SITI UMI NURILAH FADILAH | C29: ='Data Siswa'!C29 -> 1330 | D29: 6 | E29: 5 | F29: 4.5 | G29: 6.5 | H29: 7.5 | I29: 6 | J29: 8 | K29: 4.5 | L29: 8 | M29: 8 | N29: 6.5 | O29: 5 | P29: 6.5 | Q29: 4 | R29: 5.7 | S29: 6 | T29: 7 | U29: 7 | V29: 6 | W29: 7.5 | X29: 5 | Z29: 4 | AA29: 7 | AB29: 7 | AC29: 6 | AD29: 5.5 | AE29: 8 | AI29: 5.5 | AJ29: 8.3 | AK29: 7 | AL29: 7.7 | AM29: 7.8 | AN29: 7.6 | AO29: =SUM(D29:AN29) -> 211.6 | AP29: =AVERAGE(D29:AN29) -> 6.4121212
A30: ='Data Siswa'!A30 -> 29 | B30: ='Data Siswa'!B30 -> SYAHFA AZ ZAHRA | C30: ='Data Siswa'!C30 -> 1331 | D30: 6 | E30: 4.5 | F30: 4 | G30: 5 | H30: 5.5 | I30: 5 | J30: 4 | K30: 4.5 | L30: 5 | M30: 8.5 | N30: 6 | O30: 5 | P30: 5.5 | Q30: 4 | R30: 5.5 | S30: 5.7 | T30: 4 | U30: 5 | V30: 6 | W30: 6.5 | X30: 5 | Z30: 4 | AA30: 7 | AB30: 7 | AC30: 6 | AD30: 6 | AE30: 6 | AI30: 5.5 | AJ30: 8.5 | AK30: 6.5 | AL30: 7.7 | AM30: 8 | AN30: 7.9 | AO30: =SUM(D30:AN30) -> 190.3 | AP30: =AVERAGE(D30:AN30) -> 5.7666667
A31: ='Data Siswa'!A31 -> 30 | B31: ='Data Siswa'!B31 -> TASIAH | C31: ='Data Siswa'!C31 -> 1332 | D31: 6 | E31: 4.5 | F31: 4 | G31: 6.5 | H31: 6.5 | I31: 5 | J31: 4 | K31: 4.5 | L31: 4.5 | M31: 8.5 | N31: 6 | O31: 5 | P31: 6 | Q31: 7 | R31: 5.4 | S31: 5.7 | T31: 4 | U31: 6 | V31: 6.5 | W31: 7.5 | X31: 5 | Z31: 4 | AA31: 7 | AB31: 7 | AC31: 6 | AD31: 5.5 | AE31: 6 | AI31: 5 | AJ31: 8.2 | AK31: 6.5 | AL31: 7.7 | AM31: 8 | AN31: 7.7 | AO31: =SUM(D31:AN31) -> 196.7 | AP31: =AVERAGE(D31:AN31) -> 5.9606061
A32: ='Data Siswa'!A32 -> 31 | B32: ='Data Siswa'!B32 -> TIARA ROMDANAH | C32: ='Data Siswa'!C32 -> 1333 | D32: 5.5 | E32: 4.5 | F32: 4.5 | G32: 6.5 | H32: 6.5 | I32: 5 | J32: 4 | K32: 4.5 | L32: 4 | M32: 8 | N32: 6.5 | O32: 5 | P32: 6 | Q32: 6 | R32: 5.7 | S32: 6 | T32: 4 | U32: 5 | V32: 6 | W32: 6 | X32: 6 | Z32: 4.5 | AA32: 7 | AB32: 7 | AC32: 6 | AD32: 5 | AE32: 6 | AI32: 6 | AJ32: 7.9 | AK32: 7.3 | AL32: 7.7 | AM32: 7.7 | AN32: 8.2 | AO32: =SUM(D32:AN32) -> 195.5 | AP32: =AVERAGE(D32:AN32) -> 5.9242424
A33: ='Data Siswa'!A33 -> 32 | B33: ='Data Siswa'!B33 -> TUTI ANANI | C33: ='Data Siswa'!C33 -> 1334 | D33: 5.5 | E33: 4.5 | F33: 5 | G33: 6 | H33: 6 | I33: 5 | J33: 4 | K33: 4.5 | L33: 6 | M33: 8 | N33: 6 | O33: 5 | P33: 6.5 | Q33: 5 | R33: 5.8 | S33: 6 | T33: 4 | U33: 6 | V33: 6 | W33: 6 | X33: 6 | Z33: 5.5 | AA33: 7 | AB33: 7 | AC33: 6.4 | AD33: 5.5 | AE33: 6 | AI33: 5 | AJ33: 8.7 | AK33: 7.3 | AL33: 8 | AM33: 7.7 | AN33: 7.5 | AO33: =SUM(D33:AN33) -> 198.4 | AP33: =AVERAGE(D33:AN33) -> 6.0121212
A34: ='Data Siswa'!A34 -> 33 | B34: ='Data Siswa'!B34 -> YAYAH SA'DIYAH | C34: ='Data Siswa'!C34 -> 1335 | D34: 6 | E34: 4.5 | F34: 4.5 | G34: 5 | H34: 5 | J34: 4 | K34: 4.5 | L34: 4 | M34: 8 | N34: 5.5 | O34: 5 | P34: 6 | Q34: 4 | S34: 5.7 | T34: 4 | V34: 6.5 | W34: 5 | X34: 5 | AA34: 7 | AB34: 7 | AC34: 6 | AD34: 5.5 | AE34: 6 | AI34: 6 | AJ34: 7.8 | AK34: 6.5 | AL34: 8.8 | AM34: 7.7 | AO34: =SUM(D34:AN34) -> 160.5 | AP34: =AVERAGE(D34:AN34) -> 5.7321429
A35: ='Data Siswa'!A35 -> 34 | C35: ='Data Siswa'!C35 -> 0 | AO35: =SUM(D35:AN35) -> 0 | AP35: =AVERAGE(D35:AN35) -> #DIV/0!
A36: ='Data Siswa'!A36 -> 35 | B36: ='Data Siswa'!B36 -> 0 | C36: ='Data Siswa'!C36 -> 0 | AO36: =SUM(D36:AN36) -> 0 | AP36: =AVERAGE(D36:AN36) -> #DIV/0!
A37: ='Data Siswa'!A37 -> 36 | B37: ='Data Siswa'!B37 -> 0 | C37: ='Data Siswa'!C37 -> 0 | AO37: =SUM(D37:AN37) -> 0 | AP37: =AVERAGE(D37:AN37) -> #DIV/0!
A38: ='Data Siswa'!A38 -> 37 | B38: ='Data Siswa'!B38 -> 0 | C38: ='Data Siswa'!C38 -> 0 | AO38: =SUM(D38:AN38) -> 0 | AP38: =AVERAGE(D38:AN38) -> #DIV/0!
A39: ='Data Siswa'!A39 -> 38 | B39: ='Data Siswa'!B39 -> 0 | C39: ='Data Siswa'!C39 -> 0 | AO39: =SUM(D39:AN39) -> 0 | AP39: =AVERAGE(D39:AN39) -> #DIV/0!
A40: ='Data Siswa'!A40 -> 39 | B40: ='Data Siswa'!B40 -> 0 | C40: ='Data Siswa'!C40 -> 0 | AO40: =SUM(D40:AN40) -> 0 | AP40: =AVERAGE(D40:AN40) -> #DIV/0!
A41: ='Data Siswa'!A41 -> 40 | B41: ='Data Siswa'!B41 -> 0 | C41: ='Data Siswa'!C41 -> 0 | AO41: =SUM(D41:AN41) -> 0 | AP41: =AVERAGE(D41:AN41) -> #DIV/0!

Sheet Nilai Syafahi
A1: Biodata | D1: Nilai Ujian Syafahi | X1: Nilai Keseluruhan | AA1: Keterangan
A2: No | B2: Nama Lengkap | C2: No Ujian | D2: اللغة العربية | J2: اللغة الانجليزية | O2: المواد الفقهية | U2: الجملة | V2: Rata-Rata | X2: الجملة العام | Y2: Rata-Rata | Z2: مستوي التفوق | AA2: الملاحظة
D3: الانشاء | E3: النحو | F3: الصرف | G3: المطالعة | H3: النصوص الأدبية | I3: المحادثة العربية | J3: Conversation | K3: Grammar | L3: Structure | M3: Reading | N3: Vocabularies | O3: قراءة القرآن | P3: حفظ القرآن | Q3: الفقه | R3: اصول الفقه | S3: آيات الأحكام | T3: الأدعيه اليومية
A4: ='Data Siswa'!A2 -> 1 | B4: ='Data Siswa'!B2 -> ADELIA | C4: ='Data Siswa'!C2 -> 1303 | D4: 6 | E4: 7 | F4: 5.5 | G4: 5.5 | H4: 5 | J4: 6.5 | K4: 6 | L4: 6 | M4: 6 | N4: 6 | O4: 4.5 | P4: 4.5 | Q4: 5 | R4: 6 | S4: 5 | U4: =SUM(D4:T4) -> 84.5 | V4: =AVERAGE(D4:T4) -> 5.6333333 | X4: =SUM('Nilai Tahriri'!AO2,'Nilai Syafahi'!U4) -> 295.9 | Y4: =AVERAGE(D4:T4,'Nilai Tahriri'!D2:AN2) -> 6.1645833 | Z4: {=SUM(IF(X4<OFFSET($X$4,0,0,COUNT(X:X),1),1/COUNTIF(OFFSET($X$4,0,0,COUNT(X:X),1),OFFSET($X$4,0,0,COUNT(X:X),1))))+1} -> 8 | AA4: -
A5: ='Data Siswa'!A3 -> 2 | B5: ='Data Siswa'!B3 -> ALIYA | C5: ='Data Siswa'!C3 -> 1304 | D5: 6 | E5: 5 | F5: 4 | G5: 6 | H5: 5 | J5: 7.5 | K5: 6 | L5: 6 | M5: 6 | N5: 6.5 | O5: 4.5 | P5: 5 | Q5: 4 | R5: 5 | S5: 5 | U5: =SUM(D5:T5) -> 81.5 | V5: =AVERAGE(D5:T5) -> 5.4333333 | X5: =SUM('Nilai Tahriri'!AO3,'Nilai Syafahi'!U5) -> 286.2 | Y5: =AVERAGE(D5:T5,'Nilai Tahriri'!D3:AN3) -> 5.9625 | Z5: {=SUM(IF(X5<OFFSET($X$4,0,0,COUNT(X:X),1),1/COUNTIF(OFFSET($X$4,0,0,COUNT(X:X),1),OFFSET($X$4,0,0,COUNT(X:X),1))))+1} -> 13 | AA5: -
A6: ='Data Siswa'!A4 -> 3 | B6: ='Data Siswa'!B4 -> ANGGITA JULIA | C6: ='Data Siswa'!C4 -> 1305 | D6: 6 | E6: 7 | F6: 5.5 | G6: 5.5 | H6: 7 | J6: 7.5 | K6: 6 | L6: 6 | M6: 6.5 | N6: 6 | O6: 7 | P6: 6 | Q6: 4 | R6: 6 | S6: 7 | U6: =SUM(D6:T6) -> 93 | V6: =AVERAGE(D6:T6) -> 6.2 | X6: =SUM('Nilai Tahriri'!AO4,'Nilai Syafahi'!U6) -> 306.4 | Y6: =AVERAGE(D6:T6,'Nilai Tahriri'!D4:AN4) -> 6.3833333 | Z6: {=SUM(IF(X6<OFFSET($X$4,0,0,COUNT(X:X),1),1/COUNTIF(OFFSET($X$4,0,0,COUNT(X:X),1),OFFSET($X$4,0,0,COUNT(X:X),1))))+1} -> 1 | AA6: -
A7: ='Data Siswa'!A5 -> 4 | B7: ='Data Siswa'!B5 -> ANISA NURSAFITRI | C7: ='Data Siswa'!C5 -> 1306 | D7: 5.5 | E7: 5.5 | F7: 4 | G7: 5 | H7: 6 | J7: 7 | K7: 6 | L7: 6 | M7: 6 | N7: 6 | O7: 4.5 | P7: 4 | Q7: 4.5 | R7: 6 | S7: 6 | U7: =SUM(D7:T7) -> 82 | V7: =AVERAGE(D7:T7) -> 5.4666667 | X7: =SUM('Nilai Tahriri'!AO5,'Nilai Syafahi'!U7) -> 281.7 | Y7: =AVERAGE(D7:T7,'Nilai Tahriri'!D5:AN5) -> 5.86875 | Z7: {=SUM(IF(X7<OFFSET($X$4,0,0,COUNT(X:X),1),1/COUNTIF(OFFSET($X$4,0,0,COUNT(X:X),1),OFFSET($X$4,0,0,COUNT(X:X),1))))+1} -> 20 | AA7: -
A8: ='Data Siswa'!A6 -> 5 | B8: ='Data Siswa'!B6 -> ANNISA AULIA PRATIWI | C8: ='Data Siswa'!C6 -> 1307 | D8: 5.5 | E8: 5.5 | F8: 4 | G8: 6 | H8: 6 | J8: 7 | K8: 6 | L8: 6 | M8: 5 | N8: 6 | O8: 4.5 | P8: 4.5 | Q8: 4 | R8: 5 | S8: 6 | U8: =SUM(D8:T8) -> 81 | V8: =AVERAGE(D8:T8) -> 5.4 | X8: =SUM('Nilai Tahriri'!AO6,'Nilai Syafahi'!U8) -> 282.4 | Y8: =AVERAGE(D8:T8,'Nilai Tahriri'!D6:AN6) -> 5.8833333 | Z8: {=SUM(IF(X8<OFFSET($X$4,0,0,COUNT(X:X),1),1/COUNTIF(OFFSET($X$4,0,0,COUNT(X:X),1),OFFSET($X$4,0,0,COUNT(X:X),1))))+1} -> 19 | AA8: -
A9: ='Data Siswa'!A7 -> 6 | B9: ='Data Siswa'!B7 -> CHELSY AULIA | C9: ='Data Siswa'!C7 -> 1308 | D9: 5 | E9: 7 | F9: 4 | G9: 5 | H9: 6 | J9: 7 | K9: 6 | L9: 6 | M9: 6 | N9: 6 | O9: 4 | P9: 4 | Q9: 4 | R9: 4 | S9: 6 | U9: =SUM(D9:T9) -> 80 | V9: =AVERAGE(D9:T9) -> 5.3333333 | X9: =SUM('Nilai Tahriri'!AO7,'Nilai Syafahi'!U9) -> 281.6 | Y9: =AVERAGE(D9:T9,'Nilai Tahriri'!D7:AN7) -> 5.8666667 | Z9: {=SUM(IF(X9<OFFSET($X$4,0,0,COUNT(X:X),1),1/COUNTIF(OFFSET($X$4,0,0,COUNT(X:X),1),OFFSET($X$4,0,0,COUNT(X:X),1))))+1} -> 21 | AA9: -
A10: ='Data Siswa'!A8 -> 7 | B10: ='Data Siswa'!B8 -> DALIA SHINTA CHALISA | C10: ='Data Siswa'!C8 -> 1309 | D10: 6 | E10: 7 | F10: 4 | G10: 5.5 | H10: 6 | J10: 7.5 | K10: 6 | L10: 6 | M10: 6.5 | N10: 6.5 | O10: 6 | P10: 5 | Q10: 4.5 | R10: 6 | S10: 6 | U10: =SUM(D10:T10) -> 88.5 | V10: =AVERAGE(D10:T10) -> 5.9 | X10: =SUM('Nilai Tahriri'!AO8,'Nilai Syafahi'!U10) -> 299.5 | Y10: =AVERAGE(D10:T10,'Nilai Tahriri'!D8:AN8) -> 6.2395833 | Z10: {=SUM(IF(X10<OFFSET($X$4,0,0,COUNT(X:X),1),1/COUNTIF(OFFSET($X$4,0,0,COUNT(X:X),1),OFFSET($X$4,0,0,COUNT(X:X),1))))+1} -> 4 | AA10: -
A11: ='Data Siswa'!A9 -> 8 | B11: ='Data Siswa'!B9 -> DEA PUSPITA | C11: ='Data Siswa'!C9 -> 1310 | D11: 5 | E11: 6.5 | F11: 4 | G11: 5 | H11: 5 | J11: 7 | K11: 6 | L11: 6 | M11: 5 | N11: 6.5 | O11: 4 | P11: 4 | Q11: 4 | R11: 5 | S11: 5 | U11: =SUM(D11:T11) -> 78 | V11: =AVERAGE(D11:T11) -> 5.2 | X11: =SUM('Nilai Tahriri'!AO9,'Nilai Syafahi'!U11) -> 280.5 | Y11: =AVERAGE(D11:T11,'Nilai Tahriri'!D9:AN9) -> 5.84375 | Z11: {=SUM(IF(X11<OFFSET($X$4,0,0,COUNT(X:X),1),1/COUNTIF(OFFSET($X$4,0,0,COUNT(X:X),1),OFFSET($X$4,0,0,COUNT(X:X),1))))+1} -> 22 | AA11: -
A12: ='Data Siswa'!A10 -> 9 | B12: ='Data Siswa'!B10 -> DEVA ARINDI PUTRI | C12: ='Data Siswa'!C10 -> 1311 | D12: 6 | E12: 6.5 | F12: 4 | G12: 6 | H12: 5 | J12: 6.5 | K12: 5 | L12: 5 | M12: 6 | N12: 6 | O12: 5 | P12: 5 | Q12: 4.5 | R12: 5 | S12: 5 | U12: =SUM(D12:T12) -> 80.5 | V12: =AVERAGE(D12:T12) -> 5.3666667 | X12: =SUM('Nilai Tahriri'!AO10,'Nilai Syafahi'!U12) -> 285.3 | Y12: =AVERAGE(D12:T12,'Nilai Tahriri'!D10:AN10) -> 5.94375 | Z12: {=SUM(IF(X12<OFFSET($X$4,0,0,COUNT(X:X),1),1/COUNTIF(OFFSET($X$4,0,0,COUNT(X:X),1),OFFSET($X$4,0,0,COUNT(X:X),1))))+1} -> 14 | AA12: -
A13: ='Data Siswa'!A11 -> 10 | B13: ='Data Siswa'!B11 -> DEWI ALLAWIYAH | C13: ='Data Siswa'!C11 -> 1312 | D13: 5.5 | E13: 7 | F13: 4 | G13: 5 | H13: 5 | J13: 7 | K13: 6 | L13: 6 | M13: 6 | N13: 6 | O13: 4 | P13: 4 | Q13: 6 | R13: 5 | S13: 5 | U13: =SUM(D13:T13) -> 81.5 | V13: =AVERAGE(D13:T13) -> 5.4333333 | X13: =SUM('Nilai Tahriri'!AO11,'Nilai Syafahi'!U13) -> 294.5 | Y13: =AVERAGE(D13:T13,'Nilai Tahriri'!D11:AN11) -> 6.1354167 | Z13: {=SUM(IF(X13<OFFSET($X$4,0,0,COUNT(X:X),1),1/COUNTIF(OFFSET($X$4,0,0,COUNT(X:X),1),OFFSET($X$4,0,0,COUNT(X:X),1))))+1} -> 9 | AA13: -
A14: ='Data Siswa'!A12 -> 11 | B14: ='Data Siswa'!B12 -> DINDA LUTFIAH SYAWAL | C14: ='Data Siswa'!C12 -> 1313 | D14: 5.5 | E14: 7 | F14: 4 | G14: 5.5 | H14: 5 | J14: 7 | K14: 5 | L14: 5 | M14: 6 | N14: 6 | Q14: 4.5 | R14: 4 | S14: 5 | U14: =SUM(D14:T14) -> 69.5 | V14: =AVERAGE(D14:T14) -> 5.3461538 | X14: =SUM('Nilai Tahriri'!AO12,'Nilai Syafahi'!U14) -> 275.9 | Y14: =AVERAGE(D14:T14,'Nilai Tahriri'!D12:AN12) -> 5.9978261 | Z14: {=SUM(IF(X14<OFFSET($X$4,0,0,COUNT(X:X),1),1/COUNTIF(OFFSET($X$4,0,0,COUNT(X:X),1),OFFSET($X$4,0,0,COUNT(X:X),1))))+1} -> 25 | AA14: -
A15: ='Data Siswa'!A13 -> 12 | B15: ='Data Siswa'!B13 -> ELSA APRILIA MUFTI | C15: ='Data Siswa'!C13 -> 1314 | D15: 5.5 | E15: 7 | F15: 5 | G15: 5 | H15: 5 | J15: 7 | K15: 6 | L15: 6 | M15: 6 | N15: 6 | O15: 6.5 | P15: 7 | Q15: 4.5 | R15: 4 | S15: 5 | U15: =SUM(D15:T15) -> 85.5 | V15: =AVERAGE(D15:T15) -> 5.7 | X15: =SUM('Nilai Tahriri'!AO13,'Nilai Syafahi'!U15) -> 284.2 | Y15: =AVERAGE(D15:T15,'Nilai Tahriri'!D13:AN13) -> 5.9208333 | Z15: {=SUM(IF(X15<OFFSET($X$4,0,0,COUNT(X:X),1),1/COUNTIF(OFFSET($X$4,0,0,COUNT(X:X),1),OFFSET($X$4,0,0,COUNT(X:X),1))))+1} -> 15 | AA15: -
A16: ='Data Siswa'!A14 -> 13 | B16: ='Data Siswa'!B14 -> ESIH | C16: ='Data Siswa'!C14 -> 1315 | D16: 6 | E16: 6.5 | F16: 5 | G16: 5.5 | H16: 5 | J16: 7 | K16: 6 | L16: 6 | M16: 6 | N16: 6 | O16: 6.5 | P16: 7 | Q16: 4 | R16: 5 | S16: 5 | U16: =SUM(D16:T16) -> 86.5 | V16: =AVERAGE(D16:T16) -> 5.7666667 | X16: =SUM('Nilai Tahriri'!AO14,'Nilai Syafahi'!U16) -> 282.6 | Y16: =AVERAGE(D16:T16,'Nilai Tahriri'!D14:AN14) -> 6.012766 | Z16: {=SUM(IF(X16<OFFSET($X$4,0,0,COUNT(X:X),1),1/COUNTIF(OFFSET($X$4,0,0,COUNT(X:X),1),OFFSET($X$4,0,0,COUNT(X:X),1))))+1} -> 18 | AA16: -
A17: ='Data Siswa'!A15 -> 14 | B17: ='Data Siswa'!B15 -> KASIH AZZAHRA | C17: ='Data Siswa'!C15 -> 1316 | D17: 6 | E17: 6.5 | F17: 5 | G17: 6 | H17: 5 | J17: 8 | K17: 6 | L17: 6 | M17: 7 | N17: 7 | O17: 4 | P17: 4 | Q17: 4 | R17: 5 | S17: 5 | U17: =SUM(D17:T17) -> 84.5 | V17: =AVERAGE(D17:T17) -> 5.6333333 | X17: =SUM('Nilai Tahriri'!AO15,'Nilai Syafahi'!U17) -> 297.2 | Y17: =AVERAGE(D17:T17,'Nilai Tahriri'!D15:AN15) -> 6.1916667 | Z17: {=SUM(IF(X17<OFFSET($X$4,0,0,COUNT(X:X),1),1/COUNTIF(OFFSET($X$4,0,0,COUNT(X:X),1),OFFSET($X$4,0,0,COUNT(X:X),1))))+1} -> 5 | AA17: -
A18: ='Data Siswa'!A16 -> 15 | B18: ='Data Siswa'!B16 -> LUSIANA | C18: ='Data Siswa'!C16 -> 1317 | D18: 6 | E18: 7 | F18: 5 | G18: 6 | H18: 5 | J18: 8 | K18: 6.5 | L18: 6.5 | M18: 7.5 | N18: 6.5 | O18: 4.5 | P18: 5 | Q18: 4 | R18: 4 | S18: 5 | U18: =SUM(D18:T18) -> 86.5 | V18: =AVERAGE(D18:T18) -> 5.7666667 | X18: =SUM('Nilai Tahriri'!AO16,'Nilai Syafahi'!U18) -> 295.9 | Y18: =AVERAGE(D18:T18,'Nilai Tahriri'!D16:AN16) -> 6.1645833 | Z18: {=SUM(IF(X18<OFFSET($X$4,0,0,COUNT(X:X),1),1/COUNTIF(OFFSET($X$4,0,0,COUNT(X:X),1),OFFSET($X$4,0,0,COUNT(X:X),1))))+1} -> 8 | AA18: -
A19: ='Data Siswa'!A17 -> 16 | B19: ='Data Siswa'!B17 -> MARSYA | C19: ='Data Siswa'!C17 -> 1318 | D19: 5.5 | E19: 6.5 | F19: 5 | G19: 6 | H19: 5 | J19: 6 | K19: 5 | L19: 5 | M19: 5 | N19: 5 | O19: 4.5 | P19: 4 | Q19: 5 | R19: 4.5 | S19: 5 | U19: =SUM(D19:T19) -> 77 | V19: =AVERAGE(D19:T19) -> 5.1333333 | X19: =SUM('Nilai Tahriri'!AO17,'Nilai Syafahi'!U19) -> 279.8 | Y19: =AVERAGE(D19:T19,'Nilai Tahriri'!D17:AN17) -> 5.8291667 | Z19: {=SUM(IF(X19<OFFSET($X$4,0,0,COUNT(X:X),1),1/COUNTIF(OFFSET($X$4,0,0,COUNT(X:X),1),OFFSET($X$4,0,0,COUNT(X:X),1))))+1} -> 23 | AA19: -
A20: ='Data Siswa'!A18 -> 17 | B20: ='Data Siswa'!B18 -> NAJMA NISA FATIHA | C20: ='Data Siswa'!C18 -> 1319 | D20: 5 | E20: 6.5 | F20: 5 | G20: 5 | H20: 5 | J20: 7 | K20: 6 | L20: 6 | M20: 5 | N20: 6 | O20: 5 | P20: 5 | Q20: 4 | R20: 4.5 | S20: 5 | U20: =SUM(D20:T20) -> 80 | V20: =AVERAGE(D20:T20) -> 5.3333333 | X20: =SUM('Nilai Tahriri'!AO18,'Nilai Syafahi'!U20) -> 283.9 | Y20: =AVERAGE(D20:T20,'Nilai Tahriri'!D18:AN18) -> 5.9145833 | Z20: {=SUM(IF(X20<OFFSET($X$4,0,0,COUNT(X:X),1),1/COUNTIF(OFFSET($X$4,0,0,COUNT(X:X),1),OFFSET($X$4,0,0,COUNT(X:X),1))))+1} -> 17 | AA20: -
A21: ='Data Siswa'!A19 -> 18 | B21: ='Data Siswa'!B19 -> NALLA BERLIANA PUTRIA FAUZI | C21: ='Data Siswa'!C19 -> 1320 | D21: 5.5 | E21: 5.5 | F21: 4 | G21: 5.5 | H21: 5 | J21: 7 | K21: 6 | L21: 6 | M21: 6 | N21: 6 | O21: 4 | P21: 5 | Q21: 4.5 | R21: 5.5 | S21: 5 | U21: =SUM(D21:T21) -> 80.5 | V21: =AVERAGE(D21:T21) -> 5.3666667 | X21: =SUM('Nilai Tahriri'!AO19,'Nilai Syafahi'!U21) -> 287.7 | Y21: =AVERAGE(D21:T21,'Nilai Tahriri'!D19:AN19) -> 5.99375 | Z21: {=SUM(IF(X21<OFFSET($X$4,0,0,COUNT(X:X),1),1/COUNTIF(OFFSET($X$4,0,0,COUNT(X:X),1),OFFSET($X$4,0,0,COUNT(X:X),1))))+1} -> 12 | AA21: -
A22: ='Data Siswa'!A20 -> 19 | B22: ='Data Siswa'!B20 -> NASYWA NAFIAH KHOIRONI | C22: ='Data Siswa'!C20 -> 1321 | D22: 5 | E22: 6 | F22: 4.5 | G22: 5 | H22: 6 | J22: 6.5 | K22: 5 | L22: 5 | M22: 6 | N22: 6 | O22: 7.5 | P22: 7 | Q22: 5.5 | R22: 4 | S22: 6 | U22: =SUM(D22:T22) -> 85 | V22: =AVERAGE(D22:T22) -> 5.6666667 | X22: =SUM('Nilai Tahriri'!AO20,'Nilai Syafahi'!U22) -> 284 | Y22: =AVERAGE(D22:T22,'Nilai Tahriri'!D20:AN20) -> 5.9166667 | Z22: {=SUM(IF(X22<OFFSET($X$4,0,0,COUNT(X:X),1),1/COUNTIF(OFFSET($X$4,0,0,COUNT(X:X),1),OFFSET($X$4,0,0,COUNT(X:X),1))))+1} -> 16 | AA22: -
A23: ='Data Siswa'!A21 -> 20 | B23: ='Data Siswa'!B21 -> NAZWA RIDHO TUNISA | C23: ='Data Siswa'!C21 -> 1322 | D23: 6 | E23: 6.5 | F23: 5 | G23: 6 | H23: 6 | J23: 6.5 | K23: 5 | L23: 5 | M23: 6 | N23: 6 | O23: 6 | P23: 6 | Q23: 4 | R23: 4 | S23: 6 | U23: =SUM(D23:T23) -> 84 | V23: =AVERAGE(D23:T23) -> 5.6 | X23: =SUM('Nilai Tahriri'!AO21,'Nilai Syafahi'!U23) -> 292.4 | Y23: =AVERAGE(D23:T23,'Nilai Tahriri'!D21:AN21) -> 6.0916667 | Z23: {=SUM(IF(X23<OFFSET($X$4,0,0,COUNT(X:X),1),1/COUNTIF(OFFSET($X$4,0,0,COUNT(X:X),1),OFFSET($X$4,0,0,COUNT(X:X),1))))+1} -> 11 | AA23: -
A24: ='Data Siswa'!A22 -> 21 | B24: ='Data Siswa'!B22 -> NIHAYATUS SHOLIHAH | C24: ='Data Siswa'!C22 -> 1323 | D24: 5.5 | E24: 6 | F24: 4 | G24: 5 | H24: 7 | J24: 7 | K24: 6 | L24: 6 | M24: 6.5 | N24: 6 | O24: 7.5 | P24: 7.5 | Q24: 4.5 | R24: 4 | S24: 7 | U24: =SUM(D24:T24) -> 89.5 | V24: =AVERAGE(D24:T24) -> 5.9666667 | X24: =SUM('Nilai Tahriri'!AO22,'Nilai Syafahi'!U24) -> 297.1 | Y24: =AVERAGE(D24:T24,'Nilai Tahriri'!D22:AN22) -> 6.1895833 | Z24: {=SUM(IF(X24<OFFSET($X$4,0,0,COUNT(X:X),1),1/COUNTIF(OFFSET($X$4,0,0,COUNT(X:X),1),OFFSET($X$4,0,0,COUNT(X:X),1))))+1} -> 6 | AA24: -
A25: ='Data Siswa'!A23 -> 22 | B25: ='Data Siswa'!B23 -> NOVI DAIPAH | C25: ='Data Siswa'!C23 -> 1324 | D25: 5 | E25: 6 | F25: 4 | G25: 5 | H25: 7 | J25: 6 | K25: 6 | L25: 6 | M25: 5 | N25: 6 | O25: 6.5 | P25: 7 | Q25: 5 | R25: 4 | S25: 7 | U25: =SUM(D25:T25) -> 85.5 | V25: =AVERAGE(D25:T25) -> 5.7 | X25: =SUM('Nilai Tahriri'!AO23,'Nilai Syafahi'!U25) -> 296.5 | Y25: =AVERAGE(D25:T25,'Nilai Tahriri'!D23:AN23) -> 6.1770833 | Z25: {=SUM(IF(X25<OFFSET($X$4,0,0,COUNT(X:X),1),1/COUNTIF(OFFSET($X$4,0,0,COUNT(X:X),1),OFFSET($X$4,0,0,COUNT(X:X),1))))+1} -> 7 | AA25: -
A26: ='Data Siswa'!A24 -> 23 | B26: ='Data Siswa'!B24 -> NURUL AIDAH | C26: ='Data Siswa'!C24 -> 1325 | D26: 6 | E26: 6.5 | F26: 4 | G26: 5 | H26: 5 | J26: 6.5 | K26: 5 | L26: 5 | M26: 6 | N26: 6 | O26: 4 | P26: 4 | Q26: 5 | R26: 4 | S26: 5 | U26: =SUM(D26:T26) -> 77 | V26: =AVERAGE(D26:T26) -> 5.1333333 | X26: =SUM('Nilai Tahriri'!AO24,'Nilai Syafahi'!U26) -> 267.7 | Y26: =AVERAGE(D26:T26,'Nilai Tahriri'!D24:AN24) -> 5.5770833 | Z26: {=SUM(IF(X26<OFFSET($X$4,0,0,COUNT(X:X),1),1/COUNTIF(OFFSET($X$4,0,0,COUNT(X:X),1),OFFSET($X$4,0,0,COUNT(X:X),1))))+1} -> 29 | AA26: -
... A36: ='Data Siswa'!A34 -> 33 | B36: ='Data Siswa'!B34 -> YAYAH SA'DIYAH | C36: ='Data Siswa'!C34 -> 1335 | D36: 6 | E36: 6 | F36: 4 | G36: 6 | H36: 5 | J36: 6 | K36: 5 | L36: 5 | M36: 5 | N36: 6 | O36: 4.5 | P36: 4 | Q36: 4 | R36: 4 | S36: 5 | U36: =SUM(D36:T36) -> 75.5 | V36: =AVERAGE(D36:T36) -> 5.0333333 | X36: =SUM('Nilai Tahriri'!AO34,'Nilai Syafahi'!U36) -> 236 | Y36: =AVERAGE(D36:T36,'Nilai Tahriri'!D34:AN34) -> 5.4883721 | Z36: {=SUM(IF(X36<OFFSET($X$4,0,0,COUNT(X:X),1),1/COUNTIF(OFFSET($X$4,0,0,COUNT(X:X),1),OFFSET($X$4,0,0,COUNT(X:X),1))))+1} -> 31 | AA36: -
A37: ='Data Siswa'!A35 -> 34 | B37: ='Data Siswa'!B35 -> 0 | C37: ='Data Siswa'!C35 -> 0 | U37: =SUM(D37:T37) -> 0 | V37: =AVERAGE(D37:T37) -> #DIV/0! | X37: =SUM('Nilai Tahriri'!AO35,'Nilai Syafahi'!U37) -> 0 | Y37: =AVERAGE(D37:T37,'Nilai Tahriri'!D35:AN35) -> #DIV/0! | Z37: {=SUM(IF(X37<OFFSET($X$4,0,0,COUNT(X:X),1),1/COUNTIF(OFFSET($X$4,0,0,COUNT(X:X),1),OFFSET($X$4,0,0,COUNT(X:X),1))))+1} -> 33 | AA37: -
A38: ='Data Siswa'!A36 -> 35 | B38: ='Data Siswa'!B36 -> 0 | C38: ='Data Siswa'!C36 -> 0 | U38: =SUM(D38:T38) -> 0 | V38: =AVERAGE(D38:T38) -> #DIV/0! | X38: =SUM('Nilai Tahriri'!AO36,'Nilai Syafahi'!U38) -> 0 | Y38: =AVERAGE(D38:T38,'Nilai Tahriri'!D36:AN36) -> #DIV/0! | Z38: {=SUM(IF(X38<OFFSET($X$4,0,0,COUNT(X:X),1),1/COUNTIF(OFFSET($X$4,0,0,COUNT(X:X),1),OFFSET($X$4,0,0,COUNT(X:X),1))))+1} -> 33 | AA38: -
A39: ='Data Siswa'!A37 -> 36 | B39: ='Data Siswa'!B37 -> 0 | C39: ='Data Siswa'!C37 -> 0 | U39: =SUM(D39:T39) -> 0 | V39: =AVERAGE(D39:T39) -> #DIV/0! | X39: =SUM('Nilai Tahriri'!AO37,'Nilai Syafahi'!U39) -> 0 | Y39: =AVERAGE(D39:T39,'Nilai Tahriri'!D37:AN37) -> #DIV/0! | Z39: {=SUM(IF(X39<OFFSET($X$4,0,0,COUNT(X:X),1),1/COUNTIF(OFFSET($X$4,0,0,COUNT(X:X),1),OFFSET($X$4,0,0,COUNT(X:X),1))))+1} -> 33 | AA39: -
A40: ='Data Siswa'!A38 -> 37 | B40: ='Data Siswa'!B38 -> 0 | C40: ='Data Siswa'!C38 -> 0 | U40: =SUM(D40:T40) -> 0 | V40: =AVERAGE(D40:T40) -> #DIV/0! | X40: =SUM('Nilai Tahriri'!AO38,'Nilai Syafahi'!U40) -> 0 | Y40: =AVERAGE(D40:T40,'Nilai Tahriri'!D38:AN38) -> #DIV/0! | Z40: {=SUM(IF(X40<OFFSET($X$4,0,0,COUNT(X:X),1),1/COUNTIF(OFFSET($X$4,0,0,COUNT(X:X),1),OFFSET($X$4,0,0,COUNT(X:X),1))))+1} -> 33 | AA40: -
A41: ='Data Siswa'!A39 -> 38 | B41: ='Data Siswa'!B39 -> 0 | C41: ='Data Siswa'!C39 -> 0 | U41: =SUM(D41:T41) -> 0 | V41: =AVERAGE(D41:T41) -> #DIV/0! | X41: =SUM('Nilai Tahriri'!AO39,'Nilai Syafahi'!U41) -> 0 | Y41: =AVERAGE(D41:T41,'Nilai Tahriri'!D39:AN39) -> #DIV/0! | Z41: {=SUM(IF(X41<OFFSET($X$4,0,0,COUNT(X:X),1),1/COUNTIF(OFFSET($X$4,0,0,COUNT(X:X),1),OFFSET($X$4,0,0,COUNT(X:X),1))))+1} -> 33 | AA41: -
A42: ='Data Siswa'!A40 -> 39 | B42: ='Data Siswa'!B40 -> 0 | C42: ='Data Siswa'!C40 -> 0 | U42: =SUM(D42:T42) -> 0 | V42: =AVERAGE(D42:T42) -> #DIV/0! | X42: =SUM('Nilai Tahriri'!AO40,'Nilai Syafahi'!U42) -> 0 | Y42: =AVERAGE(D42:T42,'Nilai Tahriri'!D40:AN40) -> #DIV/0! | Z42: {=SUM(IF(X42<OFFSET($X$4,0,0,COUNT(X:X),1),1/COUNTIF(OFFSET($X$4,0,0,COUNT(X:X),1),OFFSET($X$4,0,0,COUNT(X:X),1))))+1} -> 33 | AA42: -
A43: ='Data Siswa'!A41 -> 40 | B43: ='Data Siswa'!B41 -> 0 | C43: ='Data Siswa'!C41 -> 0 | U43: =SUM(D43:T43) -> 0 | V43: =AVERAGE(D43:T43) -> #DIV/0! | X43: =SUM('Nilai Tahriri'!AO41,'Nilai Syafahi'!U43) -> 0 | Y43: =AVERAGE(D43:T43,'Nilai Tahriri'!D41:AN41) -> #DIV/0! | Z43: {=SUM(IF(X43<OFFSET($X$4,0,0,COUNT(X:X),1),1/COUNTIF(OFFSET($X$4,0,0,COUNT(X:X),1),OFFSET($X$4,0,0,COUNT(X:X),1))))+1} -> 33 | AA43: -

Sheet Akhlak
A1: Biodata | D1: Akhlak | J1: Catatan Wali Kelas Untuk Siswa
A2: No | B2: Nama Lengkap | C2: No Ujian | D2: البيان | G2: ايام الغيابة
D3: النظافة | E3: السلوك | F3: المواظبة | G3: لمرض | H3: لاستئذان | I3: لآخر | J3: النقد
A4: ='Data Siswa'!A2 -> 1 | B4: ='Data Siswa'!B2 -> ADELIA | C4: ='Data Siswa'!C2 -> 1303 | D4: 8 | E4: 8 | F4: 8 | J4: -
A5: ='Data Siswa'!A3 -> 2 | B5: ='Data Siswa'!B3 -> ALIYA | C5: ='Data Siswa'!C3 -> 1304 | D5: 8 | E5: 8 | F5: 8 | J5: -
A6: ='Data Siswa'!A4 -> 3 | B6: ='Data Siswa'!B4 -> ANGGITA JULIA | C6: ='Data Siswa'!C4 -> 1305 | D6: 8 | E6: 8 | F6: 8 | J6: -
A7: ='Data Siswa'!A5 -> 4 | B7: ='Data Siswa'!B5 -> ANISA NURSAFITRI | C7: ='Data Siswa'!C5 -> 1306 | D7: 8 | E7: 8 | F7: 8 | J7: -
A8: ='Data Siswa'!A6 -> 5 | B8: ='Data Siswa'!B6 -> ANNISA AULIA PRATIWI | C8: ='Data Siswa'!C6 -> 1307 | D8: 8 | E8: 8 | F8: 8 | J8: -
A9: ='Data Siswa'!A7 -> 6 | B9: ='Data Siswa'!B7 -> CHELSY AULIA | C9: ='Data Siswa'!C7 -> 1308 | D9: 8 | E9: 8 | F9: 8 | J9: -
A10: ='Data Siswa'!A8 -> 7 | B10: ='Data Siswa'!B8 -> DALIA SHINTA CHALISA | C10: ='Data Siswa'!C8 -> 1309 | D10: 8 | E10: 8 | F10: 8 | J10: -
A11: ='Data Siswa'!A9 -> 8 | B11: ='Data Siswa'!B9 -> DEA PUSPITA | C11: ='Data Siswa'!C9 -> 1310 | D11: 8 | E11: 8 | F11: 8 | J11: -
A12: ='Data Siswa'!A10 -> 9 | B12: ='Data Siswa'!B10 -> DEVA ARINDI PUTRI | C12: ='Data Siswa'!C10 -> 1311 | D12: 8 | E12: 8 | F12: 8 | J12: -
A13: ='Data Siswa'!A11 -> 10 | B13: ='Data Siswa'!B11 -> DEWI ALLAWIYAH | C13: ='Data Siswa'!C11 -> 1312 | D13: 8 | E13: 8 | F13: 8 | J13: -
A14: ='Data Siswa'!A12 -> 11 | B14: ='Data Siswa'!B12 -> DINDA LUTFIAH SYAWAL | C14: ='Data Siswa'!C12 -> 1313 | D14: 8 | E14: 8 | F14: 8 | J14: -
A15: ='Data Siswa'!A13 -> 12 | B15: ='Data Siswa'!B13 -> ELSA APRILIA MUFTI | C15: ='Data Siswa'!C13 -> 1314 | D15: 8 | E15: 8 | F15: 8 | J15: -
... A36: ='Data Siswa'!A34 -> 33 | B36: ='Data Siswa'!B34 -> YAYAH SA'DIYAH | C36: ='Data Siswa'!C34 -> 1335 | D36: 8 | E36: 8 | F36: 8 | J36: -
A37: ='Data Siswa'!A35 -> 34 | B37: ='Data Siswa'!B35 -> 0 | C37: ='Data Siswa'!C35 -> 0 | J37: -
A38: ='Data Siswa'!A36 -> 35 | B38: ='Data Siswa'!B36 -> 0 | C38: ='Data Siswa'!C36 -> 0 | J38: -
A39: ='Data Siswa'!A37 -> 36 | B39: ='Data Siswa'!B37 -> 0 | C39: ='Data Siswa'!C37 -> 0 | J39: -
A40: ='Data Siswa'!A38 -> 37 | B40: ='Data Siswa'!B38 -> 0 | C40: ='Data Siswa'!C38 -> 0 | J40: -
A41: ='Data Siswa'!A39 -> 38 | B41: ='Data Siswa'!B39 -> 0 | C41: ='Data Siswa'!C39 -> 0 | J41: -
A42: ='Data Siswa'!A40 -> 39 | B42: ='Data Siswa'!B40 -> 0 | C42: ='Data Siswa'!C40 -> 0 | J42: -
A43: ='Data Siswa'!A41 -> 40 | B43: ='Data Siswa'!B41 -> 0 | C43: ='Data Siswa'!C41 -> 0 | J43: -

Sheet Rapot
B2: =VLOOKUP($U$7,'Nilai Tahriri'!$A$2:$AO$41,2,FALSE) -> YAYAH SA'DIYAH
B3: =Biodata!$B$10 -> العام الدراسي : ١٤٤٤ - ١٤٤٥ ه \ ٢٠٢٣ - ٢٠٢٤ م | M3: =Biodata!$B$7 -> الفصل الدراسي : الأول | P3: =Biodata!$B$4 -> الصف : السادس ج للبنات
B5: الدرجة الكبرى ٨, الدرجة الصغرى ٤ | L5: مسـلسـل | M5: الدرجة الكبرى ٨, الدرجة الصغرى ٤ | R5: مسـلسـل
B6: الدرجة المكتسبة | G6: المواد الشفهية | M6: الدرجة المكتسبة | O6: المواد التحريرية | U6: HALAMAN
B7: كتابة | C7: رقم | M7: كتابة | N7: رقم | U7: 33
B8: اللغة العربية | M8: =VLOOKUP(N8,Sheet1!$A$1:$B$93,2) | P8: علم التجويد | R8: 1
B9: =VLOOKUP(C9,Sheet1!$A$1:$B$93,2) -> ستّ | C9: =VLOOKUP($U$7,'Nilai Syafahi'!$A$4:$AA$43,4,FALSE) -> 6 | G9: الإنشاء \ التعبير الشفهي | L9: 40 | M9: =VLOOKUP(N9,Sheet1!$A$1:$B$93,2) -> ستّ | N9: =VLOOKUP($U$7,'Nilai Tahriri'!$A$2:$AP$41,4,FALSE) -> 6 | P9: التفسير | R9: 2 | U9: Awal | V9: 1
B10: =VLOOKUP(C10,Sheet1!$A$1:$B$93,2) -> ستّ | C10: =VLOOKUP($U$7,'Nilai Syafahi'!$A$4:$AA$43,5,FALSE) -> 6 | K10: النحو | L10: 41 | M10: =VLOOKUP(N10,Sheet1!$A$1:$B$93,2) -> اربع و نصف | N10: =VLOOKUP($U$7,'Nilai Tahriri'!$A$2:$AP$41,5,FALSE) -> 4.5 | P10: الحديث | R10: 3
B11: =VLOOKUP(C11,Sheet1!$A$1:$B$93,2) -> اربع | C11: =VLOOKUP($U$7,'Nilai Syafahi'!$A$4:$AA$43,6,FALSE) -> 4 | K11: الصرف | L11: 42 | M11: =VLOOKUP(N11,Sheet1!$A$1:$B$93,2) -> اربع و نصف | N11: =VLOOKUP($U$7,'Nilai Tahriri'!$A$2:$AP$41,6,FALSE) -> 4.5 | P11: مصطلح الحديث | R11: 4 | U11: Akhir | V11: 33
B12: =VLOOKUP(C12,Sheet1!$A$1:$B$93,2) -> ستّ | C12: =VLOOKUP($U$7,'Nilai Syafahi'!$A$4:$AA$43,7,FALSE) -> 6 | K12: المطالعة | L12: 43 | M12: =VLOOKUP(N12,Sheet1!$A$1:$B$93,2) -> خمس | N12: =VLOOKUP($U$7,'Nilai Tahriri'!$A$2:$AP$41,7,FALSE) -> 5 | P12: الفقه | R12: 5
B13: =VLOOKUP(C13,Sheet1!$A$1:$B$93,2) -> خمس | C13: =VLOOKUP($U$7,'Nilai Syafahi'!$A$4:$AA$43,8,FALSE) -> 5 | K13: النصوص الأدبية | L13: 44 | M13: =VLOOKUP(N13,Sheet1!$A$1:$B$93,2) -> خمس | N13: =VLOOKUP($U$7,'Nilai Tahriri'!$A$2:$AP$41,8,FALSE) -> 5 | P13: أصول الفقه | R13: 6
B14: =VLOOKUP(C14,Sheet1!$A$1:$B$93,2) | C14: =VLOOKUP($U$7,'Nilai Syafahi'!$A$4:$AA$43,9,FALSE) -> 0 | K14: المحادثة العربية | L14: 45 | M14: =VLOOKUP(N14,Sheet1!$A$1:$B$93,2) | N14: =VLOOKUP($U$7,'Nilai Tahriri'!$A$2:$AP$41,9,FALSE) -> 0 | P14: علم الفرائض | R14: 7
B15: اللغة الإنجليزية | M15: =VLOOKUP(N15,Sheet1!$A$1:$B$93,2) -> اربع | N15: =VLOOKUP($U$7,'Nilai Tahriri'!$A$2:$AP$41,10,FALSE) -> 4 | P15: آيات الأحكام | R15: 8
B16: =VLOOKUP(C16,Sheet1!$A$1:$B$93,2) -> ستّ | C16: =VLOOKUP($U$7,'Nilai Syafahi'!$A$4:$AA$43,10,FALSE) -> 6 | G16: Conversation | L16: 46 | M16: =VLOOKUP(N16,Sheet1!$A$1:$B$93,2) -> اربع و نصف | N16: =VLOOKUP($U$7,'Nilai Tahriri'!$A$2:$AP$41,11,FALSE) -> 4.5 | P16: الديانة\الأديان | R16: 9
B17: =VLOOKUP(C17,Sheet1!$A$1:$B$93,2) -> خمس | C17: =VLOOKUP($U$7,'Nilai Syafahi'!$A$4:$AA$43,11,FALSE) -> 5 | G17: Grammer | H17: Grammer | I17: Grammer | J17: Grammer | K17: Grammer | L17: 47 | M17: =VLOOKUP(N17,Sheet1!$A$1:$B$93,2) -> اربع | N17: =VLOOKUP($U$7,'Nilai Tahriri'!$A$2:$AP$41,12,FALSE) -> 4 | P17: تاريخ التشريع الإسلامي | R17: 10
B18: =VLOOKUP(C18,Sheet1!$A$1:$B$93,2) -> خمس | C18: =VLOOKUP($U$7,'Nilai Syafahi'!$A$4:$AA$43,12,FALSE) -> 5 | G18: Structure | L18: 48 | M18: =VLOOKUP(N18,Sheet1!$A$1:$B$93,2) -> ثمان | N18: =VLOOKUP($U$7,'Nilai Tahriri'!$A$2:$AP$41,13,FALSE) -> 8 | P18: تاريخ الإسلام | R18: 11
B19: =VLOOKUP(C19,Sheet1!$A$1:$B$93,2) -> خمس | C19: =VLOOKUP($U$7,'Nilai Syafahi'!$A$4:$AA$43,13,FALSE) -> 5 | G19: Reading | L19: 49 | M19: =VLOOKUP(N19,Sheet1!$A$1:$B$93,2) -> خمس و نصف | N19: =VLOOKUP($U$7,'Nilai Tahriri'!$A$2:$AP$41,14,FALSE) -> 5.5 | P19: الإنشاء \ التعبير التحريري | R19: 12
B20: =VLOOKUP(C20,Sheet1!$A$1:$B$93,2) -> ستّ | C20: =VLOOKUP($U$7,'Nilai Syafahi'!$A$4:$AA$43,14,FALSE) -> 6 | G20: Vocabularies | L20: 50 | M20: =VLOOKUP(N20,Sheet1!$A$1:$B$93,2) -> خمس | N20: =VLOOKUP($U$7,'Nilai Tahriri'!$A$2:$AP$41,15,FALSE) -> 5 | P20: تمرين اللغة العربية | R20: 13
B21: المواد الفقهية | M21: =VLOOKUP(N21,Sheet1!$A$1:$B$93,2) -> ستّ | N21: =VLOOKUP($U$7,'Nilai Tahriri'!$A$2:$AP$41,16,FALSE) -> 6 | P21: المطالعة | R21: 14
B22: =VLOOKUP(C22,Sheet1!$A$1:$B$93,2) -> اربع و نصف | C22: =VLOOKUP($U$7,'Nilai Syafahi'!$A$4:$AA$43,15,FALSE) -> 4.5 | G22: قراءة القرآن | L22: 51 | M22: =VLOOKUP(N22,Sheet1!$A$1:$B$93,2) -> اربع | N22: =VLOOKUP($U$7,'Nilai Tahriri'!$A$2:$AP$41,17,FALSE) -> 4 | P22: النصوص الأدبية | R22: 15
B23: =VLOOKUP(C23,Sheet1!$A$1:$B$93,2) -> اربع | C23: =VLOOKUP($U$7,'Nilai Syafahi'!$A$4:$AA$43,16,FALSE) -> 4 | G23: حفط القرآن | L23: 52 | M23: =VLOOKUP(N23,Sheet1!$A$1:$B$93,2) | N23: =VLOOKUP($U$7,'Nilai Tahriri'!$A$2:$AP$41,18,FALSE) -> 0 | P23: النحو والتطبيق | R23: 16
B24: =VLOOKUP(C24,Sheet1!$A$1:$B$93,2) -> اربع | C24: =VLOOKUP($U$7,'Nilai Syafahi'!$A$4:$AA$43,17,FALSE) -> 4 | G24: الفقه | L24: 53 | M24: =VLOOKUP(N24,Sheet1!$A$1:$B$93,2) -> خمس و سبع | N24: =VLOOKUP($U$7,'Nilai Tahriri'!$A$2:$AP$41,19,FALSE) -> 5.7 | P24: الصرف والتطبيق | R24: 17
B25: =VLOOKUP(C25,Sheet1!$A$1:$B$93,2) -> اربع | C25: =VLOOKUP($U$7,'Nilai Syafahi'!$A$4:$AA$43,18,FALSE) -> 4 | G25: اصول الفقه | L25: 54 | M25: =VLOOKUP(N25,Sheet1!$A$1:$B$93,2) -> اربع | N25: =VLOOKUP($U$7,'Nilai Tahriri'!$A$2:$AP$41,20,FALSE) -> 4 | P25: البلاغة | R25: 18
B26: =VLOOKUP(C26,Sheet1!$A$1:$B$93,2) -> خمس | C26: =VLOOKUP($U$7,'Nilai Syafahi'!$A$4:$AA$43,19,FALSE) -> 5 | G26: آيات الأحكام | L26: 55 | M26: =VLOOKUP(N26,Sheet1!$A$1:$B$93,2) | N26: =VLOOKUP($U$7,'Nilai Tahriri'!$A$2:$AP$41,21,FALSE) -> 0 | P26: علم المنطق | R26: 19
B27: =VLOOKUP(C27,Sheet1!$A$1:$B$93,2) | C27: =VLOOKUP($U$7,'Nilai Syafahi'!$A$4:$AA$43,20,FALSE) -> 0 | G27: الأدعية اليومية | L27: 56 | M27: =VLOOKUP(N27,Sheet1!$A$1:$B$93,2) -> ست و نصف | N27: =VLOOKUP($U$7,'Nilai Tahriri'!$A$2:$AP$41,22,FALSE) -> 6.5 | P27: تا. أدب اللغة | R27: 20
B28: كتب التراث | M28: =VLOOKUP(N28,Sheet1!$A$1:$B$93,2) -> خمس | N28: =VLOOKUP($U$7,'Nilai Tahriri'!$A$2:$AP$41,23,FALSE) -> 5 | P28: الإملاء | R28: 21
G29: فتح القريب | L29: 57 | M29: =VLOOKUP(N29,Sheet1!$A$1:$B$93,2) -> خمس | N29: =VLOOKUP($U$7,'Nilai Tahriri'!$A$2:$AP$41,24,FALSE) -> 5 | P29: الخط العربي | R29: 22
B30: =VLOOKUP(C30,Sheet1!$A$1:$B$93,2) | G30: فتح المعين | L30: 58 | M30: =VLOOKUP(N30,Sheet1!$A$1:$B$93,2) | N30: =VLOOKUP($U$7,'Nilai Tahriri'!$A$2:$AP$41,25,FALSE) -> 0 | P30: التربية والتعليم | R30: 23
B31: =VLOOKUP(C31,Sheet1!$A$1:$B$93,2) | G31: العمريطي | L31: 59 | M31: =VLOOKUP(N31,Sheet1!$A$1:$B$93,2) | N31: =VLOOKUP($U$7,'Nilai Tahriri'!$A$2:$AP$41,26,FALSE) -> 0 | P31: التربية العملية | R31: 24
B32: =VLOOKUP(C32,Sheet1!$A$1:$B$93,2) | G32: الفية ابن مالك | L32: 60 | M32: =VLOOKUP(N32,Sheet1!$A$1:$B$93,2) -> سبع | N32: =VLOOKUP($U$7,'Nilai Tahriri'!$A$2:$AP$41,27,FALSE) -> 7 | P32: روح المعهد | R32: 25
B33: =VLOOKUP($U$7,'Nilai Syafahi'!$A$4:$AA$43,21,FALSE) -> 75.5 | K33: الجملة | M33: =VLOOKUP(N33,Sheet1!$A$1:$B$93,2) -> سبع | N33: =VLOOKUP($U$7,'Nilai Tahriri'!$A$2:$AP$41,28,FALSE) -> 7 | P33: الخطابة | R33: 26
M34: =VLOOKUP(N34,Sheet1!$A$1:$B$93,2) -> ستّ | N34: =VLOOKUP($U$7,'Nilai Tahriri'!$A$2:$AP$41,29,FALSE) -> 6 | O34: Bhs. Inggris | P34: الإنجليزية | R34: 27
B35: البيان | M35: =VLOOKUP(N35,Sheet1!$A$1:$B$93,2) -> خمس و نصف | N35: =VLOOKUP($U$7,'Nilai Tahriri'!$A$2:$AP$41,30,FALSE) -> 5.5 | O35: Bhs. Indonesia | P35: الإندونيسية | R35: 28
B36: المواظبة | D36: السلوك | K36: النظافة | M36: =VLOOKUP(N36,Sheet1!$A$1:$B$93,2) -> ستّ | N36: =VLOOKUP($U$7,'Nilai Tahriri'!$A$2:$AP$41,31,FALSE) -> 6 | O36: Matematika | P36: الرياضية | R36: 29
B37: =VLOOKUP($U$7,Akhlak!$A$4:$J$43,6,FALSE) -> 8 | D37: =VLOOKUP($U$7,Akhlak!$A$4:$J$43,5,FALSE) -> 8 | K37: =VLOOKUP($U$7,Akhlak!$A$4:$J$43,4,FALSE) -> 8 | M37: =VLOOKUP(N37,Sheet1!$A$1:$B$93,2) | O37: Fisika | P37: الفيزياء | R37: 30
B38: أيام الغياب | M38: =VLOOKUP(N38,Sheet1!$A$1:$B$93,2) | O38: Biologi | P38: البيولوجيا | R38: 31
B39: لآخر | D39: لاسـتئذان | K39: لمرض | M39: =VLOOKUP(N39,Sheet1!$A$1:$B$93,2) | O39: Kimia | P39: الكيمياء | R39: 32
B40: =VLOOKUP($U$7,Akhlak!$A$4:$J$43,9,FALSE) -> 0 | D40: =VLOOKUP($U$7,Akhlak!$A$4:$J$43,8,FALSE) -> 0 | K40: =VLOOKUP($U$7,Akhlak!$A$4:$J$43,7,FALSE) -> 0 | M40: =VLOOKUP(N40,Sheet1!$A$1:$B$93,2) -> ستّ | N40: =VLOOKUP($U$7,'Nilai Tahriri'!$A$2:$AP$41,35,FALSE) -> 6 | O40: Geografi | P40: الجغرافيا | R40: 33
B41: مستوى التفوق | D41: التقدير العام | M41: =VLOOKUP(N41,Sheet1!$A$1:$B$93,2) -> سبع و ثمان | N41: =VLOOKUP($U$7,'Nilai Tahriri'!$A$2:$AP$41,36,FALSE) -> 7.8 | O41: Sosiologi | P41: سوسيولوجيا | R41: 34
B42: =VLOOKUP($U$7,'Nilai Syafahi'!$A$4:$AA$43,26,FALSE) -> 31 | D42: =VLOOKUP($U$7,'Nilai Syafahi'!$A$4:$AA$43,25,FALSE) -> 5.4883721 | K42: =VLOOKUP($U$7,'Nilai Syafahi'!$A$4:$AA$43,24,FALSE) -> 236 | M42: =VLOOKUP(N42,Sheet1!$A$1:$B$93,2) -> ست و نصف | N42: =VLOOKUP($U$7,'Nilai Tahriri'!$A$2:$AP$41,37,FALSE) -> 6.5 | O42: Ekonomi | P42: الإقتصادية | R42: 35
M43: =VLOOKUP(N43,Sheet1!$A$1:$B$93,2) -> ثمان و ثمان | N43: =VLOOKUP($U$7,'Nilai Tahriri'!$A$2:$AP$41,38,FALSE) -> 8.8 | O43: PPKN | P43: التربية الوطنية | R43: 36
B44: النقد | M44: =VLOOKUP(N44,Sheet1!$A$1:$B$93,2) -> سبع و سبع | N44: =VLOOKUP($U$7,'Nilai Tahriri'!$A$2:$AP$41,39,FALSE) -> 7.7 | O44: Sej. Indonesia | P44: تاريخ إندونيسيا | R44: 37
B45: =VLOOKUP($U$7,Akhlak!$A$4:$J$43,10,FALSE) -> - | M45: =VLOOKUP(N45,Sheet1!$A$1:$B$93,2) | O45: Sej. Umum | P45: تاريخ العام | R45: 38
M46: =VLOOKUP(N46,Sheet1!$A$1:$B$93,2) | N46: =VLOOKUP($U$7,'Nilai Tahriri'!$A$2:$AP$41,40,FALSE) -> 0 | O46: Komputer | P46: كمبيوتر | R46: 39
B47: - | K47: الملاحظة | M47: =VLOOKUP($U$7,'Nilai Tahriri'!$A$2:$AP$41,41,FALSE) -> 160.5 | N47: =VLOOKUP($U$7,'Nilai Tahriri'!$A$2:$AO$41,41,FALSE) -> 160.5 | O47: =VLOOKUP($U$7,'Nilai Tahriri'!$A$2:$AO$41,41,FALSE) -> 160.5 | P47: الجملة
M49: =Biodata!C13 -> ٠٩ من جمادى الآخر سنة ١٤٤٥ ه | Q49: تحريرا بسـيرانج في :
M50: =Biodata!C14 -> ٢٢ من ديسمبر سنة ٢٠٢٣ م
Q51: يعتمد عليه,
B52: ولي الأمر | O52: ولي الفصل
K53: مدير المدرسة
O55: =Biodata!$C$19
K57: =Biodata!$C$16 -> الأستاذ شهاب المعي

Sheet Rekap Nilai
A1: REKAP NILAI UJIAN
A3: =Biodata!C4 -> السادس ج للبنات
A5: No | B5: Nama | C5: No Ujian | D5: Jumlah Nilai | E5: Nilai Rata-Rata | F5: Peringkat | G5: Keterangan
A6: 1 | B6: ='Data Siswa'!B4 -> ANGGITA JULIA | C6: ='Data Siswa'!C4 -> 1305 | D6: ='Nilai Syafahi'!X6 -> 306.4 | E6: ='Nilai Syafahi'!Y6 -> 6.3833333 | F6: ='Nilai Syafahi'!Z6 -> 1 | G6: ='Nilai Syafahi'!AA6 -> -
A7: 2 | B7: ='Data Siswa'!B29 -> SITI UMI NURILAH FADILAH | C7: ='Data Siswa'!C29 -> 1330 | D7: ='Nilai Syafahi'!X31 -> 305.1 | E7: ='Nilai Syafahi'!Y31 -> 6.35625 | F7: ='Nilai Syafahi'!Z31 -> 2 | G7: ='Nilai Syafahi'!AA31 -> -
A8: 3 | B8: ='Data Siswa'!B26 -> SHOFIYAH | C8: ='Data Siswa'!C26 -> 1327 | D8: ='Nilai Syafahi'!X28 -> 302.2 | E8: ='Nilai Syafahi'!Y28 -> 6.2958333 | F8: ='Nilai Syafahi'!Z28 -> 3 | G8: ='Nilai Syafahi'!AA28 -> -
A9: 4 | B9: ='Data Siswa'!B8 -> DALIA SHINTA CHALISA | C9: ='Data Siswa'!C8 -> 1309 | D9: ='Nilai Syafahi'!X10 -> 299.5 | E9: ='Nilai Syafahi'!Y10 -> 6.2395833 | F9: ='Nilai Syafahi'!Z10 -> 4 | G9: ='Nilai Syafahi'!AA10 -> -
A10: 5 | B10: ='Data Siswa'!B15 -> KASIH AZZAHRA | C10: ='Data Siswa'!C15 -> 1316 | D10: ='Nilai Syafahi'!X17 -> 297.2 | E10: ='Nilai Syafahi'!Y17 -> 6.1916667 | F10: ='Nilai Syafahi'!Z17 -> 5 | G10: ='Nilai Syafahi'!AA17 -> -
A11: 6 | B11: ='Data Siswa'!B22 -> NIHAYATUS SHOLIHAH | C11: ='Data Siswa'!C22 -> 1323 | D11: ='Nilai Syafahi'!X24 -> 297.1 | E11: ='Nilai Syafahi'!Y24 -> 6.1895833 | F11: ='Nilai Syafahi'!Z24 -> 6 | G11: ='Nilai Syafahi'!AA24 -> -
A12: 7 | B12: ='Data Siswa'!B23 -> NOVI DAIPAH | C12: ='Data Siswa'!C23 -> 1324 | D12: ='Nilai Syafahi'!X25 -> 296.5 | E12: ='Nilai Syafahi'!Y25 -> 6.1770833 | F12: ='Nilai Syafahi'!Z25 -> 7 | G12: ='Nilai Syafahi'!AA25 -> -
A13: 8 | B13: ='Data Siswa'!B2 -> ADELIA | C13: ='Data Siswa'!C2 -> 1303 | D13: ='Nilai Syafahi'!X4 -> 295.9 | E13: ='Nilai Syafahi'!Y4 -> 6.1645833 | F13: ='Nilai Syafahi'!Z4 -> 8 | G13: ='Nilai Syafahi'!AA4 -> -
A14: 9 | B14: ='Data Siswa'!B16 -> LUSIANA | C14: ='Data Siswa'!C16 -> 1317 | D14: ='Nilai Syafahi'!X18 -> 295.9 | E14: ='Nilai Syafahi'!Y18 -> 6.1645833 | F14: ='Nilai Syafahi'!Z18 -> 8 | G14: ='Nilai Syafahi'!AA18 -> -
A15: 10 | B15: ='Data Siswa'!B11 -> DEWI ALLAWIYAH | C15: ='Data Siswa'!C11 -> 1312 | D15: ='Nilai Syafahi'!X13 -> 294.5 | E15: ='Nilai Syafahi'!Y13 -> 6.1354167 | F15: ='Nilai Syafahi'!Z13 -> 9 | G15: ='Nilai Syafahi'!AA13 -> -
A16: 11 | B16: ='Data Siswa'!B25 -> RAHMA ALIA ZAHRA | C16: ='Data Siswa'!C25 -> 1326 | D16: ='Nilai Syafahi'!X27 -> 293.3 | E16: ='Nilai Syafahi'!Y27 -> 6.1104167 | F16: ='Nilai Syafahi'!Z27 -> 10 | G16: ='Nilai Syafahi'!AA27 -> -
A17: 12 | B17: ='Data Siswa'!B21 -> NAZWA RIDHO TUNISA | C17: ='Data Siswa'!C21 -> 1322 | D17: ='Nilai Syafahi'!X23 -> 292.4 | E17: ='Nilai Syafahi'!Y23 -> 6.0916667 | F17: ='Nilai Syafahi'!Z23 -> 11 | G17: ='Nilai Syafahi'!AA23 -> -
A18: 13 | B18: ='Data Siswa'!B19 -> NALLA BERLIANA PUTRIA FAUZI | C18: ='Data Siswa'!C19 -> 1320 | D18: ='Nilai Syafahi'!X21 -> 287.7 | E18: ='Nilai Syafahi'!Y21 -> 5.99375 | F18: ='Nilai Syafahi'!Z21 -> 12 | G18: ='Nilai Syafahi'!AA21 -> -
A19: 14 | B19: ='Data Siswa'!B3 -> ALIYA | C19: ='Data Siswa'!C3 -> 1304 | D19: ='Nilai Syafahi'!X5 -> 286.2 | E19: ='Nilai Syafahi'!Y5 -> 5.9625 | F19: ='Nilai Syafahi'!Z5 -> 13 | G19: ='Nilai Syafahi'!AA5 -> -
A20: 15 | B20: ='Data Siswa'!B10 -> DEVA ARINDI PUTRI | C20: ='Data Siswa'!C10 -> 1311 | D20: ='Nilai Syafahi'!X12 -> 285.3 | E20: ='Nilai Syafahi'!Y12 -> 5.94375 | F20: ='Nilai Syafahi'!Z12 -> 14 | G20: ='Nilai Syafahi'!AA12 -> -
A21: 16 | B21: ='Data Siswa'!B13 -> ELSA APRILIA MUFTI | C21: ='Data Siswa'!C13 -> 1314 | D21: ='Nilai Syafahi'!X15 -> 284.2 | E21: ='Nilai Syafahi'!Y15 -> 5.9208333 | F21: ='Nilai Syafahi'!Z15 -> 15 | G21: ='Nilai Syafahi'!AA15 -> -
A22: 17 | B22: ='Data Siswa'!B20 -> NASYWA NAFIAH KHOIRONI | C22: ='Data Siswa'!C20 -> 1321 | D22: ='Nilai Syafahi'!X22 -> 284 | E22: ='Nilai Syafahi'!Y22 -> 5.9166667 | F22: ='Nilai Syafahi'!Z22 -> 16 | G22: ='Nilai Syafahi'!AA22 -> -
A23: 18 | B23: ='Data Siswa'!B18 -> NAJMA NISA FATIHA | C23: ='Data Siswa'!C18 -> 1319 | D23: ='Nilai Syafahi'!X20 -> 283.9 | E23: ='Nilai Syafahi'!Y20 -> 5.9145833 | F23: ='Nilai Syafahi'!Z20 -> 17 | G23: ='Nilai Syafahi'!AA20 -> -
A24: 19 | B24: ='Data Siswa'!B14 -> ESIH | C24: ='Data Siswa'!C14 -> 1315 | D24: ='Nilai Syafahi'!X16 -> 282.6 | E24: ='Nilai Syafahi'!Y16 -> 6.012766 | F24: ='Nilai Syafahi'!Z16 -> 18 | G24: ='Nilai Syafahi'!AA16 -> -
A25: 20 | B25: ='Data Siswa'!B6 -> ANNISA AULIA PRATIWI | C25: ='Data Siswa'!C6 -> 1307 | D25: ='Nilai Syafahi'!X8 -> 282.4 | E25: ='Nilai Syafahi'!Y8 -> 5.8833333 | F25: ='Nilai Syafahi'!Z8 -> 19 | G25: ='Nilai Syafahi'!AA8 -> -
A26: 21 | B26: ='Data Siswa'!B5 -> ANISA NURSAFITRI | C26: ='Data Siswa'!C5 -> 1306 | D26: ='Nilai Syafahi'!X7 -> 281.7 | E26: ='Nilai Syafahi'!Y7 -> 5.86875 | F26: ='Nilai Syafahi'!Z7 -> 20 | G26: ='Nilai Syafahi'!AA7 -> -
A27: 22 | B27: ='Data Siswa'!B7 -> CHELSY AULIA | C27: ='Data Siswa'!C7 -> 1308 | D27: ='Nilai Syafahi'!X9 -> 281.6 | E27: ='Nilai Syafahi'!Y9 -> 5.8666667 | F27: ='Nilai Syafahi'!Z9 -> 21 | G27: ='Nilai Syafahi'!AA9 -> -
A28: 23 | B28: ='Data Siswa'!B9 -> DEA PUSPITA | C28: ='Data Siswa'!C9 -> 1310 | D28: ='Nilai Syafahi'!X11 -> 280.5 | E28: ='Nilai Syafahi'!Y11 -> 5.84375 | F28: ='Nilai Syafahi'!Z11 -> 22 | G28: ='Nilai Syafahi'!AA11 -> -
A29: 24 | B29: ='Data Siswa'!B17 -> MARSYA | C29: ='Data Siswa'!C17 -> 1318 | D29: ='Nilai Syafahi'!X19 -> 279.8 | E29: ='Nilai Syafahi'!Y19 -> 5.8291667 | F29: ='Nilai Syafahi'!Z19 -> 23 | G29: ='Nilai Syafahi'!AA19 -> -
A30: 25 | B30: ='Data Siswa'!B31 -> TASIAH | C30: ='Data Siswa'!C31 -> 1332 | D30: ='Nilai Syafahi'!X33 -> 278.2 | E30: ='Nilai Syafahi'!Y33 -> 5.7958333 | F30: ='Nilai Syafahi'!Z33 -> 24 | G30: ='Nilai Syafahi'!AA33 -> -
A31: 26 | B31: ='Data Siswa'!B12 -> DINDA LUTFIAH SYAWAL | C31: ='Data Siswa'!C12 -> 1313 | D31: ='Nilai Syafahi'!X14 -> 275.9 | E31: ='Nilai Syafahi'!Y14 -> 5.9978261 | F31: ='Nilai Syafahi'!Z14 -> 25 | G31: ='Nilai Syafahi'!AA14 -> -
A32: 27 | B32: ='Data Siswa'!B33 -> TUTI ANANI | C32: ='Data Siswa'!C33 -> 1334 | D32: ='Nilai Syafahi'!X35 -> 275.4 | E32: ='Nilai Syafahi'!Y35 -> 5.7375 | F32: ='Nilai Syafahi'!Z35 -> 26 | G32: ='Nilai Syafahi'!AA35 -> -
A33: 28 | B33: ='Data Siswa'!B32 -> TIARA ROMDANAH | C33: ='Data Siswa'!C32 -> 1333 | D33: ='Nilai Syafahi'!X34 -> 271.5 | E33: ='Nilai Syafahi'!Y34 -> 5.65625 | F33: ='Nilai Syafahi'!Z34 -> 27 | G33: ='Nilai Syafahi'!AA34 -> -
A34: 29 | B34: ='Data Siswa'!B30 -> SYAHFA AZ ZAHRA | C34: ='Data Siswa'!C30 -> 1331 | D34: ='Nilai Syafahi'!X32 -> 271.3 | E34: ='Nilai Syafahi'!Y32 -> 5.6520833 | F34: ='Nilai Syafahi'!Z32 -> 28 | G34: ='Nilai Syafahi'!AA32 -> -
A35: 30 | B35: ='Data Siswa'!B24 -> NURUL AIDAH | C35: ='Data Siswa'!C24 -> 1325 | D35: ='Nilai Syafahi'!X26 -> 267.7 | E35: ='Nilai Syafahi'!Y26 -> 5.5770833 | F35: ='Nilai Syafahi'!Z26 -> 29 | G35: ='Nilai Syafahi'!AA26 -> -
A36: 31 | B36: ='Data Siswa'!B27 -> SIFA RAMADANI | C36: ='Data Siswa'!C27 -> 1328 | D36: ='Nilai Syafahi'!X29 -> 265.4 | E36: ='Nilai Syafahi'!Y29 -> 6.0318182 | F36: ='Nilai Syafahi'!Z29 -> 30 | G36: ='Nilai Syafahi'!AA29 -> -
A37: 32 | B37: ='Data Siswa'!B34 -> YAYAH SA'DIYAH | C37: ='Data Siswa'!C34 -> 1335 | D37: ='Nilai Syafahi'!X36 -> 236 | E37: ='Nilai Syafahi'!Y36 -> 5.4883721 | F37: ='Nilai Syafahi'!Z36 -> 31 | G37: ='Nilai Syafahi'!AA36 -> -
A38: 33 | B38: ='Data Siswa'!B28 -> SITI NURHALIZAH | C38: ='Data Siswa'!C28 -> 1329 | D38: ='Nilai Syafahi'!X30 -> 227.4 | E38: ='Nilai Syafahi'!Y30 -> 5.4142857 | F38: ='Nilai Syafahi'!Z30 -> 32 | G38: ='Nilai Syafahi'!AA30 -> -
A39: 34 | B39: ='Data Siswa'!B35 -> 0 | C39: ='Data Siswa'!C35 -> 0 | D39: ='Nilai Syafahi'!X37 -> 0 | E39: ='Nilai Syafahi'!Y37 -> #DIV/0! | F39: ='Nilai Syafahi'!Z37 -> 33 | G39: ='Nilai Syafahi'!AA37 -> -
A40: 35 | B40: ='Data Siswa'!B36 -> 0 | C40: ='Data Siswa'!C36 -> 0 | D40: ='Nilai Syafahi'!X38 -> 0 | E40: ='Nilai Syafahi'!Y38 -> #DIV/0! | F40: ='Nilai Syafahi'!Z38 -> 33 | G40: ='Nilai Syafahi'!AA38 -> -
A41: 36 | B41: ='Data Siswa'!B37 -> 0 | C41: ='Data Siswa'!C37 -> 0 | D41: ='Nilai Syafahi'!X39 -> 0 | E41: ='Nilai Syafahi'!Y39 -> #DIV/0! | F41: ='Nilai Syafahi'!Z39 -> 33 | G41: ='Nilai Syafahi'!AA39 -> -
A42: 37 | B42: ='Data Siswa'!B38 -> 0 | C42: ='Data Siswa'!C38 -> 0 | D42: ='Nilai Syafahi'!X40 -> 0 | E42: ='Nilai Syafahi'!Y40 -> #DIV/0! | F42: ='Nilai Syafahi'!Z40 -> 33 | G42: ='Nilai Syafahi'!AA40 -> -
A43: 38 | B43: ='Data Siswa'!B39 -> 0 | C43: ='Data Siswa'!C39 -> 0 | D43: ='Nilai Syafahi'!X41 -> 0 | E43: ='Nilai Syafahi'!Y41 -> #DIV/0! | F43: ='Nilai Syafahi'!Z41 -> 33 | G43: ='Nilai Syafahi'!AA41 -> -
A44: 39 | B44: ='Data Siswa'!B40 -> 0 | C44: ='Data Siswa'!C40 -> 0 | D44: ='Nilai Syafahi'!X42 -> 0 | E44: ='Nilai Syafahi'!Y42 -> #DIV/0! | F44: ='Nilai Syafahi'!Z42 -> 33 | G44: ='Nilai Syafahi'!AA42 -> -
A45: 40 | B45: ='Data Siswa'!B41 -> 0 | C45: ='Data Siswa'!C41 -> 0 | D45: ='Nilai Syafahi'!X43 -> 0 | E45: ='Nilai Syafahi'!Y43 -> #DIV/0! | F45: ='Nilai Syafahi'!Z43 -> 33 | G45: ='Nilai Syafahi'!AA43 -> -
E47: ولي الفصل
E50: =Biodata!C19

Sheet Sheet1
A2: 0
A3: 1 | B3: واحد
A4: 1.1 | B4: واحد و واحد
A5: 1.2 | B5: واحد و اثنين
A6: 1.3 | B6: واحد و ثلاث
A7: 1.4 | B7: واحد و اربع
A8: 1.5 | B8: واحد و نصف
A9: 1.6 | B9: واحد و ست
A10: 1.7 | B10: واحد و سبع
A11: 1.8 | B11: واحد و ثمان
A12: 1.9 | B12: واحد و تسع
A13: 2 | B13: اثنين
A14: 2.1 | B14: اثنين و واحد
... A93: 10 | B93: عشر
