Workbook
Name nilai: 'Nilai Tahriri'!$B$2:$AJ$27

Sheet Identitas
C2: NAMA WALI KELAS
C4: KELAS
C6: SEMESTER
C8: TAHUN PELAJARAN
C10: TANGGAL HIJRIYAH
C12: TANGGAL MILADIYAH

Sheet Biodata
C1: IDENTITAS RAPOT
B4: =CONCATENATE(F4," ",E4," ",C4) -> الصف : الخامس ج للبنين | C4: الخامس ج للبنين | E4: : | F4: الصف | G4: 1
F5: ( Kelas )
B7: =CONCATENATE(F7," ",E7," ",C7) -> الفصل الدراسي : الأول | C7: الأول | E7: : | F7: الفصل الدراسي | G7: 2
F8: ( Semester )
B10: =CONCATENATE(F10," : ") -> العام الدراسي : | C10: ٢٠٢٤ - ٢٠٢٥ | E10: : | F10: العام الدراسي | G10: 3
B11: =CONCATENATE(C10," ","م") -> ٢٠٢٤ - ٢٠٢٥ م | C11: ١٤٤٥ - ١٤٤٦ | F11: ( Tahun Pelajaran )
B12: =CONCATENATE(C11," ","ه") -> ١٤٤٥ - ١٤٤٦ ه
C13: ١٩ من جمادى الآخر سنة ١٤٤٦ ه | E13: : | F13: تحريرا بسـيرانج في | G13: 4
C14: ٢٠ من ديسمبر سنة ٢٠٢٤ م | F14: ( Tanggal Rapot )
C16: كياهى الحاج شهاب المعي | E16: : | F16: مدير المدرسة | G16: 5
F17: ( Nama Kepala Sekolah )
C19: الا ستاذ احمد بيضاري | E19: : | F19: ولي الفصل | G19: 6
F20: ( Nama Wali Kelas )

Sheet Data Siswa
A1: No | B1: Nama | C1: No Exam | D1: Nama Arab
A2: 1 | B2: AGUS SAEPULLOH | C2: 0460 | D2: اغوس سيف الله
A3: 2 | B3: ALIFXANDER NESTA SAFI'I | C3: 0461
A4: 3 | B4: ANAN WIDIANSYAH | C4: 0462
A5: 4 | B5: DANIL RAMADHAN | C5: 0463
A6: 5 | B6: FAHRI NUR AZIZ | C6: 0464
A7: 6 | B7: FAISAL RAMADHAN | C7: 0465
A8: 7 | B8: FIKI KURNIAWAN | C8: 0466
A9: 8 | B9: IKHBAL FATUROKHMAN | C9: 0467
A10: 9 | B10: ILHAM NUR WAHYU | C10: 0468
A11: 10 | B11: LUTHFI RAMADHAN | C11: 0469
A12: 11 | B12: MAULIDAN FAHRI BASTAMAN | C12: 0470
A13: 12 | B13: MOCHAMMAD FIKRI | C13: 0471
A14: 13 | B14: MUHAMAD ANDREAN | C14: 0472
... A24: 23 | B24: ROHIN ARPINAS | C24: 0482
A25: 24
A26: 25
A27: 26
A28: 27
A29: 28
A30: 29
A31: 30
A32: 31
A33: 32
A34: 33
A35: 34
A36: 35
... A41: 40

Sheet Nilai Tahriri
A1: No | B1: Nama | C1: No Ujian | D1: التفسير | E1: الحديث | F1: مصطلح الحديث | G1: الفقه | H1: اصول الفقه | I1: علم الفرائض | J1: الديانة | K1: تاريخ التشريع | L1: التاريخ الإسلام | M1: التعبير التحريري | N1: تمرين اللغة | O1: المطالعة | P1: النصوص الأدبية | Q1: النحو | R1: الصرف | S1: البلاغة | T1: الإملاء | U1: الخط | V1: التربية والتعليم | W1: روح المعهد | X1: الخطابة | Y1: B. Inggris | Z1: B. Indonesia | AA1: Matematika | AB1: Fisika | AC1: Biologi | AD1: Kimia | AE1: Geografi | AF1: Sosiologi | AG1: Ekonomi | AH1: PPKN | AI1: Sjrh. Indo | AJ1: Jumlah Nilai | AK1: Nilai Rata2
A2: ='Data Siswa'!A2 -> 1 | B2: ='Data Siswa'!B2 -> AGUS SAEPULLOH | C2: ='Data Siswa'!C2 -> 0460 | D2: 5 | E2: 5 | F2: 4 | G2: 4 | H2: 4 | I2: 4.5 | J2: 5 | K2: 4 | L2: 4 | M2: 5 | N2: 4.5 | O2: 6 | P2: 5 | Q2: 4.5 | R2: 4 | S2: 4.5 | T2: 4.5 | U2: 5 | V2: 4 | W2: 7 | X2: 5.5 | Y2: 7.9 | Z2: 7 | AA2: 7 | AE2: 7.6 | AF2: 7.5 | AG2: 7.8 | AH2: 8.5 | AI2: 7.7 | AJ2: =SUM(D2:AI2) -> 160 | AK2: =AVERAGE(D2:AI2) -> 5.5172414
A3: ='Data Siswa'!A3 -> 2 | B3: ='Data Siswa'!B3 -> ALIFXANDER NESTA SAFI'I | C3: ='Data Siswa'!C3 -> 0461 | D3: 5.5 | E3: 4.5 | F3: 4 | G3: 4 | H3: 4 | I3: 4.5 | J3: 5 | K3: 4.5 | L3: 4 | M3: 5 | N3: 5 | O3: 7 | P3: 5.5 | Q3: 4 | R3: 4 | S3: 4.5 | T3: 4.5 | U3: 5 | V3: 4.5 | W3: 7 | X3: 5.5 | Y3: 7.9 | Z3: 7 | AA3: 7 | AE3: 7.7 | AF3: 7.5 | AG3: 7.8 | AH3: 7.5 | AI3: 7.7 | AJ3: =SUM(D3:AI3) -> 161.6 | AK3: =AVERAGE(D3:AI3) -> 5.5724138
A4: ='Data Siswa'!A4 -> 3 | B4: ='Data Siswa'!B4 -> ANAN WIDIANSYAH | C4: ='Data Siswa'!C4 -> 0462 | D4: 6 | E4: 4 | F4: 4 | G4: 4 | H4: 4 | I4: 4.5 | J4: 5 | K4: 4 | L4: 4 | M4: 4.5 | N4: 5.8 | O4: 5 | P4: 6 | Q4: 4 | R4: 4 | S4: 4.5 | T4: 4 | U4: 4.5 | V4: 4 | W4: 7 | X4: 6 | Y4: 8 | Z4: 7.5 | AA4: 7 | AE4: 8.3 | AF4: 8 | AG4: 7.6 | AH4: 7.5 | AI4: 7.7 | AJ4: =SUM(D4:AI4) -> 160.4 | AK4: =AVERAGE(D4:AI4) -> 5.5310345
A5: ='Data Siswa'!A5 -> 4 | B5: ='Data Siswa'!B5 -> DANIL RAMADHAN | C5: ='Data Siswa'!C5 -> 0463 | D5: 6.5 | E5: 5 | F5: 4 | G5: 4 | H5: 4 | I5: 4.5 | J5: 5 | K5: 4 | L5: 4 | M5: 5 | N5: 5 | O5: 5 | P5: 6.5 | Q5: 4 | R5: 4 | S5: 4.5 | T5: 4 | U5: 4.5 | V5: 4 | W5: 7 | X5: 5.6 | Y5: 7.7 | Z5: 7 | AA5: 7 | AE5: 7.8 | AF5: 7.5 | AG5: 7.9 | AH5: 7.5 | AI5: 7.7 | AJ5: =SUM(D5:AI5) -> 160.2 | AK5: =AVERAGE(D5:AI5) -> 5.5241379
A6: ='Data Siswa'!A6 -> 5 | B6: ='Data Siswa'!B6 -> FAHRI NUR AZIZ | C6: ='Data Siswa'!C6 -> 0464 | D6: 5 | E6: 4 | F6: 4 | G6: 4 | H6: 4.5 | I6: 4.5 | J6: 5 | K6: 4 | L6: 4 | M6: 5 | N6: 5 | O6: 5.5 | P6: 5 | Q6: 4 | R6: 4 | S6: 4.5 | T6: 4 | U6: 5.5 | V6: 4 | W6: 7 | X6: 5 | Y6: 7.9 | Z6: 7 | AA6: 8 | AE6: 7.9 | AF6: 7.5 | AG6: 7.6 | AH6: 7.5 | AI6: 7.7 | AJ6: =SUM(D6:AI6) -> 158.6 | AK6: =AVERAGE(D6:AI6) -> 5.4689655
A7: ='Data Siswa'!A7 -> 6 | B7: ='Data Siswa'!B7 -> FAISAL RAMADHAN | C7: ='Data Siswa'!C7 -> 0465 | D7: 6.5 | E7: 6 | F7: 4 | G7: 4 | H7: 4.5 | I7: 5 | J7: 6 | K7: 6 | L7: 6 | M7: 4 | N7: 5 | O7: 6 | P7: 6.5 | Q7: 5.5 | R7: 4 | S7: 4.5 | T7: 5.5 | U7: 4 | V7: 6 | W7: 7 | X7: 5.5 | Y7: 7.8 | Z7: 7.5 | AA7: 7.5 | AE7: 8.1 | AF7: 8 | AG7: 7.6 | AH7: 7.5 | AI7: 8 | AJ7: =SUM(D7:AI7) -> 173.5 | AK7: =AVERAGE(D7:AI7) -> 5.9827586
A8: ='Data Siswa'!A8 -> 7 | B8: ='Data Siswa'!B8 -> FIKI KURNIAWAN | C8: ='Data Siswa'!C8 -> 0466 | D8: 6 | E8: 5 | F8: 4.5 | G8: 4 | H8: 4 | I8: 4.5 | J8: 6 | K8: 5 | L8: 4.5 | M8: 4 | N8: 5.8 | O8: 7 | P8: 6 | Q8: 6.5 | R8: 4 | S8: 4.5 | T8: 6.5 | U8: 5.5 | V8: 4 | W8: 7 | X8: 6.5 | Y8: 7.7 | Z8: 7 | AA8: 7.5 | AE8: 7.9 | AF8: 7.8 | AG8: 7.8 | AH8: 8 | AI8: 7.8 | AJ8: =SUM(D8:AI8) -> 172.3 | AK8: =AVERAGE(D8:AI8) -> 5.9413793
A9: ='Data Siswa'!A9 -> 8 | B9: ='Data Siswa'!B9 -> IKHBAL FATUROKHMAN | C9: ='Data Siswa'!C9 -> 0467 | D9: 6.5 | E9: 5 | F9: 4.5 | G9: 4 | H9: 4 | I9: 6 | J9: 6 | K9: 4.5 | L9: 4 | M9: 4 | N9: 7 | O9: 7 | P9: 6.5 | Q9: 4 | R9: 4 | S9: 4.5 | T9: 4.5 | U9: 4.5 | V9: 4 | W9: 7 | X9: 6.5 | Y9: 8 | Z9: 7.8 | AA9: 7.5 | AE9: 8.2 | AF9: 8 | AG9: 8 | AH9: 8.5 | AI9: 7.8 | AJ9: =SUM(D9:AI9) -> 171.8 | AK9: =AVERAGE(D9:AI9) -> 5.9241379
A10: ='Data Siswa'!A10 -> 9 | B10: ='Data Siswa'!B10 -> ILHAM NUR WAHYU | C10: ='Data Siswa'!C10 -> 0468 | D10: 6 | E10: 5 | F10: 4 | G10: 4 | H10: 4.5 | I10: 5 | J10: 5 | K10: 4.5 | L10: 4 | M10: 4.5 | N10: 5 | O10: 7 | P10: 6 | Q10: 4 | R10: 4 | S10: 4.5 | T10: 4 | U10: 4 | V10: 4.5 | W10: 7 | X10: 6 | Y10: 7.7 | Z10: 7 | AA10: 7 | AE10: 7.9 | AF10: 7.5 | AG10: 7.6 | AH10: 8 | AI10: 7.7 | AJ10: =SUM(D10:AI10) -> 162.9 | AK10: =AVERAGE(D10:AI10) -> 5.6172414
A11: ='Data Siswa'!A11 -> 10 | B11: ='Data Siswa'!B11 -> LUTHFI RAMADHAN | C11: ='Data Siswa'!C11 -> 0469 | D11: 7 | E11: 4.5 | F11: 4.5 | G11: 4.5 | H11: 4 | I11: 4.5 | J11: 5 | K11: 4.5 | L11: 4.5 | M11: 4.5 | N11: 5.8 | O11: 6 | P11: 7 | Q11: 4.5 | R11: 4 | S11: 4.5 | T11: 4.5 | U11: 4 | V11: 4 | W11: 7 | X11: 5.5 | Y11: 7.7 | Z11: 7 | AA11: 7 | AE11: 8.3 | AF11: 7 | AG11: 7.8 | AH11: 8 | AI11: 7.7 | AJ11: =SUM(D11:AI11) -> 164.8 | AK11: =AVERAGE(D11:AI11) -> 5.6827586
A12: ='Data Siswa'!A12 -> 11 | B12: ='Data Siswa'!B12 -> MAULIDAN FAHRI BASTAMAN | C12: ='Data Siswa'!C12 -> 0470 | D12: 6.5 | E12: 5 | F12: 4 | G12: 4 | H12: 4 | I12: 4.5 | J12: 5 | K12: 4 | L12: 4 | M12: 5 | N12: 5 | O12: 6 | P12: 6.5 | Q12: 4 | R12: 4 | S12: 4.5 | T12: 4 | U12: 5 | V12: 4 | W12: 7 | X12: 5 | Y12: 7.9 | Z12: 7 | AA12: 7.5 | AE12: 7.8 | AF12: 7 | AG12: 7.8 | AH12: 8.5 | AI12: 7.9 | AJ12: =SUM(D12:AI12) -> 162.4 | AK12: =AVERAGE(D12:AI12) -> 5.6
A13: ='Data Siswa'!A13 -> 12 | B13: ='Data Siswa'!B13 -> MOCHAMMAD FIKRI | C13: ='Data Siswa'!C13 -> 0471 | D13: 5 | E13: 4 | F13: 4 | G13: 4 | H13: 4 | I13: 4.5 | J13: 5 | K13: 4 | L13: 4 | M13: 5 | N13: 5.5 | O13: 7 | P13: 5 | Q13: 4 | R13: 4 | S13: 4.5 | T13: 4 | U13: 5 | V13: 4 | W13: 7 | X13: 6 | Y13: 8.2 | Z13: 7 | AA13: 7 | AE13: 7.5 | AF13: 7 | AG13: 7.6 | AH13: 7.5 | AI13: 7.7 | AJ13: =SUM(D13:AI13) -> 159 | AK13: =AVERAGE(D13:AI13) -> 5.4827586
... A24: ='Data Siswa'!A24 -> 23 | B24: ='Data Siswa'!B24 -> ROHIN ARPINAS | C24: ='Data Siswa'!C24 -> 0482 | D24: 5.5 | E24: 5 | F24: 4 | G24: 4 | H24: 4 | I24: 4 | J24: 5 | K24: 4 | L24: 4 | M24: 5 | N24: 5.5 | O24: 6 | P24: 5.5 | Q24: 4 | R24: 4 | S24: 4.5 | T24: 4.5 | U24: 5 | V24: 4 | W24: 7 | X24: 5 | Y24: 8.2 | Z24: 7 | AA24: 8.5 | AE24: 8.1 | AF24: 7 | AG24: 9 | AH24: 7.5 | AI24: 7.8 | AJ24: =SUM(D24:AI24) -> 162.6 | AK24: =AVERAGE(D24:AI24) -> 5.6068966
A25: ='Data Siswa'!A25 -> 24 | B25: ='Data Siswa'!B25 -> 0 | C25: ='Data Siswa'!C25 -> 0 | AJ25: =SUM(D25:AI25) -> 0 | AK25: =AVERAGE(D25:AI25) -> #DIV/0!
A26: ='Data Siswa'!A26 -> 25 | B26: ='Data Siswa'!B26 -> 0 | C26: ='Data Siswa'!C26 -> 0 | AJ26: =SUM(D26:AI26) -> 0 | AK26: =AVERAGE(D26:AI26) -> #DIV/0!
A27: ='Data Siswa'!A27 -> 26 | B27: ='Data Siswa'!B27 -> 0 | C27: ='Data Siswa'!C27 -> 0 | AJ27: =SUM(D27:AI27) -> 0 | AK27: =AVERAGE(D27:AI27) -> #DIV/0!
A28: ='Data Siswa'!A28 -> 27 | B28: ='Data Siswa'!B28 -> 0 | C28: ='Data Siswa'!C28 -> 0 | AJ28: =SUM(D28:AI28) -> 0 | AK28: =AVERAGE(D28:AI28) -> #DIV/0!
A29: ='Data Siswa'!A29 -> 28 | B29: ='Data Siswa'!B29 -> 0 | C29: ='Data Siswa'!C29 -> 0 | AJ29: =SUM(D29:AI29) -> 0 | AK29: =AVERAGE(D29:AI29) -> #DIV/0!
A30: ='Data Siswa'!A30 -> 29 | B30: ='Data Siswa'!B30 -> 0 | C30: ='Data Siswa'!C30 -> 0 | AJ30: =SUM(D30:AI30) -> 0 | AK30: =AVERAGE(D30:AI30) -> #DIV/0!
A31: ='Data Siswa'!A31 -> 30 | B31: ='Data Siswa'!B31 -> 0 | C31: ='Data Siswa'!C31 -> 0 | AJ31: =SUM(D31:AI31) -> 0 | AK31: =AVERAGE(D31:AI31) -> #DIV/0!
A32: ='Data Siswa'!A32 -> 31 | B32: ='Data Siswa'!B32 -> 0 | C32: ='Data Siswa'!C32 -> 0 | AJ32: =SUM(D32:AI32) -> 0 | AK32: =AVERAGE(D32:AI32) -> #DIV/0!
A33: ='Data Siswa'!A33 -> 32 | B33: ='Data Siswa'!B33 -> 0 | C33: ='Data Siswa'!C33 -> 0 | AJ33: =SUM(D33:AI33) -> 0 | AK33: =AVERAGE(D33:AI33) -> #DIV/0!
A34: ='Data Siswa'!A34 -> 33 | B34: ='Data Siswa'!B34 -> 0 | C34: ='Data Siswa'!C34 -> 0 | AJ34: =SUM(D34:AI34) -> 0 | AK34: =AVERAGE(D34:AI34) -> #DIV/0!
A35: ='Data Siswa'!A35 -> 34 | B35: ='Data Siswa'!B35 -> 0 | C35: ='Data Siswa'!C35 -> 0 | AJ35: =SUM(D35:AI35) -> 0 | AK35: =AVERAGE(D35:AI35) -> #DIV/0!
A36: ='Data Siswa'!A36 -> 35 | B36: ='Data Siswa'!B36 -> 0 | C36: ='Data Siswa'!C36 -> 0 | AJ36: =SUM(D36:AI36) -> 0 | AK36: =AVERAGE(D36:AI36) -> #DIV/0!
... A41: ='Data Siswa'!A41 -> 40 | B41: ='Data Siswa'!B41 -> 0 | C41: ='Data Siswa'!C41 -> 0 | AJ41: =SUM(D41:AI41) -> 0 | AK41: =AVERAGE(D41:AI41) -> #DIV/0!

Sheet Nilai Syafahi
A1: Biodata | D1: Nilai Ujian Syafahi | W1: Nilai Keseluruhan | Z1: Keterangan
A2: No | B2: Nama Lengkap | C2: No Ujian | D2: اللغة العربية | J2: اللغة الانجليزية | O2: المواد الفقهية | T2: الجملة | U2: Rata-Rata | W2: التقدير العام | X2: Rata-Rata | Y2: مستوي التفوق | Z2: الملاحظة
D3: الانشاء | E3: النحو | F3: الصرف | G3: المطالعة | H3: النصوص الأدبية | I3: المحادثة العربية | J3: Conversation | K3: Grammar | L3: Structure | M3: Reading | N3: Vocabularies | O3: قراءة القرآن | P3: التجويد | Q3: حفظ القرآن | R3: الفقه | S3: الأدعيه اليومية
A4: ='Data Siswa'!A2 -> 1 | B4: ='Data Siswa'!B2 -> AGUS SAEPULLOH | C4: ='Data Siswa'!C2 -> 0460 | D4: 5.7 | E4: 5.5 | F4: 6 | G4: 5.5 | H4: 6.7 | I4: 6 | J4: 4.5 | K4: 4 | L4: 4.5 | M4: 5 | N4: 4.5 | O4: 6 | P4: 5.7 | Q4: 5.5 | R4: 6 | S4: 5 | T4: =SUM(D4:S4) -> 86.1 | U4: =AVERAGE(D4:S4) -> 5.38125 | W4: =SUM('Nilai Tahriri'!AJ2,'Nilai Syafahi'!T4) -> 246.1 | X4: =AVERAGE(D4:S4,'Nilai Tahriri'!D2:AI2) -> 5.4688889 | Y4: {=SUM(IF(W4<OFFSET($W$4,0,0,COUNT(W:W),1),1/COUNTIF(OFFSET($W$4,0,0,COUNT(W:W),1),OFFSET($W$4,0,0,COUNT(W:W),1))))+1} -> 13 | Z4: -
A5: ='Data Siswa'!A3 -> 2 | B5: ='Data Siswa'!B3 -> ALIFXANDER NESTA SAFI'I | C5: ='Data Siswa'!C3 -> 0461 | D5: 5 | E5: 4.5 | F5: 5.5 | G5: 6 | H5: 4.5 | I5: 5.7 | J5: 4 | K5: 4 | L5: 4 | M5: 5 | N5: 4.5 | O5: 5.7 | P5: 5 | Q5: 4.5 | R5: 5.5 | S5: 5 | T5: =SUM(D5:S5) -> 78.4 | U5: =AVERAGE(D5:S5) -> 4.9 | W5: =SUM('Nilai Tahriri'!AJ3,'Nilai Syafahi'!T5) -> 240 | X5: =AVERAGE(D5:S5,'Nilai Tahriri'!D3:AI3) -> 5.3333333 | Y5: {=SUM(IF(W5<OFFSET($W$4,0,0,COUNT(W:W),1),1/COUNTIF(OFFSET($W$4,0,0,COUNT(W:W),1),OFFSET($W$4,0,0,COUNT(W:W),1))))+1} -> 20 | Z5: -
A6: ='Data Siswa'!A4 -> 3 | B6: ='Data Siswa'!B4 -> ANAN WIDIANSYAH | C6: ='Data Siswa'!C4 -> 0462 | D6: 5 | E6: 4.5 | F6: 5.2 | G6: 5 | H6: 5.7 | I6: 6 | J6: 4.5 | K6: 4.5 | L6: 4.5 | M6: 5 | N6: 4.5 | O6: 6 | P6: 5 | Q6: 4.5 | R6: 5.2 | S6: 5 | T6: =SUM(D6:S6) -> 80.1 | U6: =AVERAGE(D6:S6) -> 5.00625 | W6: =SUM('Nilai Tahriri'!AJ4,'Nilai Syafahi'!T6) -> 240.5 | X6: =AVERAGE(D6:S6,'Nilai Tahriri'!D4:AI4) -> 5.3444444 | Y6: {=SUM(IF(W6<OFFSET($W$4,0,0,COUNT(W:W),1),1/COUNTIF(OFFSET($W$4,0,0,COUNT(W:W),1),OFFSET($W$4,0,0,COUNT(W:W),1))))+1} -> 19 | Z6: -
A7: ='Data Siswa'!A5 -> 4 | B7: ='Data Siswa'!B5 -> DANIL RAMADHAN | C7: ='Data Siswa'!C5 -> 0463 | D7: 5.7 | E7: 4.5 | F7: 5 | G7: 5.6 | H7: 5 | I7: 5.7 | J7: 4.5 | K7: 4.5 | L7: 4.5 | M7: 5 | N7: 5 | O7: 5.7 | P7: 5.7 | Q7: 4.5 | R7: 5 | S7: 5 | T7: =SUM(D7:S7) -> 80.9 | U7: =AVERAGE(D7:S7) -> 5.05625 | W7: =SUM('Nilai Tahriri'!AJ5,'Nilai Syafahi'!T7) -> 241.1 | X7: =AVERAGE(D7:S7,'Nilai Tahriri'!D5:AI5) -> 5.3577778 | Y7: {=SUM(IF(W7<OFFSET($W$4,0,0,COUNT(W:W),1),1/COUNTIF(OFFSET($W$4,0,0,COUNT(W:W),1),OFFSET($W$4,0,0,COUNT(W:W),1))))+1} -> 18 | Z7: -
A8: ='Data Siswa'!A6 -> 5 | B8: ='Data Siswa'!B6 -> FAHRI NUR AZIZ | C8: ='Data Siswa'!C6 -> 0464 | D8: 5.7 | E8: 4.5 | F8: 5.5 | G8: 4.5 | H8: 5.4 | I8: 5.7 | J8: 4.5 | K8: 4.5 | L8: 4.5 | M8: 5 | N8: 5 | O8: 5.7 | P8: 5.7 | Q8: 4.5 | R8: 5.5 | S8: 5 | T8: =SUM(D8:S8) -> 81.2 | U8: =AVERAGE(D8:S8) -> 5.075 | W8: =SUM('Nilai Tahriri'!AJ6,'Nilai Syafahi'!T8) -> 239.8 | X8: =AVERAGE(D8:S8,'Nilai Tahriri'!D6:AI6) -> 5.3288889 | Y8: {=SUM(IF(W8<OFFSET($W$4,0,0,COUNT(W:W),1),1/COUNTIF(OFFSET($W$4,0,0,COUNT(W:W),1),OFFSET($W$4,0,0,COUNT(W:W),1))))+1} -> 21 | Z8: -
A9: ='Data Siswa'!A7 -> 6 | B9: ='Data Siswa'!B7 -> FAISAL RAMADHAN | C9: ='Data Siswa'!C7 -> 0465 | D9: 6 | E9: 5.5 | F9: 6 | G9: 7 | H9: 6.7 | I9: 6.6 | J9: 4.5 | K9: 4.5 | L9: 5 | M9: 5 | N9: 5 | O9: 6.6 | P9: 6 | Q9: 5.5 | R9: 6 | S9: 5 | T9: =SUM(D9:S9) -> 90.9 | U9: =AVERAGE(D9:S9) -> 5.68125 | W9: =SUM('Nilai Tahriri'!AJ7,'Nilai Syafahi'!T9) -> 264.4 | X9: =AVERAGE(D9:S9,'Nilai Tahriri'!D7:AI7) -> 5.8755556 | Y9: {=SUM(IF(W9<OFFSET($W$4,0,0,COUNT(W:W),1),1/COUNTIF(OFFSET($W$4,0,0,COUNT(W:W),1),OFFSET($W$4,0,0,COUNT(W:W),1))))+1} -> 4 | Z9: -
A10: ='Data Siswa'!A8 -> 7 | B10: ='Data Siswa'!B8 -> FIKI KURNIAWAN | C10: ='Data Siswa'!C8 -> 0466 | D10: 5.7 | E10: 5.8 | F10: 6 | G10: 6 | H10: 5.9 | I10: 6 | J10: 5 | K10: 5.5 | L10: 5 | M10: 5 | N10: 5 | O10: 6 | P10: 5.7 | Q10: 5.8 | R10: 6 | S10: 5 | T10: =SUM(D10:S10) -> 89.4 | U10: =AVERAGE(D10:S10) -> 5.5875 | W10: =SUM('Nilai Tahriri'!AJ8,'Nilai Syafahi'!T10) -> 261.7 | X10: =AVERAGE(D10:S10,'Nilai Tahriri'!D8:AI8) -> 5.8155556 | Y10: {=SUM(IF(W10<OFFSET($W$4,0,0,COUNT(W:W),1),1/COUNTIF(OFFSET($W$4,0,0,COUNT(W:W),1),OFFSET($W$4,0,0,COUNT(W:W),1))))+1} -> 5 | Z10: -
A11: ='Data Siswa'!A9 -> 8 | B11: ='Data Siswa'!B9 -> IKHBAL FATUROKHMAN | C11: ='Data Siswa'!C9 -> 0467 | D11: 6 | E11: 5.8 | F11: 6 | G11: 6 | H11: 6.2 | I11: 6 | J11: 5.5 | K11: 4.5 | L11: 4.5 | M11: 5 | N11: 5 | O11: 6 | P11: 6 | Q11: 5.8 | R11: 6 | S11: 5 | T11: =SUM(D11:S11) -> 89.3 | U11: =AVERAGE(D11:S11) -> 5.58125 | W11: =SUM('Nilai Tahriri'!AJ9,'Nilai Syafahi'!T11) -> 261.1 | X11: =AVERAGE(D11:S11,'Nilai Tahriri'!D9:AI9) -> 5.8022222 | Y11: {=SUM(IF(W11<OFFSET($W$4,0,0,COUNT(W:W),1),1/COUNTIF(OFFSET($W$4,0,0,COUNT(W:W),1),OFFSET($W$4,0,0,COUNT(W:W),1))))+1} -> 6 | Z11: -
A12: ='Data Siswa'!A10 -> 9 | B12: ='Data Siswa'!B10 -> ILHAM NUR WAHYU | C12: ='Data Siswa'!C10 -> 0468 | D12: 5 | E12: 4.5 | F12: 5.5 | G12: 4.5 | H12: 5.2 | I12: 5.7 | J12: 5 | K12: 4.5 | L12: 4.5 | M12: 5 | N12: 5 | O12: 5.7 | P12: 5 | Q12: 4.5 | R12: 5.5 | S12: 5 | T12: =SUM(D12:S12) -> 80.1 | U12: =AVERAGE(D12:S12) -> 5.00625 | W12: =SUM('Nilai Tahriri'!AJ10,'Nilai Syafahi'!T12) -> 243 | X12: =AVERAGE(D12:S12,'Nilai Tahriri'!D10:AI10) -> 5.4 | Y12: {=SUM(IF(W12<OFFSET($W$4,0,0,COUNT(W:W),1),1/COUNTIF(OFFSET($W$4,0,0,COUNT(W:W),1),OFFSET($W$4,0,0,COUNT(W:W),1))))+1} -> 16 | Z12: -
A13: ='Data Siswa'!A11 -> 10 | B13: ='Data Siswa'!B11 -> LUTHFI RAMADHAN | C13: ='Data Siswa'!C11 -> 0469 | D13: 5.7 | E13: 5.8 | F13: 6 | G13: 6 | H13: 6.2 | I13: 6 | J13: 4.5 | K13: 5 | L13: 5 | M13: 5 | N13: 5 | O13: 6 | P13: 5.7 | Q13: 5.8 | R13: 6 | S13: 5 | T13: =SUM(D13:S13) -> 88.7 | U13: =AVERAGE(D13:S13) -> 5.54375 | W13: =SUM('Nilai Tahriri'!AJ11,'Nilai Syafahi'!T13) -> 253.5 | X13: =AVERAGE(D13:S13,'Nilai Tahriri'!D11:AI11) -> 5.6333333 | Y13: {=SUM(IF(W13<OFFSET($W$4,0,0,COUNT(W:W),1),1/COUNTIF(OFFSET($W$4,0,0,COUNT(W:W),1),OFFSET($W$4,0,0,COUNT(W:W),1))))+1} -> 7 | Z13: -
A14: ='Data Siswa'!A12 -> 11 | B14: ='Data Siswa'!B12 -> MAULIDAN FAHRI BASTAMAN | C14: ='Data Siswa'!C12 -> 0470 | D14: 5 | E14: 4.5 | F14: 5.2 | G14: 6 | H14: 6 | I14: 6 | J14: 5.5 | K14: 5.5 | L14: 5 | M14: 5 | N14: 5.5 | O14: 6 | P14: 5 | Q14: 4.5 | R14: 5.2 | S14: 5 | T14: =SUM(D14:S14) -> 84.9 | U14: =AVERAGE(D14:S14) -> 5.30625 | W14: =SUM('Nilai Tahriri'!AJ12,'Nilai Syafahi'!T14) -> 247.3 | X14: =AVERAGE(D14:S14,'Nilai Tahriri'!D12:AI12) -> 5.4955556 | Y14: {=SUM(IF(W14<OFFSET($W$4,0,0,COUNT(W:W),1),1/COUNTIF(OFFSET($W$4,0,0,COUNT(W:W),1),OFFSET($W$4,0,0,COUNT(W:W),1))))+1} -> 11 | Z14: -
A15: ='Data Siswa'!A13 -> 12 | B15: ='Data Siswa'!B13 -> MOCHAMMAD FIKRI | C15: ='Data Siswa'!C13 -> 0471 | D15: 5 | E15: 4.5 | F15: 5.5 | G15: 4.5 | H15: 5.2 | I15: 5.7 | J15: 4.5 | K15: 4.5 | L15: 4.5 | M15: 5 | N15: 4.5 | O15: 5.7 | P15: 5 | Q15: 4.5 | R15: 5.5 | S15: 5 | T15: =SUM(D15:S15) -> 79.1 | U15: =AVERAGE(D15:S15) -> 4.94375 | W15: =SUM('Nilai Tahriri'!AJ13,'Nilai Syafahi'!T15) -> 238.1 | X15: =AVERAGE(D15:S15,'Nilai Tahriri'!D13:AI13) -> 5.2911111 | Y15: {=SUM(IF(W15<OFFSET($W$4,0,0,COUNT(W:W),1),1/COUNTIF(OFFSET($W$4,0,0,COUNT(W:W),1),OFFSET($W$4,0,0,COUNT(W:W),1))))+1} -> 23 | Z15: -
... A26: ='Data Siswa'!A24 -> 23 | B26: ='Data Siswa'!B24 -> ROHIN ARPINAS | C26: ='Data Siswa'!C24 -> 0482 | D26: 6 | E26: 4.5 | F26: 5.5 | G26: 6 | H26: 6.9 | I26: 6 | J26: 5.5 | K26: 5.5 | L26: 5 | M26: 5 | N26: 5 | O26: 6 | P26: 6 | Q26: 4.5 | R26: 5.5 | S26: 5 | T26: =SUM(D26:S26) -> 87.9 | U26: =AVERAGE(D26:S26) -> 5.49375 | W26: =SUM('Nilai Tahriri'!AJ24,'Nilai Syafahi'!T26) -> 250.5 | X26: =AVERAGE(D26:S26,'Nilai Tahriri'!D24:AI24) -> 5.5666667 | Y26: {=SUM(IF(W26<OFFSET($W$4,0,0,COUNT(W:W),1),1/COUNTIF(OFFSET($W$4,0,0,COUNT(W:W),1),OFFSET($W$4,0,0,COUNT(W:W),1))))+1} -> 9 | Z26: -
A27: ='Data Siswa'!A25 -> 24 | B27: ='Data Siswa'!B25 -> 0 | C27: ='Data Siswa'!C25 -> 0 | T27: =SUM(D27:S27) -> 0 | U27: =AVERAGE(D27:S27) -> #DIV/0! | W27: =SUM('Nilai Tahriri'!AJ25,'Nilai Syafahi'!T27) -> 0 | X27: =AVERAGE(D27:S27,'Nilai Tahriri'!D25:AI25) -> #DIV/0! | Y27: {=SUM(IF(W27<OFFSET($W$4,0,0,COUNT(W:W),1),1/COUNTIF(OFFSET($W$4,0,0,COUNT(W:W),1),OFFSET($W$4,0,0,COUNT(W:W),1))))+1} -> 24 | Z27: -
A28: ='Data Siswa'!A26 -> 25 | B28: ='Data Siswa'!B26 -> 0 | C28: ='Data Siswa'!C26 -> 0 | T28: =SUM(D28:S28) -> 0 | U28: =AVERAGE(D28:S28) -> #DIV/0! | W28: =SUM('Nilai Tahriri'!AJ26,'Nilai Syafahi'!T28) -> 0 | X28: =AVERAGE(D28:S28,'Nilai Tahriri'!D26:AI26) -> #DIV/0! | Y28: {=SUM(IF(W28<OFFSET($W$4,0,0,COUNT(W:W),1),1/COUNTIF(OFFSET($W$4,0,0,COUNT(W:W),1),OFFSET($W$4,0,0,COUNT(W:W),1))))+1} -> 24 | Z28: -
A29: ='Data Siswa'!A27 -> 26 | B29: ='Data Siswa'!B27 -> 0 | C29: ='Data Siswa'!C27 -> 0 | T29: =SUM(D29:S29) -> 0 | U29: =AVERAGE(D29:S29) -> #DIV/0! | W29: =SUM('Nilai Tahriri'!AJ27,'Nilai Syafahi'!T29) -> 0 | X29: =AVERAGE(D29:S29,'Nilai Tahriri'!D27:AI27) -> #DIV/0! | Y29: {=SUM(IF(W29<OFFSET($W$4,0,0,COUNT(W:W),1),1/COUNTIF(OFFSET($W$4,0,0,COUNT(W:W),1),OFFSET($W$4,0,0,COUNT(W:W),1))))+1} -> 24 | Z29: -
A30: ='Data Siswa'!A28 -> 27 | B30: ='Data Siswa'!B28 -> 0 | C30: ='Data Siswa'!C28 -> 0 | T30: =SUM(D30:S30) -> 0 | U30: =AVERAGE(D30:S30) -> #DIV/0! | W30: =SUM('Nilai Tahriri'!AJ28,'Nilai Syafahi'!T30) -> 0 | X30: =AVERAGE(D30:S30,'Nilai Tahriri'!D28:AI28) -> #DIV/0! | Y30: {=SUM(IF(W30<OFFSET($W$4,0,0,COUNT(W:W),1),1/COUNTIF(OFFSET($W$4,0,0,COUNT(W:W),1),OFFSET($W$4,0,0,COUNT(W:W),1))))+1} -> 24 | Z30: -
A31: ='Data Siswa'!A29 -> 28 | B31: ='Data Siswa'!B29 -> 0 | C31: ='Data Siswa'!C29 -> 0 | T31: =SUM(D31:S31) -> 0 | U31: =AVERAGE(D31:S31) -> #DIV/0! | W31: =SUM('Nilai Tahriri'!AJ29,'Nilai Syafahi'!T31) -> 0 | X31: =AVERAGE(D31:S31,'Nilai Tahriri'!D29:AI29) -> #DIV/0! | Y31: {=SUM(IF(W31<OFFSET($W$4,0,0,COUNT(W:W),1),1/COUNTIF(OFFSET($W$4,0,0,COUNT(W:W),1),OFFSET($W$4,0,0,COUNT(W:W),1))))+1} -> 24 | Z31: -
A32: ='Data Siswa'!A30 -> 29 | B32: ='Data Siswa'!B30 -> 0 | C32: ='Data Siswa'!C30 -> 0 | T32: =SUM(D32:S32) -> 0 | U32: =AVERAGE(D32:S32) -> #DIV/0! | W32: =SUM('Nilai Tahriri'!AJ30,'Nilai Syafahi'!T32) -> 0 | X32: =AVERAGE(D32:S32,'Nilai Tahriri'!D30:AI30) -> #DIV/0! | Y32: {=SUM(IF(W32<OFFSET($W$4,0,0,COUNT(W:W),1),1/COUNTIF(OFFSET($W$4,0,0,COUNT(W:W),1),OFFSET($W$4,0,0,COUNT(W:W),1))))+1} -> 24 | Z32: -
A33: ='Data Siswa'!A31 -> 30 | B33: ='Data Siswa'!B31 -> 0 | C33: ='Data Siswa'!C31 -> 0 | T33: =SUM(D33:S33) -> 0 | U33: =AVERAGE(D33:S33) -> #DIV/0! | W33: =SUM('Nilai Tahriri'!AJ31,'Nilai Syafahi'!T33) -> 0 | X33: =AVERAGE(D33:S33,'Nilai Tahriri'!D31:AI31) -> #DIV/0! | Y33: {=SUM(IF(W33<OFFSET($W$4,0,0,COUNT(W:W),1),1/COUNTIF(OFFSET($W$4,0,0,COUNT(W:W),1),OFFSET($W$4,0,0,COUNT(W:W),1))))+1} -> 24 | Z33: -
A34: ='Data Siswa'!A32 -> 31 | B34: ='Data Siswa'!B32 -> 0 | C34: ='Data Siswa'!C32 -> 0 | T34: =SUM(D34:S34) -> 0 | U34: =AVERAGE(D34:S34) -> #DIV/0! | W34: =SUM('Nilai Tahriri'!AJ32,'Nilai Syafahi'!T34) -> 0 | X34: =AVERAGE(D34:S34,'Nilai Tahriri'!D32:AI32) -> #DIV/0! | Y34: {=SUM(IF(W34<OFFSET($W$4,0,0,COUNT(W:W),1),1/COUNTIF(OFFSET($W$4,0,0,COUNT(W:W),1),OFFSET($W$4,0,0,COUNT(W:W),1))))+1} -> 24 | Z34: -
A35: ='Data Siswa'!A33 -> 32 | B35: ='Data Siswa'!B33 -> 0 | C35: ='Data Siswa'!C33 -> 0 | T35: =SUM(D35:S35) -> 0 | U35: =AVERAGE(D35:S35) -> #DIV/0! | W35: =SUM('Nilai Tahriri'!AJ33,'Nilai Syafahi'!T35) -> 0 | X35: =AVERAGE(D35:S35,'Nilai Tahriri'!D33:AI33) -> #DIV/0! | Y35: {=SUM(IF(W35<OFFSET($W$4,0,0,COUNT(W:W),1),1/COUNTIF(OFFSET($W$4,0,0,COUNT(W:W),1),OFFSET($W$4,0,0,COUNT(W:W),1))))+1} -> 24 | Z35: -
A36: ='Data Siswa'!A34 -> 33 | B36: ='Data Siswa'!B34 -> 0 | C36: ='Data Siswa'!C34 -> 0 | T36: =SUM(D36:S36) -> 0 | U36: =AVERAGE(D36:S36) -> #DIV/0! | W36: =SUM('Nilai Tahriri'!AJ34,'Nilai Syafahi'!T36) -> 0 | X36: =AVERAGE(D36:S36,'Nilai Tahriri'!D34:AI34) -> #DIV/0! | Y36: {=SUM(IF(W36<OFFSET($W$4,0,0,COUNT(W:W),1),1/COUNTIF(OFFSET($W$4,0,0,COUNT(W:W),1),OFFSET($W$4,0,0,COUNT(W:W),1))))+1} -> 24 | Z36: -
A37: ='Data Siswa'!A35 -> 34 | B37: ='Data Siswa'!B35 -> 0 | C37: ='Data Siswa'!C35 -> 0 | T37: =SUM(D37:S37) -> 0 | U37: =AVERAGE(D37:S37) -> #DIV/0! | W37: =SUM('Nilai Tahriri'!AJ35,'Nilai Syafahi'!T37) -> 0 | X37: =AVERAGE(D37:S37,'Nilai Tahriri'!D35:AI35) -> #DIV/0! | Y37: {=SUM(IF(W37<OFFSET($W$4,0,0,COUNT(W:W),1),1/COUNTIF(OFFSET($W$4,0,0,COUNT(W:W),1),OFFSET($W$4,0,0,COUNT(W:W),1))))+1} -> 24 | Z37: -
A38: ='Data Siswa'!A36 -> 35 | B38: ='Data Siswa'!B36 -> 0 | C38: ='Data Siswa'!C36 -> 0 | T38: =SUM(D38:S38) -> 0 | U38: =AVERAGE(D38:S38) -> #DIV/0! | W38: =SUM('Nilai Tahriri'!AJ36,'Nilai Syafahi'!T38) -> 0 | X38: =AVERAGE(D38:S38,'Nilai Tahriri'!D36:AI36) -> #DIV/0! | Y38: {=SUM(IF(W38<OFFSET($W$4,0,0,COUNT(W:W),1),1/COUNTIF(OFFSET($W$4,0,0,COUNT(W:W),1),OFFSET($W$4,0,0,COUNT(W:W),1))))+1} -> 24 | Z38: -
... A43: ='Data Siswa'!A41 -> 40 | B43: ='Data Siswa'!B41 -> 0 | C43: ='Data Siswa'!C41 -> 0 | T43: =SUM(D43:S43) -> 0 | U43: =AVERAGE(D43:S43) -> #DIV/0! | W43: =SUM('Nilai Tahriri'!AJ41,'Nilai Syafahi'!T43) -> 0 | X43: =AVERAGE(D43:S43,'Nilai Tahriri'!D41:AI41) -> #DIV/0! | Y43: {=SUM(IF(W43<OFFSET($W$4,0,0,COUNT(W:W),1),1/COUNTIF(OFFSET($W$4,0,0,COUNT(W:W),1),OFFSET($W$4,0,0,COUNT(W:W),1))))+1} -> 24 | Z43: -

Sheet Akhlak
A1: Biodata | D1: Akhlak
A2: No | B2: Nama Lengkap | C2: No Ujian | D2: البيان | G2: ايام الغيابة | J2: Catatan Wali Kelas Untuk Siswa
D3: النظافة | E3: السلك | F3: المواظبة | G3: لمرض | H3: لاستذان | I3: لآخر | J3: النقد
A4: ='Data Siswa'!A2 -> 1 | B4: ='Data Siswa'!B2 -> AGUS SAEPULLOH | C4: ='Data Siswa'!C2 -> 0460 | D4: 8 | E4: 8 | F4: 8
A5: ='Data Siswa'!A3 -> 2 | B5: ='Data Siswa'!B3 -> ALIFXANDER NESTA SAFI'I | C5: ='Data Siswa'!C3 -> 0461 | D5: 8 | E5: 8 | F5: 8
A6: ='Data Siswa'!A4 -> 3 | B6: ='Data Siswa'!B4 -> ANAN WIDIANSYAH | C6: ='Data Siswa'!C4 -> 0462 | D6: 8 | E6: 8 | F6: 8
A7: ='Data Siswa'!A5 -> 4 | B7: ='Data Siswa'!B5 -> DANIL RAMADHAN | C7: ='Data Siswa'!C5 -> 0463 | D7: 8 | E7: 8 | F7: 8
A8: ='Data Siswa'!A6 -> 5 | B8: ='Data Siswa'!B6 -> FAHRI NUR AZIZ | C8: ='Data Siswa'!C6 -> 0464 | D8: 8 | E8: 8 | F8: 8
A9: ='Data Siswa'!A7 -> 6 | B9: ='Data Siswa'!B7 -> FAISAL RAMADHAN | C9: ='Data Siswa'!C7 -> 0465 | D9: 8 | E9: 8 | F9: 8
A10: ='Data Siswa'!A8 -> 7 | B10: ='Data Siswa'!B8 -> FIKI KURNIAWAN | C10: ='Data Siswa'!C8 -> 0466 | D10: 8 | E10: 8 | F10: 8
A11: ='Data Siswa'!A9 -> 8 | B11: ='Data Siswa'!B9 -> IKHBAL FATUROKHMAN | C11: ='Data Siswa'!C9 -> 0467 | D11: 8 | E11: 8 | F11: 8
A12: ='Data Siswa'!A10 -> 9 | B12: ='Data Siswa'!B10 -> ILHAM NUR WAHYU | C12: ='Data Siswa'!C10 -> 0468 | D12: 8 | E12: 8 | F12: 8
A13: ='Data Siswa'!A11 -> 10 | B13: ='Data Siswa'!B11 -> LUTHFI RAMADHAN | C13: ='Data Siswa'!C11 -> 0469 | D13: 8 | E13: 8 | F13: 8
A14: ='Data Siswa'!A12 -> 11 | B14: ='Data Siswa'!B12 -> MAULIDAN FAHRI BASTAMAN | C14: ='Data Siswa'!C12 -> 0470 | D14: 8 | E14: 8 | F14: 8
A15: ='Data Siswa'!A13 -> 12 | B15: ='Data Siswa'!B13 -> MOCHAMMAD FIKRI | C15: ='Data Siswa'!C13 -> 0471 | D15: 8 | E15: 8 | F15: 8
... A26: ='Data Siswa'!A24 -> 23 | B26: ='Data Siswa'!B24 -> ROHIN ARPINAS | C26: ='Data Siswa'!C24 -> 0482 | D26: 8 | E26: 8 | F26: 8
A27: ='Data Siswa'!A25 -> 24 | B27: ='Data Siswa'!B25 -> 0 | C27: ='Data Siswa'!C25 -> 0
A28: ='Data Siswa'!A26 -> 25 | B28: ='Data Siswa'!B26 -> 0 | C28: ='Data Siswa'!C26 -> 0
A29: ='Data Siswa'!A27 -> 26 | B29: ='Data Siswa'!B27 -> 0 | C29: ='Data Siswa'!C27 -> 0
A30: ='Data Siswa'!A28 -> 27 | B30: ='Data Siswa'!B28 -> 0 | C30: ='Data Siswa'!C28 -> 0
A31: ='Data Siswa'!A29 -> 28 | B31: ='Data Siswa'!B29 -> 0 | C31: ='Data Siswa'!C29 -> 0
A32: ='Data Siswa'!A30 -> 29 | B32: ='Data Siswa'!B30 -> 0 | C32: ='Data Siswa'!C30 -> 0
A33: ='Data Siswa'!A31 -> 30 | B33: ='Data Siswa'!B31 -> 0 | C33: ='Data Siswa'!C31 -> 0
A34: ='Data Siswa'!A32 -> 31 | B34: ='Data Siswa'!B32 -> 0 | C34: ='Data Siswa'!C32 -> 0 | J34: -
A35: ='Data Siswa'!A33 -> 32 | B35: ='Data Siswa'!B33 -> 0 | C35: ='Data Siswa'!C33 -> 0 | J35: -
A36: ='Data Siswa'!A34 -> 33 | B36: ='Data Siswa'!B34 -> 0 | C36: ='Data Siswa'!C34 -> 0 | J36: -
A37: ='Data Siswa'!A35 -> 34 | B37: ='Data Siswa'!B35 -> 0 | C37: ='Data Siswa'!C35 -> 0 | J37: -
A38: ='Data Siswa'!A36 -> 35 | B38: ='Data Siswa'!B36 -> 0 | C38: ='Data Siswa'!C36 -> 0 | J38: -
A39: ='Data Siswa'!A37 -> 36 | B39: ='Data Siswa'!B37 -> 0 | C39: ='Data Siswa'!C37 -> 0 | J39: -
A40: ='Data Siswa'!A38 -> 37 | B40: ='Data Siswa'!B38 -> 0 | C40: ='Data Siswa'!C38 -> 0 | J40: -
A41: ='Data Siswa'!A39 -> 38 | B41: ='Data Siswa'!B39 -> 0 | C41: ='Data Siswa'!C39 -> 0 | J41: -
A42: ='Data Siswa'!A40 -> 39 | B42: ='Data Siswa'!B40 -> 0 | C42: ='Data Siswa'!C40 -> 0 | J42: -
A43: ='Data Siswa'!A41 -> 40 | B43: ='Data Siswa'!B41 -> 0 | C43: ='Data Siswa'!C41 -> 0 | J43: -

Sheet Rapot
B1: =VLOOKUP($U$8,'Nilai Tahriri'!$A$2:$X$41,2,FALSE)&" ( "&VLOOKUP($U$8,'Data Siswa'!$A$2:$D$41,3,FALSE)&" )" -> ROHIN ARPINAS ( 0482 )
B3: =Biodata!$B$12 -> ١٤٤٥ - ١٤٤٦ ه | D3: =Biodata!$B$10 -> العام الدراسي : | K3: =Biodata!$B$7 -> الفصل الدراسي : الأول | M3: =Biodata!$B$4 -> الصف : الخامس ج للبنين | O3: =(VLOOKUP($U$8,'Data Siswa'!$A$2:$D$41,4,FALSE)) | R3: الإسم :
B4: =Biodata!$B$11 -> ٢٠٢٤ - ٢٠٢٥ م
B6: الدرجة الكبرى ٨, الدرجة الصغرى ٤ | L6: مسـلسـل | M6: الدرجة الكبرى ٨, الدرجة الصغرى ٤ | R6: مسـلسـل
B7: الدرجة المكتسبة | G7: المواد الشفهية | M7: الدرجة المكتسبة | O7: المواد التحريرية | U7: HALAMAN
B8: كتابة | C8: رقم | M8: كتابة | N8: رقم | U8: 23
B9: اللغة العربية | M9: =VLOOKUP(N9,Sheet1!$A$1:$B$93,2) | P9: علم التجويد | R9: 1
B10: =VLOOKUP(C10,Sheet1!$A$1:$B$93,2) -> ستّ | C10: =VLOOKUP($U$8,'Nilai Syafahi'!$A$4:$Z$43,4,FALSE) -> 6 | G10: الإنشاء \ التعبير الشفهي | L10: 40 | M10: =VLOOKUP(N10,Sheet1!$A$1:$B$93,2) -> خمس و نصف | N10: =VLOOKUP($U$8,'Nilai Tahriri'!$A$2:$AJ$41,4,FALSE) -> 5.5 | P10: التفسير | R10: 2 | U10: Awal | V10: 1
B11: =VLOOKUP(C11,Sheet1!$A$1:$B$93,2) -> اربع و نصف | C11: =VLOOKUP($U$8,'Nilai Syafahi'!$A$4:$Z$43,5,FALSE) -> 4.5 | K11: النحو | L11: 41 | M11: =VLOOKUP(N11,Sheet1!$A$1:$B$93,2) -> خمس | N11: =VLOOKUP($U$8,'Nilai Tahriri'!$A$2:$AJ$41,5,FALSE) -> 5 | P11: الحديث | R11: 3
B12: =VLOOKUP(C12,Sheet1!$A$1:$B$93,2) -> خمس و نصف | C12: =VLOOKUP($U$8,'Nilai Syafahi'!$A$4:$Z$43,6,FALSE) -> 5.5 | K12: الصرف | L12: 42 | M12: =VLOOKUP(N12,Sheet1!$A$1:$B$93,2) -> اربع | N12: =VLOOKUP($U$8,'Nilai Tahriri'!$A$2:$AJ$41,6,FALSE) -> 4 | P12: مصطلح الحديث | R12: 4 | U12: Akhir | V12: 23
B13: =VLOOKUP(C13,Sheet1!$A$1:$B$93,2) -> ستّ | C13: =VLOOKUP($U$8,'Nilai Syafahi'!$A$4:$Z$43,7,FALSE) -> 6 | K13: المطالعة | L13: 43 | M13: =VLOOKUP(N13,Sheet1!$A$1:$B$93,2) -> اربع | N13: =VLOOKUP($U$8,'Nilai Tahriri'!$A$2:$AJ$41,7,FALSE) -> 4 | P13: الفقه | R13: 5
B14: =VLOOKUP(C14,Sheet1!$A$1:$B$93,2) -> ست و تسع | C14: =VLOOKUP($U$8,'Nilai Syafahi'!$A$4:$Z$43,8,FALSE) -> 6.9 | K14: النصوص الأدبية | L14: 44 | M14: =VLOOKUP(N14,Sheet1!$A$1:$B$93,2) -> اربع | N14: =VLOOKUP($U$8,'Nilai Tahriri'!$A$2:$AJ$41,8,FALSE) -> 4 | P14: أصول الفقه | R14: 6
B15: =VLOOKUP(C15,Sheet1!$A$1:$B$93,2) -> ستّ | C15: =VLOOKUP($U$8,'Nilai Syafahi'!$A$4:$Z$43,9,FALSE) -> 6 | K15: المحادثة العربية | L15: 45 | M15: =VLOOKUP(N15,Sheet1!$A$1:$B$93,2) -> اربع | N15: =VLOOKUP($U$8,'Nilai Tahriri'!$A$2:$AJ$41,9,FALSE) -> 4 | P15: علم الفرائض | R15: 7
B16: اللغة الإنجليزية | M16: =VLOOKUP(N16,Sheet1!$A$1:$B$93,2) | P16: أصول الدين \ التوحيد | R16: 8
B17: =VLOOKUP(C17,Sheet1!$A$1:$B$93,2) -> خمس و نصف | C17: =VLOOKUP($U$8,'Nilai Syafahi'!$A$4:$Z$43,10,FALSE) -> 5.5 | G17: Conversation | L17: 46 | M17: =VLOOKUP(N17,Sheet1!$A$1:$B$93,2) -> خمس | N17: =VLOOKUP($U$8,'Nilai Tahriri'!$A$2:$AJ$41,10,FALSE) -> 5 | P17: الديانة\الأديان | R17: 9
B18: =VLOOKUP(C18,Sheet1!$A$1:$B$93,2) -> خمس و نصف | C18: =VLOOKUP($U$8,'Nilai Syafahi'!$A$4:$Z$43,11,FALSE) -> 5.5 | G18: Grammer | H18: Grammer | I18: Grammer | J18: Grammer | K18: Grammer | L18: 47 | M18: =VLOOKUP(N18,Sheet1!$A$1:$B$93,2) -> اربع | N18: =VLOOKUP($U$8,'Nilai Tahriri'!$A$2:$AJ$41,11,FALSE) -> 4 | P18: تاريخ التشريع الإسلامي | R18: 10
B19: =VLOOKUP(C19,Sheet1!$A$1:$B$93,2) -> خمس | C19: =VLOOKUP($U$8,'Nilai Syafahi'!$A$4:$Z$43,12,FALSE) -> 5 | G19: Structure | L19: 48 | M19: =VLOOKUP(N19,Sheet1!$A$1:$B$93,2) -> اربع | N19: =VLOOKUP($U$8,'Nilai Tahriri'!$A$2:$AJ$41,12,FALSE) -> 4 | P19: تاريخ الإسلام | R19: 11
B20: =VLOOKUP(C20,Sheet1!$A$1:$B$93,2) -> خمس | C20: =VLOOKUP($U$8,'Nilai Syafahi'!$A$4:$Z$43,13,FALSE) -> 5 | G20: Reading | L20: 49 | M20: =VLOOKUP(N20,Sheet1!$A$1:$B$93,2) -> خمس | N20: =VLOOKUP($U$8,'Nilai Tahriri'!$A$2:$AJ$41,13,FALSE) -> 5 | P20: الإنشاء \ التعبير التحريري | R20: 12
B21: =VLOOKUP(C21,Sheet1!$A$1:$B$93,2) -> خمس | C21: =VLOOKUP($U$8,'Nilai Syafahi'!$A$4:$Z$43,14,FALSE) -> 5 | G21: Vocabularies | L21: 50 | M21: =VLOOKUP(N21,Sheet1!$A$1:$B$93,2) -> خمس و نصف | N21: =VLOOKUP($U$8,'Nilai Tahriri'!$A$2:$AJ$41,14,FALSE) -> 5.5 | P21: تمرين اللغة العربية | R21: 13
B22: المواد الفقهية | M22: =VLOOKUP(N22,Sheet1!$A$1:$B$93,2) -> ستّ | N22: =VLOOKUP($U$8,'Nilai Tahriri'!$A$2:$AJ$41,15,FALSE) -> 6 | P22: المطالعة | R22: 14
B23: =VLOOKUP(C23,Sheet1!$A$1:$B$93,2) -> ستّ | C23: =VLOOKUP($U$8,'Nilai Syafahi'!$A$4:$Z$43,15,FALSE) -> 6 | G23: قراءة القرآن | L23: 51 | M23: =VLOOKUP(N23,Sheet1!$A$1:$B$93,2) -> خمس و نصف | N23: =VLOOKUP($U$8,'Nilai Tahriri'!$A$2:$AJ$41,16,FALSE) -> 5.5 | P23: النصوص الأدبية | Q23: 12 | R23: 15
B24: =VLOOKUP(C24,Sheet1!$A$1:$B$93,2) -> ستّ | C24: =VLOOKUP($U$8,'Nilai Syafahi'!$A$4:$Z$43,16,FALSE) -> 6 | G24: التجويد | L24: 52 | M24: =VLOOKUP(N24,Sheet1!$A$1:$B$93,2) -> اربع | N24: =VLOOKUP($U$8,'Nilai Tahriri'!$A$2:$AJ$41,17,FALSE) -> 4 | P24: النحو والتطبيق | R24: 16
B25: =VLOOKUP(C25,Sheet1!$A$1:$B$93,2) -> اربع و نصف | C25: =VLOOKUP($U$8,'Nilai Syafahi'!$A$4:$Z$43,17,FALSE) -> 4.5 | G25: حفط القرآن | L25: 53 | M25: =VLOOKUP(N25,Sheet1!$A$1:$B$93,2) -> اربع | N25: =VLOOKUP($U$8,'Nilai Tahriri'!$A$2:$AJ$41,18,FALSE) -> 4 | P25: الصرف والتطبيق | R25: 17
B26: =VLOOKUP(C26,Sheet1!$A$1:$B$93,2) -> خمس و نصف | C26: =VLOOKUP($U$8,'Nilai Syafahi'!$A$4:$Z$43,18,FALSE) -> 5.5 | G26: الفقه | L26: 54 | M26: =VLOOKUP(N26,Sheet1!$A$1:$B$93,2) -> اربع و نصف | N26: =VLOOKUP($U$8,'Nilai Tahriri'!$A$2:$AJ$41,19,FALSE) -> 4.5 | P26: البلاغة | R26: 18
B27: =VLOOKUP(C27,Sheet1!$A$1:$B$93,2) | G27: Praktik Sholat | K27: ممارسة الصلاة | L27: 55 | M27: =VLOOKUP(N27,Sheet1!$A$1:$B$93,2) | P27: علم المنطق | R27: 19
B28: =VLOOKUP(C28,Sheet1!$A$1:$B$93,2) -> خمس | C28: =VLOOKUP($U$8,'Nilai Syafahi'!$A$4:$Z$43,19,FALSE) -> 5 | G28: الأدعية اليومية | L28: 56 | M28: =VLOOKUP(N28,Sheet1!$A$1:$B$93,2) | P28: تا. أدب اللغة | R28: 20
B29: كتب التراث | M29: =VLOOKUP(N29,Sheet1!$A$1:$B$93,2) -> اربع و نصف | N29: =VLOOKUP($U$8,'Nilai Tahriri'!$A$2:$AJ$41,20,FALSE) -> 4.5 | P29: الإملاء | R29: 21
G30: فتح القريب | L30: 57 | M30: =VLOOKUP(N30,Sheet1!$A$1:$B$93,2) -> خمس | N30: =VLOOKUP($U$8,'Nilai Tahriri'!$A$2:$AJ$41,21,FALSE) -> 5 | P30: الخط العربي | R30: 22
B31: =VLOOKUP(C31,Sheet1!$A$1:$B$93,2) | G31: فتح المعين | L31: 58 | M31: =VLOOKUP(N31,Sheet1!$A$1:$B$93,2) -> اربع | N31: =VLOOKUP($U$8,'Nilai Tahriri'!$A$2:$AJ$41,22,FALSE) -> 4 | P31: التربية والتعليم | R31: 23
B32: =VLOOKUP(C32,Sheet1!$A$1:$B$93,2) | G32: العمريطي | L32: 59 | M32: =VLOOKUP(N32,Sheet1!$A$1:$B$93,2) | P32: التربية العملية | R32: 24
B33: =VLOOKUP(C33,Sheet1!$A$1:$B$93,2) | G33: الفية ابن مالك | L33: 60 | M33: =VLOOKUP(N33,Sheet1!$A$1:$B$93,2) -> سبع | N33: =VLOOKUP($U$8,'Nilai Tahriri'!$A$2:$AJ$41,23,FALSE) -> 7 | P33: روح المعهد | R33: 25
B34: =VLOOKUP($U$8,'Nilai Syafahi'!$A$4:$Z$43,20,FALSE) -> 87.9 | K34: الجملة | M34: =VLOOKUP(N34,Sheet1!$A$1:$B$93,2) -> خمس | N34: =VLOOKUP($U$8,'Nilai Tahriri'!$A$2:$AJ$41,24,FALSE) -> 5 | P34: الخطابة | R34: 26
M35: =VLOOKUP(N35,Sheet1!$A$1:$B$93,2) -> ثمان و اثنين | N35: =VLOOKUP($U$8,'Nilai Tahriri'!$A$2:$AJ$41,25,FALSE) -> 8.2 | O35: Bhs. Inggris | P35: الإنجليزية | R35: 27
B36: البيان | M36: =VLOOKUP(N36,Sheet1!$A$1:$B$93,2) -> سبع | N36: =VLOOKUP($U$8,'Nilai Tahriri'!$A$2:$AJ$41,26,FALSE) -> 7 | O36: Bhs. Indonesia | P36: الإندونيسية | R36: 28
B37: المواظبة | D37: السلوك | K37: النظافة | M37: =VLOOKUP(N37,Sheet1!$A$1:$B$93,2) -> ثمان و نصف | N37: =VLOOKUP($U$8,'Nilai Tahriri'!$A$2:$AJ$41,27,FALSE) -> 8.5 | O37: Matematika | P37: الرياضية | R37: 29
B38: =VLOOKUP($U$8,Akhlak!$A$4:$J$43,6,FALSE) -> 8 | D38: =VLOOKUP($U$8,Akhlak!$A$4:$J$43,5,FALSE) -> 8 | K38: =VLOOKUP($U$8,Akhlak!$A$4:$J$43,4,FALSE) -> 8 | M38: =VLOOKUP(N38,Sheet1!$A$1:$B$93,2) | O38: Fisika | P38: الفيزياء | R38: 30
B39: أيام الغياب | M39: =VLOOKUP(N39,Sheet1!$A$1:$B$93,2) | O39: Biologi | P39: البيولوجيا | R39: 31
B40: لآخر | D40: لاسـتئذان | K40: لمرض | M40: =VLOOKUP(N40,Sheet1!$A$1:$B$93,2) | O40: Kimia | P40: الكيمياء | R40: 32
B41: =VLOOKUP($U$8,Akhlak!$A$4:$J$43,9,FALSE) -> 0 | D41: =VLOOKUP($U$8,Akhlak!$A$4:$J$43,8,FALSE) -> 0 | K41: =VLOOKUP($U$8,Akhlak!$A$4:$J$43,7,FALSE) -> 0 | M41: =VLOOKUP(N41,Sheet1!$A$1:$B$93,2) -> ثمان و واحد | N41: =VLOOKUP($U$8,'Nilai Tahriri'!$A$2:$AJ$41,31,FALSE) -> 8.1 | O41: Geografi | P41: الجغرافيا | R41: 33
B42: مستوى التفوق | D42: التقدير العام | M42: =VLOOKUP(N42,Sheet1!$A$1:$B$93,2) -> سبع | N42: =VLOOKUP($U$8,'Nilai Tahriri'!$A$2:$AJ$41,32,FALSE) -> 7 | O42: Sosiologi | P42: سوسيولوجيا | R42: 34
...

Sheet Rekap Nilai
A1: REKAP NILAI UJIAN
A3: =Biodata!C4 -> الخامس ج للبنين
A5: No | B5: Nama | C5: No Ujian | D5: Jumlah Nilai | E5: Nilai Rata-Rata | F5: Peringkat | G5: Keterangan
A6: 1 | B6: ='Data Siswa'!B14 -> MUHAMAD ANDREAN | C6: ='Data Siswa'!C14 -> 0472 | D6: ='Nilai Syafahi'!W16 -> 302.9 | E6: ='Nilai Syafahi'!X16 -> 6.7311111 | F6: ='Nilai Syafahi'!Y16 -> 1 | G6: ='Nilai Syafahi'!Z16 -> -
A7: 2 | B7: ='Data Siswa'!B16 -> MUHAMAD HILMAN | C7: ='Data Siswa'!C16 -> 0474 | D7: ='Nilai Syafahi'!W18 -> 277.9 | E7: ='Nilai Syafahi'!X18 -> 6.1755556 | F7: ='Nilai Syafahi'!Y18 -> 2 | G7: ='Nilai Syafahi'!Z18 -> -
A8: 3 | B8: ='Data Siswa'!B17 -> MUHAMAD RIZKI FADILAH | C8: ='Data Siswa'!C17 -> 0475 | D8: ='Nilai Syafahi'!W19 -> 266.1 | E8: ='Nilai Syafahi'!X19 -> 5.9133333 | F8: ='Nilai Syafahi'!Y19 -> 3 | G8: ='Nilai Syafahi'!Z19 -> -
A9: 4 | B9: ='Data Siswa'!B7 -> FAISAL RAMADHAN | C9: ='Data Siswa'!C7 -> 0465 | D9: ='Nilai Syafahi'!W9 -> 264.4 | E9: ='Nilai Syafahi'!X9 -> 5.8755556 | F9: ='Nilai Syafahi'!Y9 -> 4 | G9: ='Nilai Syafahi'!Z9 -> -
A10: 5 | B10: ='Data Siswa'!B8 -> FIKI KURNIAWAN | C10: ='Data Siswa'!C8 -> 0466 | D10: ='Nilai Syafahi'!W10 -> 261.7 | E10: ='Nilai Syafahi'!X10 -> 5.8155556 | F10: ='Nilai Syafahi'!Y10 -> 5 | G10: ='Nilai Syafahi'!Z10 -> -
A11: 6 | B11: ='Data Siswa'!B9 -> IKHBAL FATUROKHMAN | C11: ='Data Siswa'!C9 -> 0467 | D11: ='Nilai Syafahi'!W11 -> 261.1 | E11: ='Nilai Syafahi'!X11 -> 5.8022222 | F11: ='Nilai Syafahi'!Y11 -> 6 | G11: ='Nilai Syafahi'!Z11 -> -
A12: 7 | B12: ='Data Siswa'!B11 -> LUTHFI RAMADHAN | C12: ='Data Siswa'!C11 -> 0469 | D12: ='Nilai Syafahi'!W13 -> 253.5 | E12: ='Nilai Syafahi'!X13 -> 5.6333333 | F12: ='Nilai Syafahi'!Y13 -> 7 | G12: ='Nilai Syafahi'!Z13 -> -
A13: 8 | B13: ='Data Siswa'!B20 -> MUHAMMAD AZIZ ABDIYANTO | C13: ='Data Siswa'!C20 -> 0478 | D13: ='Nilai Syafahi'!W22 -> 250.8 | E13: ='Nilai Syafahi'!X22 -> 5.5733333 | F13: ='Nilai Syafahi'!Y22 -> 8 | G13: ='Nilai Syafahi'!Z22 -> -
A14: 9 | B14: ='Data Siswa'!B24 -> ROHIN ARPINAS | C14: ='Data Siswa'!C24 -> 0482 | D14: ='Nilai Syafahi'!W26 -> 250.5 | E14: ='Nilai Syafahi'!X26 -> 5.5666667 | F14: ='Nilai Syafahi'!Y26 -> 9 | G14: ='Nilai Syafahi'!Z26 -> -
A15: 10 | B15: ='Data Siswa'!B19 -> MUHAMAD ZIDAN | C15: ='Data Siswa'!C19 -> 0477 | D15: ='Nilai Syafahi'!W21 -> 248.8 | E15: ='Nilai Syafahi'!X21 -> 5.5288889 | F15: ='Nilai Syafahi'!Y21 -> 10 | G15: ='Nilai Syafahi'!Z21 -> -
A16: 11 | B16: ='Data Siswa'!B12 -> MAULIDAN FAHRI BASTAMAN | C16: ='Data Siswa'!C12 -> 0470 | D16: ='Nilai Syafahi'!W14 -> 247.3 | E16: ='Nilai Syafahi'!X14 -> 5.4955556 | F16: ='Nilai Syafahi'!Y14 -> 11 | G16: ='Nilai Syafahi'!Z14 -> -
A17: 12 | B17: ='Data Siswa'!B18 -> MUHAMAD YUSUF IRFAN | C17: ='Data Siswa'!C18 -> 0476 | D17: ='Nilai Syafahi'!W20 -> 246.8 | E17: ='Nilai Syafahi'!X20 -> 5.4844444 | F17: ='Nilai Syafahi'!Y20 -> 12 | G17: ='Nilai Syafahi'!Z20 -> -
A18: 13 | B18: ='Data Siswa'!B2 -> AGUS SAEPULLOH | C18: ='Data Siswa'!C2 -> 0460 | D18: ='Nilai Syafahi'!W4 -> 246.1 | E18: ='Nilai Syafahi'!X4 -> 5.4688889 | F18: ='Nilai Syafahi'!Y4 -> 13 | G18: ='Nilai Syafahi'!Z4 -> -
A19: 14 | B19: ='Data Siswa'!B15 -> MUHAMAD FEBRIANSYAH | C19: ='Data Siswa'!C15 -> 0473 | D19: ='Nilai Syafahi'!W17 -> 244.3 | E19: ='Nilai Syafahi'!X17 -> 5.4288889 | F19: ='Nilai Syafahi'!Y17 -> 14 | G19: ='Nilai Syafahi'!Z17 -> -
A20: 15 | B20: ='Data Siswa'!B21 -> MUHAMMAD TANZILUL MUNZIAT | C20: ='Data Siswa'!C21 -> 0479 | D20: ='Nilai Syafahi'!W23 -> 243.7 | E20: ='Nilai Syafahi'!X23 -> 5.4155556 | F20: ='Nilai Syafahi'!Y23 -> 15 | G20: ='Nilai Syafahi'!Z23 -> -
A21: 16 | B21: ='Data Siswa'!B10 -> ILHAM NUR WAHYU | C21: ='Data Siswa'!C10 -> 0468 | D21: ='Nilai Syafahi'!W12 -> 243 | E21: ='Nilai Syafahi'!X12 -> 5.4 | F21: ='Nilai Syafahi'!Y12 -> 16 | G21: ='Nilai Syafahi'!Z12 -> -
A22: 17 | B22: ='Data Siswa'!B22 -> MUHAMMAD WILDANUL HUDA | C22: ='Data Siswa'!C22 -> 0480 | D22: ='Nilai Syafahi'!W24 -> 241.9 | E22: ='Nilai Syafahi'!X24 -> 5.3755556 | F22: ='Nilai Syafahi'!Y24 -> 17 | G22: ='Nilai Syafahi'!Z24 -> -
A23: 18 | B23: ='Data Siswa'!B5 -> DANIL RAMADHAN | C23: ='Data Siswa'!C5 -> 0463 | D23: ='Nilai Syafahi'!W7 -> 241.1 | E23: ='Nilai Syafahi'!X7 -> 5.3577778 | F23: ='Nilai Syafahi'!Y7 -> 18 | G23: ='Nilai Syafahi'!Z7 -> -
A24: 19 | B24: ='Data Siswa'!B4 -> ANAN WIDIANSYAH | C24: ='Data Siswa'!C4 -> 0462 | D24: ='Nilai Syafahi'!W6 -> 240.5 | E24: ='Nilai Syafahi'!X6 -> 5.3444444 | F24: ='Nilai Syafahi'!Y6 -> 19 | G24: ='Nilai Syafahi'!Z6 -> -
A25: 20 | B25: ='Data Siswa'!B3 -> ALIFXANDER NESTA SAFI'I | C25: ='Data Siswa'!C3 -> 0461 | D25: ='Nilai Syafahi'!W5 -> 240 | E25: ='Nilai Syafahi'!X5 -> 5.3333333 | F25: ='Nilai Syafahi'!Y5 -> 20 | G25: ='Nilai Syafahi'!Z5 -> -
A26: 21 | B26: ='Data Siswa'!B6 -> FAHRI NUR AZIZ | C26: ='Data Siswa'!C6 -> 0464 | D26: ='Nilai Syafahi'!W8 -> 239.8 | E26: ='Nilai Syafahi'!X8 -> 5.3288889 | F26: ='Nilai Syafahi'!Y8 -> 21 | G26: ='Nilai Syafahi'!Z8 -> -
A27: 22 | B27: ='Data Siswa'!B23 -> NAUFAL RIZKIA AL THAF | C27: ='Data Siswa'!C23 -> 0481 | D27: ='Nilai Syafahi'!W25 -> 239.3 | E27: ='Nilai Syafahi'!X25 -> 5.3177778 | F27: ='Nilai Syafahi'!Y25 -> 22 | G27: ='Nilai Syafahi'!Z25 -> -
A28: 23 | B28: ='Data Siswa'!B13 -> MOCHAMMAD FIKRI | C28: ='Data Siswa'!C13 -> 0471 | D28: ='Nilai Syafahi'!W15 -> 238.1 | E28: ='Nilai Syafahi'!X15 -> 5.2911111 | F28: ='Nilai Syafahi'!Y15 -> 23 | G28: ='Nilai Syafahi'!Z15 -> -
A29: 24 | B29: ='Data Siswa'!B25 -> 0 | C29: ='Data Siswa'!C25 -> 0 | D29: ='Nilai Syafahi'!W27 -> 0 | E29: ='Nilai Syafahi'!X27 -> #DIV/0! | F29: ='Nilai Syafahi'!Y27 -> 24 | G29: ='Nilai Syafahi'!Z27 -> -
A30: 25 | B30: ='Data Siswa'!B26 -> 0 | C30: ='Data Siswa'!C26 -> 0 | D30: ='Nilai Syafahi'!W28 -> 0 | E30: ='Nilai Syafahi'!X28 -> #DIV/0! | F30: ='Nilai Syafahi'!Y28 -> 24 | G30: ='Nilai Syafahi'!Z28 -> -
A31: 26 | B31: ='Data Siswa'!B27 -> 0 | C31: ='Data Siswa'!C27 -> 0 | D31: ='Nilai Syafahi'!W29 -> 0 | E31: ='Nilai Syafahi'!X29 -> #DIV/0! | F31: ='Nilai Syafahi'!Y29 -> 24 | G31: ='Nilai Syafahi'!Z29 -> -
A32: 27 | B32: ='Data Siswa'!B28 -> 0 | C32: ='Data Siswa'!C28 -> 0 | D32: ='Nilai Syafahi'!W30 -> 0 | E32: ='Nilai Syafahi'!X30 -> #DIV/0! | F32: ='Nilai Syafahi'!Y30 -> 24 | G32: ='Nilai Syafahi'!Z30 -> -
A33: 28 | B33: ='Data Siswa'!B29 -> 0 | C33: ='Data Siswa'!C29 -> 0 | D33: ='Nilai Syafahi'!W31 -> 0 | E33: ='Nilai Syafahi'!X31 -> #DIV/0! | F33: ='Nilai Syafahi'!Y31 -> 24 | G33: ='Nilai Syafahi'!Z31 -> -
A34: 29 | B34: ='Data Siswa'!B30 -> 0 | C34: ='Data Siswa'!C30 -> 0 | D34: ='Nilai Syafahi'!W32 -> 0 | E34: ='Nilai Syafahi'!X32 -> #DIV/0! | F34: ='Nilai Syafahi'!Y32 -> 24 | G34: ='Nilai Syafahi'!Z32 -> -
A35: 30 | B35: ='Data Siswa'!B31 -> 0 | C35: ='Data Siswa'!C31 -> 0 | D35: ='Nilai Syafahi'!W33 -> 0 | E35: ='Nilai Syafahi'!X33 -> #DIV/0! | F35: ='Nilai Syafahi'!Y33 -> 24 | G35: ='Nilai Syafahi'!Z33 -> -
A36: 31 | B36: ='Data Siswa'!B32 -> 0 | C36: ='Data Siswa'!C32 -> 0 | D36: ='Nilai Syafahi'!W34 -> 0 | E36: ='Nilai Syafahi'!X34 -> #DIV/0! | F36: ='Nilai Syafahi'!Y34 -> 24 | G36: ='Nilai Syafahi'!Z34 -> -
A37: 32 | B37: ='Data Siswa'!B33 -> 0 | C37: ='Data Siswa'!C33 -> 0 | D37: ='Nilai Syafahi'!W35 -> 0 | E37: ='Nilai Syafahi'!X35 -> #DIV/0! | F37: ='Nilai Syafahi'!Y35 -> 24 | G37: ='Nilai Syafahi'!Z35 -> -
A38: 33 | B38: ='Data Siswa'!B34 -> 0 | C38: ='Data Siswa'!C34 -> 0 | D38: ='Nilai Syafahi'!W36 -> 0 | E38: ='Nilai Syafahi'!X36 -> #DIV/0! | F38: ='Nilai Syafahi'!Y36 -> 24 | G38: ='Nilai Syafahi'!Z36 -> -
A39: 34 | B39: ='Data Siswa'!B35 -> 0 | C39: ='Data Siswa'!C35 -> 0 | D39: ='Nilai Syafahi'!W37 -> 0 | E39: ='Nilai Syafahi'!X37 -> #DIV/0! | F39: ='Nilai Syafahi'!Y37 -> 24 | G39: ='Nilai Syafahi'!Z37 -> -
A40: 35 | B40: ='Data Siswa'!B36 -> 0 | C40: ='Data Siswa'!C36 -> 0 | D40: ='Nilai Syafahi'!W38 -> 0 | E40: ='Nilai Syafahi'!X38 -> #DIV/0! | F40: ='Nilai Syafahi'!Y38 -> 24 | G40: ='Nilai Syafahi'!Z38 -> -
... A45: 40 | B45: ='Data Siswa'!B41 -> 0 | C45: ='Data Siswa'!C41 -> 0 | D45: ='Nilai Syafahi'!W43 -> 0 | E45: ='Nilai Syafahi'!X43 -> #DIV/0! | F45: ='Nilai Syafahi'!Y43 -> 24 | G45: ='Nilai Syafahi'!Z43 -> -
E47: ولي الفصل
...

Sheet Sheet1
A2: 0
A3: 1 | B3: واحد
A4: 1.1 | B4: واحد و واحد
A5: 1.2 | B5: واحد و اثنين
A6: 1.3 | B6: واحد و ثلاث
A7: 1.4 | B7: واحد و اربع
A8: 1.5 | B8: واحد و نصف
A9: 1.6 | B9: واحد و ست
A10: 1.7 | B10: واحد و سبع
A11: 1.8 | B11: واحد و ثمان
A12: 1.9 | B12: واحد و تسع
A13: 2 | B13: اثنين
A14: 2.1 | B14: اثنين و واحد
... A93: 10 | B93: عشر
