Workbook
Name nilai: 'Nilai Tahriri'!$B$2:$AO$27

Sheet Identitas
C2: NAMA WALI KELAS
C4: KELAS
C6: SEMESTER
C8: TAHUN PELAJARAN
C10: TANGGAL HIJRIYAH
C12: TANGGAL MILADIYAH

Sheet Biodata
C1: IDENTITAS RAPOT
B4: =CONCATENATE(F4," ",E4," ",C4) -> الصف : السادس أ للبنين | C4: السادس أ للبنين | E4: : | F4: الصف | G4: 1
F5: ( Kelas )
B7: =CONCATENATE(F7," ",E7," ",C7) -> الفصل الدراسي : الأول | C7: الأول | E7: : | F7: الفصل الدراسي | G7: 2
F8: ( Semester )
B10: =CONCATENATE(F10," : ") -> العام الدراسي : | C10: ٢٠٢٤ - ٢٠٢٥ | E10: : | F10: العام الدراسي | G10: 3
B11: =CONCATENATE(C10," ","م") -> ٢٠٢٤ - ٢٠٢٥ م | C11: ١٤٤٥ - ١٤٤٦ | F11: ( Tahun Pelajaran )
B12: =CONCATENATE(C11," ","ه") -> ١٤٤٥ - ١٤٤٦ ه
C13: ١٩ من جمادى الآخر سنة ١٤٤٦ ه | E13: : | F13: تحريرا بسـيرانج في | G13: 4
C14: ٢٠ من ديسمبر سنة ٢٠٢٤ م | F14: ( Tanggal Rapot )
C16: كياهى الحاج شهاب المعي | E16: : | F16: مدير المدرسة | G16: 5
F17: ( Nama Kepala Sekolah )
C19: الأستاذ أحمد دمياطي | E19: : | F19: ولي الفصل | G19: 6
F20: ( Nama Wali Kelas )

Sheet Data Siswa
A1: No | B1: Nama | C1: No Exam | D1: Nama Arab
A2: 1 | B2: AHMAD FARIS | C2: 0508 | D2: أحمد فارس
A3: 2 | B3: AHMAD YAZID ZIDAN | C3: 0509 | D3: أحمد يزيد جدا
A4: 3 | B4: ALIEF RAMADHAN BADRI | C4: 0510 | D4: أليف رمضان بدري
A5: 4 | B5: ALWI RISFALDI | C5: 0511 | D5: علوي رسفلدي
A6: 5 | B6: DAIVA WAHYU AJI ARDIAN | C6: 0512 | D6: دائفة وحيو أجي أرديان
A7: 6 | B7: FALIH KHAIRAN AL GHANI | C7: 0513 | D7: فالح خيرا الغاني
A8: 7 | B8: KHOLIL IBRAHIM | C8: 0514 | D8: خليل إبرهيم
A9: 8 | B9: MUHAMAD IRFAN HABIB AL JAUHAR | C9: 0515 | D9: محمد عرفان حبيب الجوهر
A10: 9 | B10: MUHAMAD IRSAN APRIANSYAH | C10: 0516 | D10: محمد إرسان أفريانشاه
A11: 10 | B11: MUHAMAD ZIDAN BAWAZIER | C11: 0517 | D11: محمد زيدا بوازير
A12: 11 | B12: MUHAMMAD DZAKY ARYA PRATAMA | C12: 0518 | D12: محمد ذكي أريا فراتاما
A13: 12 | B13: MUHAMMAD LUCKY LUKMAN | C13: 0519 | D13: محمد لوكي لقمان
... A24: 23 | B24: YOGI PRATAMA | C24: 0530 | D24: يوغي فراتاما
A25: 24
A26: 25
A27: 26
A28: 27
A29: 28
A30: 29
A31: 30
A32: 31
A33: 32
A34: 33
A35: 34
A36: 35
... A41: 40

Sheet Nilai Tahriri
A1: No | B1: Nama | C1: No Ujian | D1: التفسير | E1: الحديث | F1: مصطلح الحديث | G1: الفقه | H1: اصول الفقه | I1: علم الفرائض | J1: آيات الأحكام | K1: الديانة | L1: تاريخ التشريع | M1: التاريخ الإسلام | N1: التعبير التحريري | O1: تمرين اللغة | P1: المطالعة | Q1: النصوص الأدبية | R1: النحو | S1: الصرف | T1: البلاغة | U1: علم المنطق | V1: تا. ادب اللغة | W1: الإملاء | X1: الخط | Y1: التربية والتعليم | Z1: التربية والعماية | AA1: روح المعهد | AB1: الخطابة | AC1: B. Inggris | AD1: B. Indonesia | AE1: Matematika | AF1: Fisika | AG1: Biologi | AH1: Kimia | AI1: Geografi | AJ1: Sosiologi | AK1: Ekonomi | AL1: PPKN | AM1: Sjrh. Indo | AN1: Komputer | AO1: Jumlah Nilai | AP1: Nilai Rata2
A2: ='Data Siswa'!A2 -> 1 | B2: ='Data Siswa'!B2 -> AHMAD FARIS | C2: ='Data Siswa'!C2 -> 0508 | D2: 4 | E2: 5 | F2: 5 | G2: 6 | H2: 5 | I2: 6.5 | J2: 6 | K2: 5.5 | L2: 7 | M2: 8 | N2: 6.5 | O2: 5 | P2: 6 | Q2: 6.5 | R2: 5 | S2: 5 | T2: 5 | U2: 7.5 | V2: 6 | W2: 7 | X2: 7 | Z2: 4 | AA2: 7 | AB2: 6 | AC2: 8 | AD2: 7 | AE2: 6 | AF2: 6 | AG2: 8 | AH2: 8 | AL2: 8 | AM2: 7.8 | AN2: 6 | AO2: =SUM(D2:AN2) -> 206.3 | AP2: =AVERAGE(D2:AN2) -> 6.2515152
A3: ='Data Siswa'!A3 -> 2 | B3: ='Data Siswa'!B3 -> AHMAD YAZID ZIDAN | C3: ='Data Siswa'!C3 -> 0509 | D3: 5 | E3: 5.5 | F3: 5 | G3: 7 | H3: 5 | I3: 6.5 | J3: 5.5 | K3: 5.5 | L3: 7 | M3: 8 | N3: 7 | O3: 5 | P3: 6 | Q3: 6 | R3: 6 | S3: 6 | T3: 4 | U3: 8 | V3: 6 | W3: 6 | X3: 7 | Z3: 4 | AA3: 7 | AB3: 6 | AC3: 8 | AD3: 6.5 | AE3: 6 | AF3: 6 | AG3: 8 | AH3: 8 | AL3: 8 | AM3: 8 | AN3: 6 | AO3: =SUM(D3:AN3) -> 208.5 | AP3: =AVERAGE(D3:AN3) -> 6.3181818
A4: ='Data Siswa'!A4 -> 3 | B4: ='Data Siswa'!B4 -> ALIEF RAMADHAN BADRI | C4: ='Data Siswa'!C4 -> 0510 | D4: 7 | E4: 7.5 | F4: 5 | G4: 7 | H4: 6.5 | I4: 7 | J4: 7 | K4: 5.5 | L4: 7 | M4: 8 | N4: 8 | O4: 7 | P4: 7 | Q4: 8 | R4: 7 | S4: 6.5 | T4: 8 | U4: 8 | V4: 6 | W4: 7 | X4: 7 | Z4: 4 | AA4: 7 | AB4: 7 | AC4: 7.5 | AD4: 6.5 | AE4: 6 | AF4: 6 | AG4: 8 | AH4: 8 | AL4: 8 | AM4: 8 | AN4: 6 | AO4: =SUM(D4:AN4) -> 229 | AP4: =AVERAGE(D4:AN4) -> 6.9393939
A5: ='Data Siswa'!A5 -> 4 | B5: ='Data Siswa'!B5 -> ALWI RISFALDI | C5: ='Data Siswa'!C5 -> 0511 | D5: 4.5 | E5: 7.5 | F5: 5 | G5: 7 | H5: 4.5 | I5: 6 | J5: 6 | K5: 5.5 | L5: 7 | M5: 8 | N5: 8 | O5: 5.5 | P5: 6 | Q5: 7 | R5: 6 | S5: 6 | T5: 8 | U5: 8 | V5: 6 | W5: 6 | X5: 7 | Z5: 4 | AA5: 7 | AB5: 6 | AC5: 7.5 | AD5: 6.5 | AE5: 6 | AF5: 6 | AG5: 8 | AH5: 8 | AL5: 8 | AM5: 8.2 | AN5: 6 | AO5: =SUM(D5:AN5) -> 215.7 | AP5: =AVERAGE(D5:AN5) -> 6.5363636
A6: ='Data Siswa'!A6 -> 5 | B6: ='Data Siswa'!B6 -> DAIVA WAHYU AJI ARDIAN | C6: ='Data Siswa'!C6 -> 0512 | D6: 4 | E6: 5.5 | F6: 5 | G6: 8 | H6: 4 | I6: 6 | J6: 6 | K6: 5 | L6: 7 | M6: 8 | N6: 5 | O6: 5 | P6: 5 | Q6: 6 | R6: 5 | S6: 6.5 | T6: 6 | U6: 8 | V6: 6 | W6: 6 | X6: 7 | Z6: 4 | AA6: 7 | AB6: 7 | AC6: 8 | AD6: 6.5 | AE6: 5 | AF6: 6 | AG6: 8 | AH6: 8 | AL6: 8 | AM6: 7.5 | AN6: 6 | AO6: =SUM(D6:AN6) -> 205 | AP6: =AVERAGE(D6:AN6) -> 6.2121212
A7: ='Data Siswa'!A7 -> 6 | B7: ='Data Siswa'!B7 -> FALIH KHAIRAN AL GHANI | C7: ='Data Siswa'!C7 -> 0513 | D7: 4.5 | E7: 4.5 | F7: 5 | G7: 7 | H7: 5 | I7: 6 | J7: 5.5 | K7: 5 | L7: 7 | M7: 8 | N7: 5 | O7: 5 | P7: 5 | Q7: 6 | R7: 5 | S7: 4.5 | T7: 4 | U7: 8 | V7: 5 | W7: 7 | X7: 7 | Z7: 4 | AA7: 7 | AB7: 6 | AC7: 7.5 | AD7: 6.5 | AE7: 6 | AF7: 6 | AG7: 8 | AH7: 8 | AL7: 8 | AM7: 7.8 | AN7: 6 | AO7: =SUM(D7:AN7) -> 199.8 | AP7: =AVERAGE(D7:AN7) -> 6.0545455
A8: ='Data Siswa'!A8 -> 7 | B8: ='Data Siswa'!B8 -> KHOLIL IBRAHIM | C8: ='Data Siswa'!C8 -> 0514 | D8: 4.5 | E8: 5.5 | F8: 5.5 | G8: 7 | H8: 4.5 | I8: 5 | J8: 6 | K8: 5 | L8: 7 | M8: 7.5 | N8: 5.5 | O8: 4 | P8: 6 | Q8: 6 | R8: 5 | S8: 6.5 | T8: 6.5 | U8: 7 | V8: 4.5 | W8: 6 | X8: 7 | Z8: 4 | AA8: 7 | AB8: 6 | AC8: 7.5 | AD8: 7.5 | AE8: 6 | AF8: 6 | AG8: 8 | AH8: 8 | AL8: 8 | AM8: 8 | AN8: 6 | AO8: =SUM(D8:AN8) -> 203.5 | AP8: =AVERAGE(D8:AN8) -> 6.1666667
A9: ='Data Siswa'!A9 -> 8 | B9: ='Data Siswa'!B9 -> MUHAMAD IRFAN HABIB AL JAUHAR | C9: ='Data Siswa'!C9 -> 0515 | D9: 4.5 | E9: 5 | F9: 5 | G9: 7 | H9: 4 | I9: 6.5 | J9: 6 | K9: 5 | L9: 7 | M9: 8 | N9: 7.5 | O9: 5 | P9: 5 | Q9: 8 | R9: 6 | S9: 6 | T9: 5.5 | U9: 8 | V9: 6 | W9: 7 | X9: 7 | Z9: 4 | AA9: 7 | AB9: 7 | AC9: 8 | AD9: 6 | AE9: 6 | AF9: 6 | AG9: 8 | AH9: 8 | AL9: 8 | AM9: 8.4 | AN9: 6 | AO9: =SUM(D9:AN9) -> 211.4 | AP9: =AVERAGE(D9:AN9) -> 6.4060606
A10: ='Data Siswa'!A10 -> 9 | B10: ='Data Siswa'!B10 -> MUHAMAD IRSAN APRIANSYAH | C10: ='Data Siswa'!C10 -> 0516 | D10: 5 | E10: 6 | F10: 5.5 | G10: 6.5 | H10: 5 | I10: 6 | J10: 6 | K10: 5 | L10: 7 | M10: 7.5 | N10: 8 | O10: 5 | P10: 5 | Q10: 7 | R10: 6 | S10: 6 | T10: 8 | U10: 8 | V10: 5 | W10: 6 | X10: 7 | Z10: 4.5 | AA10: 7 | AB10: 6 | AC10: 8 | AD10: 6 | AE10: 6 | AF10: 6 | AG10: 8 | AH10: 8 | AL10: 8 | AM10: 8 | AN10: 6 | AO10: =SUM(D10:AN10) -> 212 | AP10: =AVERAGE(D10:AN10) -> 6.4242424
A11: ='Data Siswa'!A11 -> 10 | B11: ='Data Siswa'!B11 -> MUHAMAD ZIDAN BAWAZIER | C11: ='Data Siswa'!C11 -> 0517 | D11: 5 | E11: 8 | F11: 5.5 | G11: 6.5 | H11: 7 | I11: 6.5 | J11: 7 | K11: 5 | L11: 7 | M11: 9 | N11: 8 | O11: 6 | P11: 6 | Q11: 8 | R11: 6 | S11: 7 | T11: 7 | U11: 8 | V11: 6.5 | W11: 7 | X11: 7 | Z11: 6.5 | AA11: 7 | AB11: 7 | AC11: 7.5 | AD11: 6.5 | AE11: 6 | AF11: 6 | AG11: 8 | AH11: 8 | AL11: 8 | AM11: 8.5 | AN11: 6 | AO11: =SUM(D11:AN11) -> 228 | AP11: =AVERAGE(D11:AN11) -> 6.9090909
A12: ='Data Siswa'!A12 -> 11 | B12: ='Data Siswa'!B12 -> MUHAMMAD DZAKY ARYA PRATAMA | C12: ='Data Siswa'!C12 -> 0518 | D12: 5 | E12: 8 | F12: 5 | G12: 6 | H12: 4 | I12: 6 | J12: 7 | K12: 5.5 | L12: 7 | M12: 8 | N12: 7 | O12: 5 | P12: 6 | Q12: 7.5 | R12: 5 | S12: 7 | T12: 8 | U12: 8 | V12: 6 | W12: 7 | X12: 7 | Z12: 6 | AA12: 7 | AB12: 7 | AC12: 7.5 | AD12: 6 | AE12: 6 | AF12: 6 | AG12: 8 | AH12: 8 | AL12: 8 | AM12: 8.2 | AN12: 6 | AO12: =SUM(D12:AN12) -> 218.7 | AP12: =AVERAGE(D12:AN12) -> 6.6272727
A13: ='Data Siswa'!A13 -> 12 | B13: ='Data Siswa'!B13 -> MUHAMMAD LUCKY LUKMAN | C13: ='Data Siswa'!C13 -> 0519 | D13: 7.5 | E13: 8 | F13: 6.5 | G13: 8 | H13: 8 | I13: 8 | J13: 7 | K13: 6.5 | L13: 7 | M13: 8.5 | N13: 8 | O13: 8 | P13: 7 | Q13: 8 | R13: 8 | S13: 7 | T13: 8 | U13: 8 | V13: 7 | W13: 7 | X13: 7 | Z13: 6.5 | AA13: 7 | AB13: 7 | AC13: 8 | AD13: 7.5 | AE13: 6 | AF13: 7 | AG13: 8 | AH13: 8 | AL13: 8 | AM13: 8.7 | AN13: 7 | AO13: =SUM(D13:AN13) -> 246.7 | AP13: =AVERAGE(D13:AN13) -> 7.4757576
... A24: ='Data Siswa'!A24 -> 23 | B24: ='Data Siswa'!B24 -> YOGI PRATAMA | C24: ='Data Siswa'!C24 -> 0530 | D24: 4 | E24: 6.5 | F24: 5 | G24: 6 | H24: 4 | I24: 6 | J24: 5.5 | K24: 5.5 | L24: 7 | M24: 9 | N24: 7 | O24: 4 | P24: 5.5 | Q24: 6 | R24: 5 | S24: 6 | T24: 6 | U24: 8 | V24: 5.5 | W24: 6 | X24: 7 | Z24: 4 | AA24: 7 | AB24: 6 | AC24: 7.5 | AD24: 6.5 | AE24: 6 | AF24: 6 | AG24: 8 | AH24: 8 | AL24: 8 | AM24: 8.5 | AN24: 6 | AO24: =SUM(D24:AN24) -> 206 | AP24: =AVERAGE(D24:AN24) -> 6.2424242
A25: ='Data Siswa'!A25 -> 24 | B25: ='Data Siswa'!B25 -> 0 | C25: ='Data Siswa'!C25 -> 0 | AO25: =SUM(D25:AN25) -> 0 | AP25: =AVERAGE(D25:AN25) -> #DIV/0!
A26: ='Data Siswa'!A26 -> 25 | B26: ='Data Siswa'!B26 -> 0 | C26: ='Data Siswa'!C26 -> 0 | AO26: =SUM(D26:AN26) -> 0 | AP26: =AVERAGE(D26:AN26) -> #DIV/0!
A27: ='Data Siswa'!A27 -> 26 | B27: ='Data Siswa'!B27 -> 0 | C27: ='Data Siswa'!C27 -> 0 | AO27: =SUM(D27:AN27) -> 0 | AP27: =AVERAGE(D27:AN27) -> #DIV/0!
A28: ='Data Siswa'!A28 -> 27 | B28: ='Data Siswa'!B28 -> 0 | C28: ='Data Siswa'!C28 -> 0 | AO28: =SUM(D28:AN28) -> 0 | AP28: =AVERAGE(D28:AN28) -> #DIV/0!
A29: ='Data Siswa'!A29 -> 28 | B29: ='Data Siswa'!B29 -> 0 | C29: ='Data Siswa'!C29 -> 0 | AO29: =SUM(D29:AN29) -> 0 | AP29: =AVERAGE(D29:AN29) -> #DIV/0!
A30: ='Data Siswa'!A30 -> 29 | B30: ='Data Siswa'!B30 -> 0 | C30: ='Data Siswa'!C30 -> 0 | AO30: =SUM(D30:AN30) -> 0 | AP30: =AVERAGE(D30:AN30) -> #DIV/0!
A31: ='Data Siswa'!A31 -> 30 | B31: ='Data Siswa'!B31 -> 0 | C31: ='Data Siswa'!C31 -> 0 | AO31: =SUM(D31:AN31) -> 0 | AP31: =AVERAGE(D31:AN31) -> #DIV/0!
A32: ='Data Siswa'!A32 -> 31 | B32: ='Data Siswa'!B32 -> 0 | C32: ='Data Siswa'!C32 -> 0 | AO32: =SUM(D32:AN32) -> 0 | AP32: =AVERAGE(D32:AN32) -> #DIV/0!
A33: ='Data Siswa'!A33 -> 32 | B33: ='Data Siswa'!B33 -> 0 | C33: ='Data Siswa'!C33 -> 0 | AO33: =SUM(D33:AN33) -> 0 | AP33: =AVERAGE(D33:AN33) -> #DIV/0!
A34: ='Data Siswa'!A34 -> 33 | B34: ='Data Siswa'!B34 -> 0 | C34: ='Data Siswa'!C34 -> 0 | AO34: =SUM(D34:AN34) -> 0 | AP34: =AVERAGE(D34:AN34) -> #DIV/0!
A35: ='Data Siswa'!A35 -> 34 | C35: ='Data Siswa'!C35 -> 0 | AO35: =SUM(D35:AN35) -> 0 | AP35: =AVERAGE(D35:AN35) -> #DIV/0!
A36: ='Data Siswa'!A36 -> 35 | B36: ='Data Siswa'!B36 -> 0 | C36: ='Data Siswa'!C36 -> 0 | AO36: =SUM(D36:AN36) -> 0 | AP36: =AVERAGE(D36:AN36) -> #DIV/0!
A37: ='Data Siswa'!A37 -> 36 | B37: ='Data Siswa'!B37 -> 0 | C37: ='Data Siswa'!C37 -> 0 | AO37: =SUM(D37:AN37) -> 0 | AP37: =AVERAGE(D37:AN37) -> #DIV/0!
A38: ='Data Siswa'!A38 -> 37 | B38: ='Data Siswa'!B38 -> 0 | C38: ='Data Siswa'!C38 -> 0 | AO38: =SUM(D38:AN38) -> 0 | AP38: =AVERAGE(D38:AN38) -> #DIV/0!
A39: ='Data Siswa'!A39 -> 38 | B39: ='Data Siswa'!B39 -> 0 | C39: ='Data Siswa'!C39 -> 0 | AO39: =SUM(D39:AN39) -> 0 | AP39: =AVERAGE(D39:AN39) -> #DIV/0!
A40: ='Data Siswa'!A40 -> 39 | B40: ='Data Siswa'!B40 -> 0 | C40: ='Data Siswa'!C40 -> 0 | AO40: =SUM(D40:AN40) -> 0 | AP40: =AVERAGE(D40:AN40) -> #DIV/0!
A41: ='Data Siswa'!A41 -> 40 | B41: ='Data Siswa'!B41 -> 0 | C41: ='Data Siswa'!C41 -> 0 | AO41: =SUM(D41:AN41) -> 0 | AP41: =AVERAGE(D41:AN41) -> #DIV/0!

Sheet Nilai Syafahi
A1: Biodata | D1: Nilai Ujian Syafahi | X1: Nilai Keseluruhan | AA1: Keterangan
A2: No | B2: Nama Lengkap | C2: No Ujian | D2: اللغة العربية | J2: اللغة الانجليزية | O2: المواد الفقهية | U2: الجملة | V2: Rata-Rata | X2: الجملة العام | Y2: Rata-Rata | Z2: مستوي التفوق | AA2: الملاحظة
D3: الانشاء | E3: النحو | F3: الصرف | G3: المطالعة | H3: النصوص الأدبية | I3: المحادثة العربية | J3: Conversation | K3: Grammar | L3: Structure | M3: Reading | N3: Vocabularies | O3: قراءة القرآن | P3: حفظ القرآن | Q3: الفقه | R3: اصول الفقه | S3: آيات الأحكام | T3: الأدعيه اليومية
A4: ='Data Siswa'!A2 -> 1 | B4: ='Data Siswa'!B2 -> AHMAD FARIS | C4: ='Data Siswa'!C2 -> 0508 | D4: 5 | E4: 5.5 | F4: 5 | G4: 6 | H4: 5.5 | J4: 5 | K4: 4 | L4: 4 | M4: 4 | N4: 5.5 | O4: 6 | P4: 6 | Q4: 4 | R4: 4 | S4: 6 | U4: =SUM(D4:T4) -> 75.5 | V4: =AVERAGE(D4:T4) -> 5.0333333 | X4: =SUM('Nilai Tahriri'!AO2,'Nilai Syafahi'!U4) -> 281.8 | Y4: =AVERAGE(D4:T4,'Nilai Tahriri'!D2:AN2) -> 5.8708333 | Z4: {=SUM(IF(X4<OFFSET($X$4,0,0,COUNT(X:X),1),1/COUNTIF(OFFSET($X$4,0,0,COUNT(X:X),1),OFFSET($X$4,0,0,COUNT(X:X),1))))+1} -> 20 | AA4: -
A5: ='Data Siswa'!A3 -> 2 | B5: ='Data Siswa'!B3 -> AHMAD YAZID ZIDAN | C5: ='Data Siswa'!C3 -> 0509 | D5: 6 | E5: 6 | F5: 6 | G5: 6 | H5: 5.5 | J5: 6.5 | K5: 7 | L5: 7 | M5: 7 | N5: 6 | O5: 6 | P5: 8 | Q5: 5 | R5: 4 | S5: 5.5 | U5: =SUM(D5:T5) -> 91.5 | V5: =AVERAGE(D5:T5) -> 6.1 | X5: =SUM('Nilai Tahriri'!AO3,'Nilai Syafahi'!U5) -> 300 | Y5: =AVERAGE(D5:T5,'Nilai Tahriri'!D3:AN3) -> 6.25 | Z5: {=SUM(IF(X5<OFFSET($X$4,0,0,COUNT(X:X),1),1/COUNTIF(OFFSET($X$4,0,0,COUNT(X:X),1),OFFSET($X$4,0,0,COUNT(X:X),1))))+1} -> 12 | AA5: -
A6: ='Data Siswa'!A4 -> 3 | B6: ='Data Siswa'!B4 -> ALIEF RAMADHAN BADRI | C6: ='Data Siswa'!C4 -> 0510 | D6: 7 | E6: 6 | F6: 6.5 | G6: 7 | H6: 7 | J6: 4.5 | K6: 5.5 | L6: 5.5 | M6: 5.5 | N6: 5 | O6: 7.5 | P6: 8 | Q6: 6 | R6: 4 | S6: 7 | U6: =SUM(D6:T6) -> 92 | V6: =AVERAGE(D6:T6) -> 6.1333333 | X6: =SUM('Nilai Tahriri'!AO4,'Nilai Syafahi'!U6) -> 321 | Y6: =AVERAGE(D6:T6,'Nilai Tahriri'!D4:AN4) -> 6.6875 | Z6: {=SUM(IF(X6<OFFSET($X$4,0,0,COUNT(X:X),1),1/COUNTIF(OFFSET($X$4,0,0,COUNT(X:X),1),OFFSET($X$4,0,0,COUNT(X:X),1))))+1} -> 7 | AA6: -
A7: ='Data Siswa'!A5 -> 4 | B7: ='Data Siswa'!B5 -> ALWI RISFALDI | C7: ='Data Siswa'!C5 -> 0511 | D7: 7 | E7: 6.5 | F7: 6 | G7: 7 | H7: 5.5 | J7: 5 | K7: 4 | L7: 4 | M7: 4 | N7: 4 | O7: 5 | P7: 4 | Q7: 5.5 | R7: 4 | S7: 6 | U7: =SUM(D7:T7) -> 77.5 | V7: =AVERAGE(D7:T7) -> 5.1666667 | X7: =SUM('Nilai Tahriri'!AO5,'Nilai Syafahi'!U7) -> 293.2 | Y7: =AVERAGE(D7:T7,'Nilai Tahriri'!D5:AN5) -> 6.1083333 | Z7: {=SUM(IF(X7<OFFSET($X$4,0,0,COUNT(X:X),1),1/COUNTIF(OFFSET($X$4,0,0,COUNT(X:X),1),OFFSET($X$4,0,0,COUNT(X:X),1))))+1} -> 14 | AA7: -
A8: ='Data Siswa'!A6 -> 5 | B8: ='Data Siswa'!B6 -> DAIVA WAHYU AJI ARDIAN | C8: ='Data Siswa'!C6 -> 0512 | D8: 5 | E8: 7 | F8: 6.5 | G8: 6 | H8: 5.5 | J8: 7 | K8: 7.5 | L8: 7.5 | M8: 7.5 | N8: 7 | O8: 6 | P8: 8 | Q8: 6 | R8: 4 | S8: 6 | U8: =SUM(D8:T8) -> 96.5 | V8: =AVERAGE(D8:T8) -> 6.4333333 | X8: =SUM('Nilai Tahriri'!AO6,'Nilai Syafahi'!U8) -> 301.5 | Y8: =AVERAGE(D8:T8,'Nilai Tahriri'!D6:AN6) -> 6.28125 | Z8: {=SUM(IF(X8<OFFSET($X$4,0,0,COUNT(X:X),1),1/COUNTIF(OFFSET($X$4,0,0,COUNT(X:X),1),OFFSET($X$4,0,0,COUNT(X:X),1))))+1} -> 11 | AA8: -
A9: ='Data Siswa'!A7 -> 6 | B9: ='Data Siswa'!B7 -> FALIH KHAIRAN AL GHANI | C9: ='Data Siswa'!C7 -> 0513 | D9: 5 | E9: 4 | F9: 4.5 | G9: 6 | H9: 5.5 | J9: 4.5 | K9: 4.5 | L9: 4.5 | M9: 4.5 | N9: 4 | O9: 5.5 | P9: 4.5 | Q9: 6 | R9: 4 | S9: 5.5 | U9: =SUM(D9:T9) -> 72.5 | V9: =AVERAGE(D9:T9) -> 4.8333333 | X9: =SUM('Nilai Tahriri'!AO7,'Nilai Syafahi'!U9) -> 272.3 | Y9: =AVERAGE(D9:T9,'Nilai Tahriri'!D7:AN7) -> 5.6729167 | Z9: {=SUM(IF(X9<OFFSET($X$4,0,0,COUNT(X:X),1),1/COUNTIF(OFFSET($X$4,0,0,COUNT(X:X),1),OFFSET($X$4,0,0,COUNT(X:X),1))))+1} -> 23 | AA9: -
A10: ='Data Siswa'!A8 -> 7 | B10: ='Data Siswa'!B8 -> KHOLIL IBRAHIM | C10: ='Data Siswa'!C8 -> 0514 | D10: 6 | E10: 7 | F10: 6.5 | G10: 6 | H10: 5 | J10: 4 | K10: 4 | L10: 4 | M10: 4 | N10: 4 | O10: 5.5 | P10: 7 | Q10: 5 | R10: 4 | S10: 6 | U10: =SUM(D10:T10) -> 78 | V10: =AVERAGE(D10:T10) -> 5.2 | X10: =SUM('Nilai Tahriri'!AO8,'Nilai Syafahi'!U10) -> 281.5 | Y10: =AVERAGE(D10:T10,'Nilai Tahriri'!D8:AN8) -> 5.8645833 | Z10: {=SUM(IF(X10<OFFSET($X$4,0,0,COUNT(X:X),1),1/COUNTIF(OFFSET($X$4,0,0,COUNT(X:X),1),OFFSET($X$4,0,0,COUNT(X:X),1))))+1} -> 21 | AA10: -
A11: ='Data Siswa'!A9 -> 8 | B11: ='Data Siswa'!B9 -> MUHAMAD IRFAN HABIB AL JAUHAR | C11: ='Data Siswa'!C9 -> 0515 | D11: 7 | E11: 6 | F11: 6 | G11: 7 | H11: 5.5 | J11: 4.5 | K11: 4.5 | L11: 4.5 | M11: 4.5 | N11: 4 | O11: 6 | P11: 4 | Q11: 5 | R11: 4 | S11: 6 | U11: =SUM(D11:T11) -> 78.5 | V11: =AVERAGE(D11:T11) -> 5.2333333 | X11: =SUM('Nilai Tahriri'!AO9,'Nilai Syafahi'!U11) -> 289.9 | Y11: =AVERAGE(D11:T11,'Nilai Tahriri'!D9:AN9) -> 6.0395833 | Z11: {=SUM(IF(X11<OFFSET($X$4,0,0,COUNT(X:X),1),1/COUNTIF(OFFSET($X$4,0,0,COUNT(X:X),1),OFFSET($X$4,0,0,COUNT(X:X),1))))+1} -> 15 | AA11: -
A12: ='Data Siswa'!A10 -> 9 | B12: ='Data Siswa'!B10 -> MUHAMAD IRSAN APRIANSYAH | C12: ='Data Siswa'!C10 -> 0516 | D12: 8 | E12: 6 | F12: 6 | G12: 8 | H12: 6 | J12: 7 | K12: 6.5 | L12: 6.5 | M12: 6.5 | N12: 6.5 | O12: 7 | P12: 7.5 | Q12: 6 | R12: 4 | S12: 6 | U12: =SUM(D12:T12) -> 97.5 | V12: =AVERAGE(D12:T12) -> 6.5 | X12: =SUM('Nilai Tahriri'!AO10,'Nilai Syafahi'!U12) -> 309.5 | Y12: =AVERAGE(D12:T12,'Nilai Tahriri'!D10:AN10) -> 6.4479167 | Z12: {=SUM(IF(X12<OFFSET($X$4,0,0,COUNT(X:X),1),1/COUNTIF(OFFSET($X$4,0,0,COUNT(X:X),1),OFFSET($X$4,0,0,COUNT(X:X),1))))+1} -> 10 | AA12: -
A13: ='Data Siswa'!A11 -> 10 | B13: ='Data Siswa'!B11 -> MUHAMAD ZIDAN BAWAZIER | C13: ='Data Siswa'!C11 -> 0517 | D13: 7.5 | E13: 6.5 | F13: 7 | G13: 7 | H13: 6.5 | J13: 6 | K13: 6 | L13: 6 | M13: 6 | N13: 6.5 | O13: 7.5 | P13: 8 | Q13: 6 | R13: 4 | S13: 7 | U13: =SUM(D13:T13) -> 97.5 | V13: =AVERAGE(D13:T13) -> 6.5 | X13: =SUM('Nilai Tahriri'!AO11,'Nilai Syafahi'!U13) -> 325.5 | Y13: =AVERAGE(D13:T13,'Nilai Tahriri'!D11:AN11) -> 6.78125 | Z13: {=SUM(IF(X13<OFFSET($X$4,0,0,COUNT(X:X),1),1/COUNTIF(OFFSET($X$4,0,0,COUNT(X:X),1),OFFSET($X$4,0,0,COUNT(X:X),1))))+1} -> 5 | AA13: -
A14: ='Data Siswa'!A12 -> 11 | B14: ='Data Siswa'!B12 -> MUHAMMAD DZAKY ARYA PRATAMA | C14: ='Data Siswa'!C12 -> 0518 | D14: 6 | E14: 6.5 | F14: 7 | G14: 6.5 | H14: 6.5 | J14: 7 | K14: 5 | L14: 5 | M14: 5 | N14: 5 | O14: 8 | P14: 8 | Q14: 6 | R14: 4 | S14: 7 | U14: =SUM(D14:T14) -> 92.5 | V14: =AVERAGE(D14:T14) -> 6.1666667 | X14: =SUM('Nilai Tahriri'!AO12,'Nilai Syafahi'!U14) -> 311.2 | Y14: =AVERAGE(D14:T14,'Nilai Tahriri'!D12:AN12) -> 6.4833333 | Z14: {=SUM(IF(X14<OFFSET($X$4,0,0,COUNT(X:X),1),1/COUNTIF(OFFSET($X$4,0,0,COUNT(X:X),1),OFFSET($X$4,0,0,COUNT(X:X),1))))+1} -> 9 | AA14: -
A15: ='Data Siswa'!A13 -> 12 | B15: ='Data Siswa'!B13 -> MUHAMMAD LUCKY LUKMAN | C15: ='Data Siswa'!C13 -> 0519 | D15: 8 | E15: 7 | F15: 7 | G15: 8 | H15: 7 | J15: 7 | K15: 7.5 | L15: 7.5 | M15: 7.5 | N15: 7 | O15: 8 | P15: 8 | Q15: 7.5 | R15: 7 | S15: 7 | U15: =SUM(D15:T15) -> 111 | V15: =AVERAGE(D15:T15) -> 7.4 | X15: =SUM('Nilai Tahriri'!AO13,'Nilai Syafahi'!U15) -> 357.7 | Y15: =AVERAGE(D15:T15,'Nilai Tahriri'!D13:AN13) -> 7.4520833 | Z15: {=SUM(IF(X15<OFFSET($X$4,0,0,COUNT(X:X),1),1/COUNTIF(OFFSET($X$4,0,0,COUNT(X:X),1),OFFSET($X$4,0,0,COUNT(X:X),1))))+1} -> 1 | AA15: -
... A26: ='Data Siswa'!A24 -> 23 | B26: ='Data Siswa'!B24 -> YOGI PRATAMA | C26: ='Data Siswa'!C24 -> 0530 | D26: 6.5 | E26: 8 | F26: 6 | G26: 6.5 | H26: 5 | J26: 5 | K26: 6.5 | L26: 6.5 | M26: 6.5 | N26: 5.5 | O26: 6.5 | P26: 5 | Q26: 5 | R26: 5 | S26: 5.5 | U26: =SUM(D26:T26) -> 89 | V26: =AVERAGE(D26:T26) -> 5.9333333 | X26: =SUM('Nilai Tahriri'!AO24,'Nilai Syafahi'!U26) -> 295 | Y26: =AVERAGE(D26:T26,'Nilai Tahriri'!D24:AN24) -> 6.1458333 | Z26: {=SUM(IF(X26<OFFSET($X$4,0,0,COUNT(X:X),1),1/COUNTIF(OFFSET($X$4,0,0,COUNT(X:X),1),OFFSET($X$4,0,0,COUNT(X:X),1))))+1} -> 13 | AA26: -
A27: ='Data Siswa'!A25 -> 24 | B27: ='Data Siswa'!B25 -> 0 | C27: ='Data Siswa'!C25 -> 0 | U27: =SUM(D27:T27) -> 0 | V27: =AVERAGE(D27:T27) -> #DIV/0! | X27: =SUM('Nilai Tahriri'!AO25,'Nilai Syafahi'!U27) -> 0 | Y27: =AVERAGE(D27:T27,'Nilai Tahriri'!D25:AN25) -> #DIV/0! | Z27: {=SUM(IF(X27<OFFSET($X$4,0,0,COUNT(X:X),1),1/COUNTIF(OFFSET($X$4,0,0,COUNT(X:X),1),OFFSET($X$4,0,0,COUNT(X:X),1))))+1} -> 24 | AA27: -
A28: ='Data Siswa'!A26 -> 25 | B28: ='Data Siswa'!B26 -> 0 | C28: ='Data Siswa'!C26 -> 0 | U28: =SUM(D28:T28) -> 0 | V28: =AVERAGE(D28:T28) -> #DIV/0! | X28: =SUM('Nilai Tahriri'!AO26,'Nilai Syafahi'!U28) -> 0 | Y28: =AVERAGE(D28:T28,'Nilai Tahriri'!D26:AN26) -> #DIV/0! | Z28: {=SUM(IF(X28<OFFSET($X$4,0,0,COUNT(X:X),1),1/COUNTIF(OFFSET($X$4,0,0,COUNT(X:X),1),OFFSET($X$4,0,0,COUNT(X:X),1))))+1} -> 24 | AA28: -
A29: ='Data Siswa'!A27 -> 26 | B29: ='Data Siswa'!B27 -> 0 | C29: ='Data Siswa'!C27 -> 0 | U29: =SUM(D29:T29) -> 0 | V29: =AVERAGE(D29:T29) -> #DIV/0! | X29: =SUM('Nilai Tahriri'!AO27,'Nilai Syafahi'!U29) -> 0 | Y29: =AVERAGE(D29:T29,'Nilai Tahriri'!D27:AN27) -> #DIV/0! | Z29: {=SUM(IF(X29<OFFSET($X$4,0,0,COUNT(X:X),1),1/COUNTIF(OFFSET($X$4,0,0,COUNT(X:X),1),OFFSET($X$4,0,0,COUNT(X:X),1))))+1} -> 24 | AA29: -
A30: ='Data Siswa'!A28 -> 27 | B30: ='Data Siswa'!B28 -> 0 | C30: ='Data Siswa'!C28 -> 0 | U30: =SUM(D30:T30) -> 0 | V30: =AVERAGE(D30:T30) -> #DIV/0! | X30: =SUM('Nilai Tahriri'!AO28,'Nilai Syafahi'!U30) -> 0 | Y30: =AVERAGE(D30:T30,'Nilai Tahriri'!D28:AN28) -> #DIV/0! | Z30: {=SUM(IF(X30<OFFSET($X$4,0,0,COUNT(X:X),1),1/COUNTIF(OFFSET($X$4,0,0,COUNT(X:X),1),OFFSET($X$4,0,0,COUNT(X:X),1))))+1} -> 24 | AA30: -
A31: ='Data Siswa'!A29 -> 28 | B31: ='Data Siswa'!B29 -> 0 | C31: ='Data Siswa'!C29 -> 0 | U31: =SUM(D31:T31) -> 0 | V31: =AVERAGE(D31:T31) -> #DIV/0! | X31: =SUM('Nilai Tahriri'!AO29,'Nilai Syafahi'!U31) -> 0 | Y31: =AVERAGE(D31:T31,'Nilai Tahriri'!D29:AN29) -> #DIV/0! | Z31: {=SUM(IF(X31<OFFSET($X$4,0,0,COUNT(X:X),1),1/COUNTIF(OFFSET($X$4,0,0,COUNT(X:X),1),OFFSET($X$4,0,0,COUNT(X:X),1))))+1} -> 24 | AA31: -
A32: ='Data Siswa'!A30 -> 29 | B32: ='Data Siswa'!B30 -> 0 | C32: ='Data Siswa'!C30 -> 0 | U32: =SUM(D32:T32) -> 0 | V32: =AVERAGE(D32:T32) -> #DIV/0! | X32: =SUM('Nilai Tahriri'!AO30,'Nilai Syafahi'!U32) -> 0 | Y32: =AVERAGE(D32:T32,'Nilai Tahriri'!D30:AN30) -> #DIV/0! | Z32: {=SUM(IF(X32<OFFSET($X$4,0,0,COUNT(X:X),1),1/COUNTIF(OFFSET($X$4,0,0,COUNT(X:X),1),OFFSET($X$4,0,0,COUNT(X:X),1))))+1} -> 24 | AA32: -
A33: ='Data Siswa'!A31 -> 30 | B33: ='Data Siswa'!B31 -> 0 | C33: ='Data Siswa'!C31 -> 0 | U33: =SUM(D33:T33) -> 0 | V33: =AVERAGE(D33:T33) -> #DIV/0! | X33: =SUM('Nilai Tahriri'!AO31,'Nilai Syafahi'!U33) -> 0 | Y33: =AVERAGE(D33:T33,'Nilai Tahriri'!D31:AN31) -> #DIV/0! | Z33: {=SUM(IF(X33<OFFSET($X$4,0,0,COUNT(X:X),1),1/COUNTIF(OFFSET($X$4,0,0,COUNT(X:X),1),OFFSET($X$4,0,0,COUNT(X:X),1))))+1} -> 24 | AA33: -
A34: ='Data Siswa'!A32 -> 31 | B34: ='Data Siswa'!B32 -> 0 | C34: ='Data Siswa'!C32 -> 0 | U34: =SUM(D34:T34) -> 0 | V34: =AVERAGE(D34:T34) -> #DIV/0! | X34: =SUM('Nilai Tahriri'!AO32,'Nilai Syafahi'!U34) -> 0 | Y34: =AVERAGE(D34:T34,'Nilai Tahriri'!D32:AN32) -> #DIV/0! | Z34: {=SUM(IF(X34<OFFSET($X$4,0,0,COUNT(X:X),1),1/COUNTIF(OFFSET($X$4,0,0,COUNT(X:X),1),OFFSET($X$4,0,0,COUNT(X:X),1))))+1} -> 24 | AA34: -
A35: ='Data Siswa'!A33 -> 32 | B35: ='Data Siswa'!B33 -> 0 | C35: ='Data Siswa'!C33 -> 0 | U35: =SUM(D35:T35) -> 0 | V35: =AVERAGE(D35:T35) -> #DIV/0! | X35: =SUM('Nilai Tahriri'!AO33,'Nilai Syafahi'!U35) -> 0 | Y35: =AVERAGE(D35:T35,'Nilai Tahriri'!D33:AN33) -> #DIV/0! | Z35: {=SUM(IF(X35<OFFSET($X$4,0,0,COUNT(X:X),1),1/COUNTIF(OFFSET($X$4,0,0,COUNT(X:X),1),OFFSET($X$4,0,0,COUNT(X:X),1))))+1} -> 24 | AA35: -
A36: ='Data Siswa'!A34 -> 33 | B36: ='Data Siswa'!B34 -> 0 | C36: ='Data Siswa'!C34 -> 0 | U36: =SUM(D36:T36) -> 0 | V36: =AVERAGE(D36:T36) -> #DIV/0! | X36: =SUM('Nilai Tahriri'!AO34,'Nilai Syafahi'!U36) -> 0 | Y36: =AVERAGE(D36:T36,'Nilai Tahriri'!D34:AN34) -> #DIV/0! | Z36: {=SUM(IF(X36<OFFSET($X$4,0,0,COUNT(X:X),1),1/COUNTIF(OFFSET($X$4,0,0,COUNT(X:X),1),OFFSET($X$4,0,0,COUNT(X:X),1))))+1} -> 24 | AA36: -
A37: ='Data Siswa'!A35 -> 34 | B37: ='Data Siswa'!B35 -> 0 | C37: ='Data Siswa'!C35 -> 0 | U37: =SUM(D37:T37) -> 0 | V37: =AVERAGE(D37:T37) -> #DIV/0! | X37: =SUM('Nilai Tahriri'!AO35,'Nilai Syafahi'!U37) -> 0 | Y37: =AVERAGE(D37:T37,'Nilai Tahriri'!D35:AN35) -> #DIV/0! | Z37: {=SUM(IF(X37<OFFSET($X$4,0,0,COUNT(X:X),1),1/COUNTIF(OFFSET($X$4,0,0,COUNT(X:X),1),OFFSET($X$4,0,0,COUNT(X:X),1))))+1} -> 24 | AA37: -
A38: ='Data Siswa'!A36 -> 35 | B38: ='Data Siswa'!B36 -> 0 | C38: ='Data Siswa'!C36 -> 0 | U38: =SUM(D38:T38) -> 0 | V38: =AVERAGE(D38:T38) -> #DIV/0! | X38: =SUM('Nilai Tahriri'!AO36,'Nilai Syafahi'!U38) -> 0 | Y38: =AVERAGE(D38:T38,'Nilai Tahriri'!D36:AN36) -> #DIV/0! | Z38: {=SUM(IF(X38<OFFSET($X$4,0,0,COUNT(X:X),1),1/COUNTIF(OFFSET($X$4,0,0,COUNT(X:X),1),OFFSET($X$4,0,0,COUNT(X:X),1))))+1} -> 24 | AA38: -
... A43: ='Data Siswa'!A41 -> 40 | B43: ='Data Siswa'!B41 -> 0 | C43: ='Data Siswa'!C41 -> 0 | U43: =SUM(D43:T43) -> 0 | V43: =AVERAGE(D43:T43) -> #DIV/0! | X43: =SUM('Nilai Tahriri'!AO41,'Nilai Syafahi'!U43) -> 0 | Y43: =AVERAGE(D43:T43,'Nilai Tahriri'!D41:AN41) -> #DIV/0! | Z43: {=SUM(IF(X43<OFFSET($X$4,0,0,COUNT(X:X),1),1/COUNTIF(OFFSET($X$4,0,0,COUNT(X:X),1),OFFSET($X$4,0,0,COUNT(X:X),1))))+1} -> 24 | AA43: -

Sheet Akhlak
A1: Biodata | D1: Akhlak | J1: Catatan Wali Kelas Untuk Siswa
A2: No | B2: Nama Lengkap | C2: No Ujian | D2: البيان | G2: ايام الغيابة
D3: النظافة | E3: السلوك | F3: المواظبة | G3: لمرض | H3: لاستذان | I3: لآخر | J3: النقد
A4: ='Data Siswa'!A2 -> 1 | B4: ='Data Siswa'!B2 -> AHMAD FARIS | C4: ='Data Siswa'!C2 -> 0508 | D4: 8 | E4: 8 | F4: 8 | H4: 1 | I4: 1 | J4: كثرة القراءة مفتاح باب العلم
A5: ='Data Siswa'!A3 -> 2 | B5: ='Data Siswa'!B3 -> AHMAD YAZID ZIDAN | C5: ='Data Siswa'!C3 -> 0509 | D5: 8 | E5: 8 | F5: 7 | H5: 1 | I5: 1 | J5: كثرة القراءة مفتاح باب العلم
A6: ='Data Siswa'!A4 -> 3 | B6: ='Data Siswa'!B4 -> ALIEF RAMADHAN BADRI | C6: ='Data Siswa'!C4 -> 0510 | D6: 8 | E6: 8 | F6: 8 | H6: 1 | I6: 1 | J6: كثرة القراءة مفتاح باب العلم
A7: ='Data Siswa'!A5 -> 4 | B7: ='Data Siswa'!B5 -> ALWI RISFALDI | C7: ='Data Siswa'!C5 -> 0511 | D7: 8 | E7: 8 | F7: 7 | H7: 1 | I7: 1 | J7: كثرة القراءة مفتاح باب العلم
A8: ='Data Siswa'!A6 -> 5 | B8: ='Data Siswa'!B6 -> DAIVA WAHYU AJI ARDIAN | C8: ='Data Siswa'!C6 -> 0512 | D8: 8 | E8: 8 | F8: 8 | G8: 2 | H8: 1 | I8: 1 | J8: كثرة القراءة مفتاح باب العلم
A9: ='Data Siswa'!A7 -> 6 | B9: ='Data Siswa'!B7 -> FALIH KHAIRAN AL GHANI | C9: ='Data Siswa'!C7 -> 0513 | D9: 8 | E9: 8 | F9: 8 | H9: 1 | I9: 1 | J9: كثرة القراءة مفتاح باب العلم
A10: ='Data Siswa'!A8 -> 7 | B10: ='Data Siswa'!B8 -> KHOLIL IBRAHIM | C10: ='Data Siswa'!C8 -> 0514 | D10: 8 | E10: 8 | F10: 8 | H10: 1 | I10: 1 | J10: كثرة القراءة مفتاح باب العلم
A11: ='Data Siswa'!A9 -> 8 | B11: ='Data Siswa'!B9 -> MUHAMAD IRFAN HABIB AL JAUHAR | C11: ='Data Siswa'!C9 -> 0515 | D11: 8 | E11: 8 | F11: 8 | H11: 1 | I11: 1 | J11: كثرة القراءة مفتاح باب العلم
A12: ='Data Siswa'!A10 -> 9 | B12: ='Data Siswa'!B10 -> MUHAMAD IRSAN APRIANSYAH | C12: ='Data Siswa'!C10 -> 0516 | D12: 8 | E12: 8 | F12: 8 | H12: 1 | I12: 1 | J12: كثرة القراءة مفتاح باب العلم
A13: ='Data Siswa'!A11 -> 10 | B13: ='Data Siswa'!B11 -> MUHAMAD ZIDAN BAWAZIER | C13: ='Data Siswa'!C11 -> 0517 | D13: 8 | E13: 8 | F13: 8 | H13: 1 | I13: 1 | J13: كثرة القراءة مفتاح باب العلم
A14: ='Data Siswa'!A12 -> 11 | B14: ='Data Siswa'!B12 -> MUHAMMAD DZAKY ARYA PRATAMA | C14: ='Data Siswa'!C12 -> 0518 | D14: 8 | E14: 8 | F14: 8 | H14: 1 | I14: 1 | J14: كثرة القراءة مفتاح باب العلم
A15: ='Data Siswa'!A13 -> 12 | B15: ='Data Siswa'!B13 -> MUHAMMAD LUCKY LUKMAN | C15: ='Data Siswa'!C13 -> 0519 | D15: 8 | E15: 8 | F15: 8 | H15: 1 | I15: 1 | J15: كثرة القراءة مفتاح باب العلم
A16: ='Data Siswa'!A14 -> 13 | B16: ='Data Siswa'!B14 -> MUHAMMAD NUFRIZAL | C16: ='Data Siswa'!C14 -> 0520 | D16: 8 | E16: 8 | F16: 7 | H16: 1 | I16: 1 | J16: كثرة القراءة مفتاح باب العلم
A17: ='Data Siswa'!A15 -> 14 | B17: ='Data Siswa'!B15 -> MUHAMMAD RIZKI RAMADHANI | C17: ='Data Siswa'!C15 -> 0521 | D17: 8 | E17: 8 | F17: 8 | H17: 1 | I17: 1 | J17: كثرة القراءة مفتاح باب العلم
A18: ='Data Siswa'!A16 -> 15 | B18: ='Data Siswa'!B16 -> MUHAMMAD ZAKI ALGIFARI | C18: ='Data Siswa'!C16 -> 0522 | D18: 8 | E18: 8 | F18: 8 | H18: 1 | I18: 1 | J18: كثرة القراءة مفتاح باب العلم
A19: ='Data Siswa'!A17 -> 16 | B19: ='Data Siswa'!B17 -> NAZID ZULFA NOOR | C19: ='Data Siswa'!C17 -> 0523 | D19: 8 | E19: 8 | F19: 8 | H19: 1 | I19: 1 | J19: كثرة القراءة مفتاح باب العلم
A20: ='Data Siswa'!A18 -> 17 | B20: ='Data Siswa'!B18 -> NIBRAAS CAHYA GEMILANG | C20: ='Data Siswa'!C18 -> 0524 | D20: 8 | E20: 8 | F20: 7 | H20: 1 | I20: 1 | J20: كثرة القراءة مفتاح باب العلم
A21: ='Data Siswa'!A19 -> 18 | B21: ='Data Siswa'!B19 -> REFALDI | C21: ='Data Siswa'!C19 -> 0525 | D21: 8 | E21: 8 | F21: 7 | G21: 2 | H21: 1 | I21: 1 | J21: كثرة القراءة مفتاح باب العلم
A22: ='Data Siswa'!A20 -> 19 | B22: ='Data Siswa'!B20 -> RIZKY ARIF FIRMANSYAH | C22: ='Data Siswa'!C20 -> 0526 | D22: 8 | E22: 8 | F22: 8 | H22: 1 | I22: 1 | J22: كثرة القراءة مفتاح باب العلم
A23: ='Data Siswa'!A21 -> 20 | B23: ='Data Siswa'!B21 -> SAKTIAJI AL-BAQRY | C23: ='Data Siswa'!C21 -> 0527 | D23: 8 | E23: 8 | F23: 8 | H23: 1 | I23: 1 | J23: كثرة القراءة مفتاح باب العلم
A24: ='Data Siswa'!A22 -> 21 | B24: ='Data Siswa'!B22 -> SUJENI TURANDI | C24: ='Data Siswa'!C22 -> 0528 | D24: 8 | E24: 8 | F24: 8 | H24: 1 | I24: 1 | J24: كثرة القراءة مفتاح باب العلم
A25: ='Data Siswa'!A23 -> 22 | B25: ='Data Siswa'!B23 -> SULTAN MAULANA FAHRI | C25: ='Data Siswa'!C23 -> 0529 | D25: 8 | E25: 8 | F25: 8 | G25: 1 | H25: 1 | I25: 1 | J25: كثرة القراءة مفتاح باب العلم
A26: ='Data Siswa'!A24 -> 23 | B26: ='Data Siswa'!B24 -> YOGI PRATAMA | C26: ='Data Siswa'!C24 -> 0530 | D26: 8 | E26: 8 | F26: 8 | H26: 1 | I26: 1 | J26: كثرة القراءة مفتاح باب العلم
A27: ='Data Siswa'!A25 -> 24 | B27: ='Data Siswa'!B25 -> 0 | C27: ='Data Siswa'!C25 -> 0
A28: ='Data Siswa'!A26 -> 25 | B28: ='Data Siswa'!B26 -> 0 | C28: ='Data Siswa'!C26 -> 0
A29: ='Data Siswa'!A27 -> 26 | B29: ='Data Siswa'!B27 -> 0 | C29: ='Data Siswa'!C27 -> 0
A30: ='Data Siswa'!A28 -> 27 | B30: ='Data Siswa'!B28 -> 0 | C30: ='Data Siswa'!C28 -> 0
A31: ='Data Siswa'!A29 -> 28 | B31: ='Data Siswa'!B29 -> 0 | C31: ='Data Siswa'!C29 -> 0
A32: ='Data Siswa'!A30 -> 29 | B32: ='Data Siswa'!B30 -> 0 | C32: ='Data Siswa'!C30 -> 0
A33: ='Data Siswa'!A31 -> 30 | B33: ='Data Siswa'!B31 -> 0 | C33: ='Data Siswa'!C31 -> 0
A34: ='Data Siswa'!A32 -> 31 | B34: ='Data Siswa'!B32 -> 0 | C34: ='Data Siswa'!C32 -> 0
A35: ='Data Siswa'!A33 -> 32 | B35: ='Data Siswa'!B33 -> 0 | C35: ='Data Siswa'!C33 -> 0
A36: ='Data Siswa'!A34 -> 33 | B36: ='Data Siswa'!B34 -> 0 | C36: ='Data Siswa'!C34 -> 0
A37: ='Data Siswa'!A35 -> 34 | B37: ='Data Siswa'!B35 -> 0 | C37: ='Data Siswa'!C35 -> 0
A38: ='Data Siswa'!A36 -> 35 | B38: ='Data Siswa'!B36 -> 0 | C38: ='Data Siswa'!C36 -> 0
... A43: ='Data Siswa'!A41 -> 40 | B43: ='Data Siswa'!B41 -> 0 | C43: ='Data Siswa'!C41 -> 0

Sheet Rapot
B1: =VLOOKUP($U$8,'Nilai Tahriri'!$A$2:$X$41,2,FALSE)&" ( "&VLOOKUP($U$8,'Data Siswa'!$A$2:$D$41,3,FALSE)&" )" -> AHMAD FARIS ( 0508 )
B3: =Biodata!$B$12 -> ١٤٤٥ - ١٤٤٦ ه | D3: =Biodata!$B$10 -> العام الدراسي : | K3: =Biodata!$B$7 -> الفصل الدراسي : الأول | M3: =Biodata!$B$4 -> الصف : السادس أ للبنين | O3: =(VLOOKUP($U$8,'Data Siswa'!$A$2:$D$41,4,FALSE)) -> أحمد فارس | R3: الإسم :
B4: =Biodata!$B$11 -> ٢٠٢٤ - ٢٠٢٥ م
B6: الدرجة الكبرى ٨, الدرجة الصغرى ٤ | L6: مسـلسـل | M6: الدرجة الكبرى ٨, الدرجة الصغرى ٤ | R6: مسـلسـل
B7: الدرجة المكتسبة | G7: المواد الشفهية | M7: الدرجة المكتسبة | O7: المواد التحريرية | U7: HALAMAN
B8: كتابة | C8: رقم | M8: كتابة | N8: رقم | U8: 1
B9: اللغة العربية | M9: =VLOOKUP(N9,Sheet1!$A$1:$B$93,2) | P9: علم التجويد | R9: 1
B10: =VLOOKUP(C10,Sheet1!$A$1:$B$93,2) -> خمس | C10: =VLOOKUP($U$8,'Nilai Syafahi'!$A$4:$AA$43,4,FALSE) -> 5 | G10: الإنشاء \ التعبير الشفهي | L10: 40 | M10: =VLOOKUP(N10,Sheet1!$A$1:$B$93,2) -> اربع | N10: =VLOOKUP($U$8,'Nilai Tahriri'!$A$2:$AP$41,4,FALSE) -> 4 | P10: التفسير | R10: 2 | U10: Awal | V10: 1
B11: =VLOOKUP(C11,Sheet1!$A$1:$B$93,2) -> خمس و نصف | C11: =VLOOKUP($U$8,'Nilai Syafahi'!$A$4:$AA$43,5,FALSE) -> 5.5 | K11: النحو | L11: 41 | M11: =VLOOKUP(N11,Sheet1!$A$1:$B$93,2) -> خمس | N11: =VLOOKUP($U$8,'Nilai Tahriri'!$A$2:$AP$41,5,FALSE) -> 5 | P11: الحديث | R11: 3
B12: =VLOOKUP(C12,Sheet1!$A$1:$B$93,2) -> خمس | C12: =VLOOKUP($U$8,'Nilai Syafahi'!$A$4:$AA$43,6,FALSE) -> 5 | K12: الصرف | L12: 42 | M12: =VLOOKUP(N12,Sheet1!$A$1:$B$93,2) -> خمس | N12: =VLOOKUP($U$8,'Nilai Tahriri'!$A$2:$AP$41,6,FALSE) -> 5 | P12: مصطلح الحديث | R12: 4 | U12: Akhir | V12: 23
B13: =VLOOKUP(C13,Sheet1!$A$1:$B$93,2) -> ستّ | C13: =VLOOKUP($U$8,'Nilai Syafahi'!$A$4:$AA$43,7,FALSE) -> 6 | K13: المطالعة | L13: 43 | M13: =VLOOKUP(N13,Sheet1!$A$1:$B$93,2) -> ستّ | N13: =VLOOKUP($U$8,'Nilai Tahriri'!$A$2:$AP$41,7,FALSE) -> 6 | P13: الفقه | R13: 5
B14: =VLOOKUP(C14,Sheet1!$A$1:$B$93,2) -> خمس و نصف | C14: =VLOOKUP($U$8,'Nilai Syafahi'!$A$4:$AA$43,8,FALSE) -> 5.5 | K14: النصوص الأدبية | L14: 44 | M14: =VLOOKUP(N14,Sheet1!$A$1:$B$93,2) -> خمس | N14: =VLOOKUP($U$8,'Nilai Tahriri'!$A$2:$AP$41,8,FALSE) -> 5 | P14: أصول الفقه | R14: 6
B15: =VLOOKUP(C15,Sheet1!$A$1:$B$93,2) | C15: =VLOOKUP($U$8,'Nilai Syafahi'!$A$4:$AA$43,9,FALSE) -> 0 | K15: المحادثة العربية | L15: 45 | M15: =VLOOKUP(N15,Sheet1!$A$1:$B$93,2) -> ست و نصف | N15: =VLOOKUP($U$8,'Nilai Tahriri'!$A$2:$AP$41,9,FALSE) -> 6.5 | P15: علم الفرائض | R15: 7
B16: اللغة الإنجليزية | M16: =VLOOKUP(N16,Sheet1!$A$1:$B$93,2) -> ستّ | N16: =VLOOKUP($U$8,'Nilai Tahriri'!$A$2:$AP$41,10,FALSE) -> 6 | P16: آيات الأحكام | R16: 8
B17: =VLOOKUP(C17,Sheet1!$A$1:$B$93,2) -> خمس | C17: =VLOOKUP($U$8,'Nilai Syafahi'!$A$4:$AA$43,10,FALSE) -> 5 | G17: Conversation | L17: 46 | M17: =VLOOKUP(N17,Sheet1!$A$1:$B$93,2) -> خمس و نصف | N17: =VLOOKUP($U$8,'Nilai Tahriri'!$A$2:$AP$41,11,FALSE) -> 5.5 | P17: الديانة\الأديان | R17: 9
B18: =VLOOKUP(C18,Sheet1!$A$1:$B$93,2) -> اربع | C18: =VLOOKUP($U$8,'Nilai Syafahi'!$A$4:$AA$43,11,FALSE) -> 4 | G18: Grammer | H18: Grammer | I18: Grammer | J18: Grammer | K18: Grammer | L18: 47 | M18: =VLOOKUP(N18,Sheet1!$A$1:$B$93,2) -> سبع | N18: =VLOOKUP($U$8,'Nilai Tahriri'!$A$2:$AP$41,12,FALSE) -> 7 | P18: تاريخ التشريع الإسلامي | R18: 10
B19: =VLOOKUP(C19,Sheet1!$A$1:$B$93,2) -> اربع | C19: =VLOOKUP($U$8,'Nilai Syafahi'!$A$4:$AA$43,12,FALSE) -> 4 | G19: Structure | L19: 48 | M19: =VLOOKUP(N19,Sheet1!$A$1:$B$93,2) -> ثمان | N19: =VLOOKUP($U$8,'Nilai Tahriri'!$A$2:$AP$41,13,FALSE) -> 8 | P19: تاريخ الإسلام | R19: 11
B20: =VLOOKUP(C20,Sheet1!$A$1:$B$93,2) -> اربع | C20: =VLOOKUP($U$8,'Nilai Syafahi'!$A$4:$AA$43,13,FALSE) -> 4 | G20: Reading | L20: 49 | M20: =VLOOKUP(N20,Sheet1!$A$1:$B$93,2) -> ست و نصف | N20: =VLOOKUP($U$8,'Nilai Tahriri'!$A$2:$AP$41,14,FALSE) -> 6.5 | P20: الإنشاء \ التعبير التحريري | R20: 12
B21: =VLOOKUP(C21,Sheet1!$A$1:$B$93,2) -> خمس و نصف | C21: =VLOOKUP($U$8,'Nilai Syafahi'!$A$4:$AA$43,14,FALSE) -> 5.5 | G21: Vocabularies | L21: 50 | M21: =VLOOKUP(N21,Sheet1!$A$1:$B$93,2) -> خمس | N21: =VLOOKUP($U$8,'Nilai Tahriri'!$A$2:$AP$41,15,FALSE) -> 5 | P21: تمرين اللغة العربية | R21: 13
B22: المواد الفقهية | M22: =VLOOKUP(N22,Sheet1!$A$1:$B$93,2) -> ستّ | N22: =VLOOKUP($U$8,'Nilai Tahriri'!$A$2:$AP$41,16,FALSE) -> 6 | P22: المطالعة | R22: 14
B23: =VLOOKUP(C23,Sheet1!$A$1:$B$93,2) -> ستّ | C23: =VLOOKUP($U$8,'Nilai Syafahi'!$A$4:$AA$43,15,FALSE) -> 6 | G23: قراءة القرآن | L23: 51 | M23: =VLOOKUP(N23,Sheet1!$A$1:$B$93,2) -> ست و نصف | N23: =VLOOKUP($U$8,'Nilai Tahriri'!$A$2:$AP$41,17,FALSE) -> 6.5 | P23: النصوص الأدبية | R23: 15
B24: =VLOOKUP(C24,Sheet1!$A$1:$B$93,2) -> ستّ | C24: =VLOOKUP($U$8,'Nilai Syafahi'!$A$4:$AA$43,16,FALSE) -> 6 | G24: حفط القرآن | L24: 52 | M24: =VLOOKUP(N24,Sheet1!$A$1:$B$93,2) -> خمس | N24: =VLOOKUP($U$8,'Nilai Tahriri'!$A$2:$AP$41,18,FALSE) -> 5 | P24: النحو والتطبيق | R24: 16
B25: =VLOOKUP(C25,Sheet1!$A$1:$B$93,2) -> اربع | C25: =VLOOKUP($U$8,'Nilai Syafahi'!$A$4:$AA$43,17,FALSE) -> 4 | G25: الفقه | L25: 53 | M25: =VLOOKUP(N25,Sheet1!$A$1:$B$93,2) -> خمس | N25: =VLOOKUP($U$8,'Nilai Tahriri'!$A$2:$AP$41,19,FALSE) -> 5 | P25: الصرف والتطبيق | R25: 17
B26: =VLOOKUP(C26,Sheet1!$A$1:$B$93,2) -> اربع | C26: =VLOOKUP($U$8,'Nilai Syafahi'!$A$4:$AA$43,18,FALSE) -> 4 | G26: اصول الفقه | L26: 54 | M26: =VLOOKUP(N26,Sheet1!$A$1:$B$93,2) -> خمس | N26: =VLOOKUP($U$8,'Nilai Tahriri'!$A$2:$AP$41,20,FALSE) -> 5 | P26: البلاغة | R26: 18
B27: =VLOOKUP(C27,Sheet1!$A$1:$B$93,2) -> ستّ | C27: =VLOOKUP($U$8,'Nilai Syafahi'!$A$4:$AA$43,19,FALSE) -> 6 | G27: آيات الأحكام | L27: 55 | M27: =VLOOKUP(N27,Sheet1!$A$1:$B$93,2) -> سبع و نصف | N27: =VLOOKUP($U$8,'Nilai Tahriri'!$A$2:$AP$41,21,FALSE) -> 7.5 | P27: علم المنطق | R27: 19
B28: =VLOOKUP(C28,Sheet1!$A$1:$B$93,2) | C28: =VLOOKUP($U$8,'Nilai Syafahi'!$A$4:$AA$43,20,FALSE) -> 0 | G28: الأدعية اليومية | L28: 56 | M28: =VLOOKUP(N28,Sheet1!$A$1:$B$93,2) -> ستّ | N28: =VLOOKUP($U$8,'Nilai Tahriri'!$A$2:$AP$41,22,FALSE) -> 6 | P28: تا. أدب اللغة | R28: 20
B29: كتب التراث | M29: =VLOOKUP(N29,Sheet1!$A$1:$B$93,2) -> سبع | N29: =VLOOKUP($U$8,'Nilai Tahriri'!$A$2:$AP$41,23,FALSE) -> 7 | P29: الإملاء | R29: 21
G30: فتح القريب | L30: 57 | M30: =VLOOKUP(N30,Sheet1!$A$1:$B$93,2) -> سبع | N30: =VLOOKUP($U$8,'Nilai Tahriri'!$A$2:$AP$41,24,FALSE) -> 7 | P30: الخط العربي | R30: 22
B31: =VLOOKUP(C31,Sheet1!$A$1:$B$93,2) | G31: فتح المعين | L31: 58 | M31: =VLOOKUP(N31,Sheet1!$A$1:$B$93,2) | N31: =VLOOKUP($U$8,'Nilai Tahriri'!$A$2:$AP$41,25,FALSE) -> 0 | P31: التربية والتعليم | R31: 23
B32: =VLOOKUP(C32,Sheet1!$A$1:$B$93,2) | G32: العمريطي | L32: 59 | M32: =VLOOKUP(N32,Sheet1!$A$1:$B$93,2) -> اربع | N32: =VLOOKUP($U$8,'Nilai Tahriri'!$A$2:$AP$41,26,FALSE) -> 4 | P32: التربية العملية | R32: 24
B33: =VLOOKUP(C33,Sheet1!$A$1:$B$93,2) | G33: الفية ابن مالك | L33: 60 | M33: =VLOOKUP(N33,Sheet1!$A$1:$B$93,2) -> سبع | N33: =VLOOKUP($U$8,'Nilai Tahriri'!$A$2:$AP$41,27,FALSE) -> 7 | P33: روح المعهد | R33: 25
B34: =VLOOKUP($U$8,'Nilai Syafahi'!$A$4:$AA$43,21,FALSE) -> 75.5 | K34: الجملة | M34: =VLOOKUP(N34,Sheet1!$A$1:$B$93,2) -> ستّ | N34: =VLOOKUP($U$8,'Nilai Tahriri'!$A$2:$AP$41,28,FALSE) -> 6 | P34: الخطابة | R34: 26
M35: =VLOOKUP(N35,Sheet1!$A$1:$B$93,2) -> ثمان | N35: =VLOOKUP($U$8,'Nilai Tahriri'!$A$2:$AP$41,29,FALSE) -> 8 | O35: Bhs. Inggris | P35: الإنجليزية | R35: 27
B36: البيان | M36: =VLOOKUP(N36,Sheet1!$A$1:$B$93,2) -> سبع | N36: =VLOOKUP($U$8,'Nilai Tahriri'!$A$2:$AP$41,30,FALSE) -> 7 | O36: Bhs. Indonesia | P36: الإندونيسية | R36: 28
B37: المواظبة | D37: السلوك | K37: النظافة | M37: =VLOOKUP(N37,Sheet1!$A$1:$B$93,2) -> ستّ | N37: =VLOOKUP($U$8,'Nilai Tahriri'!$A$2:$AP$41,31,FALSE) -> 6 | O37: Matematika | P37: الرياضية | R37: 29
B38: =VLOOKUP($U$8,Akhlak!$A$4:$J$43,6,FALSE) -> 8 | D38: =VLOOKUP($U$8,Akhlak!$A$4:$J$43,5,FALSE) -> 8 | K38: =VLOOKUP($U$8,Akhlak!$A$4:$J$43,4,FALSE) -> 8 | M38: =VLOOKUP(N38,Sheet1!$A$1:$B$93,2) -> ستّ | N38: =VLOOKUP($U$8,'Nilai Tahriri'!$A$2:$AP$41,32,FALSE) -> 6 | O38: Fisika | P38: الفيزياء | R38: 30
B39: أيام الغياب | M39: =VLOOKUP(N39,Sheet1!$A$1:$B$93,2) -> ثمان | N39: =VLOOKUP($U$8,'Nilai Tahriri'!$A$2:$AP$41,33,FALSE) -> 8 | O39: Biologi | P39: البيولوجيا | R39: 31
B40: لآخر | D40: لاسـتئذان | K40: لمرض | M40: =VLOOKUP(N40,Sheet1!$A$1:$B$93,2) -> ثمان | N40: =VLOOKUP($U$8,'Nilai Tahriri'!$A$2:$AP$41,34,FALSE) -> 8 | O40: Kimia | P40: الكيمياء | R40: 32
B41: =VLOOKUP($U$8,Akhlak!$A$4:$J$43,9,FALSE) -> 1 | D41: =VLOOKUP($U$8,Akhlak!$A$4:$J$43,8,FALSE) -> 1 | K41: =VLOOKUP($U$8,Akhlak!$A$4:$J$43,7,FALSE) -> 0 | M41: =VLOOKUP(N41,Sheet1!$A$1:$B$93,2) | O41: Geografi | P41: الجغرافيا | R41: 33
B42: مستوى التفوق | D42: التقدير العام | M42: =VLOOKUP(N42,Sheet1!$A$1:$B$93,2) | O42: Sosiologi | P42: سوسيولوجيا | R42: 34
B43: =VLOOKUP($U$8,'Nilai Syafahi'!$A$4:$AA$43,26,FALSE) -> 20 | D43: =VLOOKUP($U$8,'Nilai Syafahi'!$A$4:$AA$43,25,FALSE) -> 5.8708333 | K43: =VLOOKUP($U$8,'Nilai Syafahi'!$A$4:$AA$43,24,FALSE) -> 281.8 | M43: =VLOOKUP(N43,Sheet1!$A$1:$B$93,2) | O43: Ekonomi | P43: الإقتصادية | R43: 35
M44: =VLOOKUP(N44,Sheet1!$A$1:$B$93,2) -> ثمان | N44: =VLOOKUP($U$8,'Nilai Tahriri'!$A$2:$AP$41,38,FALSE) -> 8 | O44: PPKN | P44: التربية الوطنية | R44: 36
B45: النقد | M45: =VLOOKUP(N45,Sheet1!$A$1:$B$93,2) -> سبع و ثمان | N45: =VLOOKUP($U$8,'Nilai Tahriri'!$A$2:$AP$41,39,FALSE) -> 7.8 | O45: Sej. Indonesia | P45: تاريخ إندونيسيا | R45: 37
B46: =VLOOKUP($U$8,Akhlak!$A$4:$J$43,10,FALSE) -> كثرة القراءة مفتاح باب العلم | M46: =VLOOKUP(N46,Sheet1!$A$1:$B$93,2) | O46: Sej. Umum | P46: تاريخ العام | R46: 38
M47: =VLOOKUP(N47,Sheet1!$A$1:$B$93,2) -> ستّ | N47: =VLOOKUP($U$8,'Nilai Tahriri'!$A$2:$AP$41,40,FALSE) -> 6 | O47: Komputer | P47: كمبيوتر | R47: 39
B48: - | K48: الملاحظة | M48: =VLOOKUP($U$8,'Nilai Tahriri'!$A$2:$AP$41,41,FALSE) -> 206.3 | N48: =VLOOKUP($U$8,'Nilai Tahriri'!$A$2:$AO$41,41,FALSE) -> 206.3 | O48: =VLOOKUP($U$8,'Nilai Tahriri'!$A$2:$AO$41,41,FALSE) -> 206.3 | P48: الجملة
M50: =Biodata!$C$13 -> ١٩ من جمادى الآخر سنة ١٤٤٦ ه | Q50: تحريرا بسـيرانج في :
M51: =Biodata!$C$14 -> ٢٠ من ديسمبر سنة ٢٠٢٤ م
Q52: يعتمد عليه,
B53: ولي الأمر | O53: ولي الفصل
K54: مدير المدرسة
O56: =Biodata!$C$19 -> الأستاذ أحمد دمياطي
K58: =Biodata!$C$16 -> كياهى الحاج شهاب المعي

Sheet Rekap Nilai
A1: REKAP NILAI UJIAN
A3: =Biodata!C4 -> السادس أ للبنين
A5: No | B5: Nama | C5: No Ujian | D5: Jumlah Nilai | E5: Nilai Rata-Rata | F5: Peringkat | G5: Keterangan
A6: 1 | B6: ='Data Siswa'!B13 -> MUHAMMAD LUCKY LUKMAN | C6: ='Data Siswa'!C13 -> 0519 | D6: ='Nilai Syafahi'!X15 -> 357.7 | E6: ='Nilai Syafahi'!Y15 -> 7.4520833 | F6: ='Nilai Syafahi'!Z15 -> 1 | G6: ='Nilai Syafahi'!AA15 -> -
A7: 2 | B7: ='Data Siswa'!B17 -> NAZID ZULFA NOOR | C7: ='Data Siswa'!C17 -> 0523 | D7: ='Nilai Syafahi'!X19 -> 337.5 | E7: ='Nilai Syafahi'!Y19 -> 7.03125 | F7: ='Nilai Syafahi'!Z19 -> 2 | G7: ='Nilai Syafahi'!AA19 -> -
A8: 3 | B8: ='Data Siswa'!B16 -> MUHAMMAD ZAKI ALGIFARI | C8: ='Data Siswa'!C16 -> 0522 | D8: ='Nilai Syafahi'!X18 -> 333 | E8: ='Nilai Syafahi'!Y18 -> 6.9375 | F8: ='Nilai Syafahi'!Z18 -> 3 | G8: ='Nilai Syafahi'!AA18 -> -
A9: 4 | B9: ='Data Siswa'!B23 -> SULTAN MAULANA FAHRI | C9: ='Data Siswa'!C23 -> 0529 | D9: ='Nilai Syafahi'!X25 -> 331 | E9: ='Nilai Syafahi'!Y25 -> 6.8958333 | F9: ='Nilai Syafahi'!Z25 -> 4 | G9: ='Nilai Syafahi'!AA25 -> -
A10: 5 | B10: ='Data Siswa'!B11 -> MUHAMAD ZIDAN BAWAZIER | C10: ='Data Siswa'!C11 -> 0517 | D10: ='Nilai Syafahi'!X13 -> 325.5 | E10: ='Nilai Syafahi'!Y13 -> 6.78125 | F10: ='Nilai Syafahi'!Z13 -> 5 | G10: ='Nilai Syafahi'!AA13 -> -
A11: 6 | B11: ='Data Siswa'!B20 -> RIZKY ARIF FIRMANSYAH | C11: ='Data Siswa'!C20 -> 0526 | D11: ='Nilai Syafahi'!X22 -> 325.2 | E11: ='Nilai Syafahi'!Y22 -> 6.775 | F11: ='Nilai Syafahi'!Z22 -> 6 | G11: ='Nilai Syafahi'!AA22 -> -
A12: 7 | B12: ='Data Siswa'!B4 -> ALIEF RAMADHAN BADRI | C12: ='Data Siswa'!C4 -> 0510 | D12: ='Nilai Syafahi'!X6 -> 321 | E12: ='Nilai Syafahi'!Y6 -> 6.6875 | F12: ='Nilai Syafahi'!Z6 -> 7 | G12: ='Nilai Syafahi'!AA6 -> -
A13: 8 | B13: ='Data Siswa'!B22 -> SUJENI TURANDI | C13: ='Data Siswa'!C22 -> 0528 | D13: ='Nilai Syafahi'!X24 -> 316.5 | E13: ='Nilai Syafahi'!Y24 -> 6.59375 | F13: ='Nilai Syafahi'!Z24 -> 8 | G13: ='Nilai Syafahi'!AA24 -> -
A14: 9 | B14: ='Data Siswa'!B12 -> MUHAMMAD DZAKY ARYA PRATAMA | C14: ='Data Siswa'!C12 -> 0518 | D14: ='Nilai Syafahi'!X14 -> 311.2 | E14: ='Nilai Syafahi'!Y14 -> 6.4833333 | F14: ='Nilai Syafahi'!Z14 -> 9 | G14: ='Nilai Syafahi'!AA14 -> -
A15: 10 | B15: ='Data Siswa'!B10 -> MUHAMAD IRSAN APRIANSYAH | C15: ='Data Siswa'!C10 -> 0516 | D15: ='Nilai Syafahi'!X12 -> 309.5 | E15: ='Nilai Syafahi'!Y12 -> 6.4479167 | F15: ='Nilai Syafahi'!Z12 -> 10 | G15: ='Nilai Syafahi'!AA12 -> -
A16: 11 | B16: ='Data Siswa'!B6 -> DAIVA WAHYU AJI ARDIAN | C16: ='Data Siswa'!C6 -> 0512 | D16: ='Nilai Syafahi'!X8 -> 301.5 | E16: ='Nilai Syafahi'!Y8 -> 6.28125 | F16: ='Nilai Syafahi'!Z8 -> 11 | G16: ='Nilai Syafahi'!AA8 -> -
A17: 12 | B17: ='Data Siswa'!B3 -> AHMAD YAZID ZIDAN | C17: ='Data Siswa'!C3 -> 0509 | D17: ='Nilai Syafahi'!X5 -> 300 | E17: ='Nilai Syafahi'!Y5 -> 6.25 | F17: ='Nilai Syafahi'!Z5 -> 12 | G17: ='Nilai Syafahi'!AA5 -> -
A18: 13 | B18: ='Data Siswa'!B24 -> YOGI PRATAMA | C18: ='Data Siswa'!C24 -> 0530 | D18: ='Nilai Syafahi'!X26 -> 295 | E18: ='Nilai Syafahi'!Y26 -> 6.1458333 | F18: ='Nilai Syafahi'!Z26 -> 13 | G18: ='Nilai Syafahi'!AA26 -> -
A19: 14 | B19: ='Data Siswa'!B5 -> ALWI RISFALDI | C19: ='Data Siswa'!C5 -> 0511 | D19: ='Nilai Syafahi'!X7 -> 293.2 | E19: ='Nilai Syafahi'!Y7 -> 6.1083333 | F19: ='Nilai Syafahi'!Z7 -> 14 | G19: ='Nilai Syafahi'!AA7 -> -
A20: 15 | B20: ='Data Siswa'!B9 -> MUHAMAD IRFAN HABIB AL JAUHAR | C20: ='Data Siswa'!C9 -> 0515 | D20: ='Nilai Syafahi'!X11 -> 289.9 | E20: ='Nilai Syafahi'!Y11 -> 6.0395833 | F20: ='Nilai Syafahi'!Z11 -> 15 | G20: ='Nilai Syafahi'!AA11 -> -
A21: 16 | B21: ='Data Siswa'!B21 -> SAKTIAJI AL-BAQRY | C21: ='Data Siswa'!C21 -> 0527 | D21: ='Nilai Syafahi'!X23 -> 289.8 | E21: ='Nilai Syafahi'!Y23 -> 6.0375 | F21: ='Nilai Syafahi'!Z23 -> 16 | G21: ='Nilai Syafahi'!AA23 -> -
A22: 17 | B22: ='Data Siswa'!B14 -> MUHAMMAD NUFRIZAL | C22: ='Data Siswa'!C14 -> 0520 | D22: ='Nilai Syafahi'!X16 -> 286.8 | E22: ='Nilai Syafahi'!Y16 -> 5.975 | F22: ='Nilai Syafahi'!Z16 -> 17 | G22: ='Nilai Syafahi'!AA16 -> -
A23: 18 | B23: ='Data Siswa'!B15 -> MUHAMMAD RIZKI RAMADHANI | C23: ='Data Siswa'!C15 -> 0521 | D23: ='Nilai Syafahi'!X17 -> 285.7 | E23: ='Nilai Syafahi'!Y17 -> 5.9520833 | F23: ='Nilai Syafahi'!Z17 -> 18 | G23: ='Nilai Syafahi'!AA17 -> -
A24: 19 | B24: ='Data Siswa'!B18 -> NIBRAAS CAHYA GEMILANG | C24: ='Data Siswa'!C18 -> 0524 | D24: ='Nilai Syafahi'!X20 -> 284.2 | E24: ='Nilai Syafahi'!Y20 -> 5.9208333 | F24: ='Nilai Syafahi'!Z20 -> 19 | G24: ='Nilai Syafahi'!AA20 -> -
A25: 20 | B25: ='Data Siswa'!B2 -> AHMAD FARIS | C25: ='Data Siswa'!C2 -> 0508 | D25: ='Nilai Syafahi'!X4 -> 281.8 | E25: ='Nilai Syafahi'!Y4 -> 5.8708333 | F25: ='Nilai Syafahi'!Z4 -> 20 | G25: ='Nilai Syafahi'!AA4 -> -
A26: 21 | B26: ='Data Siswa'!B8 -> KHOLIL IBRAHIM | C26: ='Data Siswa'!C8 -> 0514 | D26: ='Nilai Syafahi'!X10 -> 281.5 | E26: ='Nilai Syafahi'!Y10 -> 5.8645833 | F26: ='Nilai Syafahi'!Z10 -> 21 | G26: ='Nilai Syafahi'!AA10 -> -
A27: 22 | B27: ='Data Siswa'!B19 -> REFALDI | C27: ='Data Siswa'!C19 -> 0525 | D27: ='Nilai Syafahi'!X21 -> 277.5 | E27: ='Nilai Syafahi'!Y21 -> 5.78125 | F27: ='Nilai Syafahi'!Z21 -> 22 | G27: ='Nilai Syafahi'!AA21 -> -
A28: 23 | B28: ='Data Siswa'!B7 -> FALIH KHAIRAN AL GHANI | C28: ='Data Siswa'!C7 -> 0513 | D28: ='Nilai Syafahi'!X9 -> 272.3 | E28: ='Nilai Syafahi'!Y9 -> 5.6729167 | F28: ='Nilai Syafahi'!Z9 -> 23 | G28: ='Nilai Syafahi'!AA9 -> -
E30: ولي الفصل
E33: =Biodata!C19 -> الأستاذ أحمد دمياطي

Sheet Sheet1
A2: 0
A3: 1 | B3: واحد
A4: 1.1 | B4: واحد و واحد
A5: 1.2 | B5: واحد و اثنين
A6: 1.3 | B6: واحد و ثلاث
A7: 1.4 | B7: واحد و اربع
A8: 1.5 | B8: واحد و نصف
A9: 1.6 | B9: واحد و ست
A10: 1.7 | B10: واحد و سبع
A11: 1.8 | B11: واحد و ثمان
A12: 1.9 | B12: واحد و تسع
A13: 2 | B13: اثنين
A14: 2.1 | B14: اثنين و واحد
... A93: 10 | B93: عشر
